BEGIN:VCALENDAR
VERSION:2.0
PRODID:-//Midsummer&#039;s Music and its affiliate, the Griffon String Quartet - ECPv6.15.20//NONSGML v1.0//EN
CALSCALE:GREGORIAN
METHOD:PUBLISH
X-WR-CALNAME:Midsummer&#039;s Music and its affiliate, the Griffon String Quartet
X-ORIGINAL-URL:https://www.midsummersmusic.com
X-WR-CALDESC:Events for Midsummer&#039;s Music and its affiliate, the Griffon String Quartet
REFRESH-INTERVAL;VALUE=DURATION:PT1H
X-Robots-Tag:noindex
X-PUBLISHED-TTL:PT1H
BEGIN:VTIMEZONE
TZID:America/Chicago
BEGIN:DAYLIGHT
TZOFFSETFROM:-0600
TZOFFSETTO:-0500
TZNAME:CDT
DTSTART:20210314T080000
END:DAYLIGHT
BEGIN:STANDARD
TZOFFSETFROM:-0500
TZOFFSETTO:-0600
TZNAME:CST
DTSTART:20211107T070000
END:STANDARD
BEGIN:DAYLIGHT
TZOFFSETFROM:-0600
TZOFFSETTO:-0500
TZNAME:CDT
DTSTART:20220313T080000
END:DAYLIGHT
BEGIN:STANDARD
TZOFFSETFROM:-0500
TZOFFSETTO:-0600
TZNAME:CST
DTSTART:20221106T070000
END:STANDARD
BEGIN:DAYLIGHT
TZOFFSETFROM:-0600
TZOFFSETTO:-0500
TZNAME:CDT
DTSTART:20230312T080000
END:DAYLIGHT
BEGIN:STANDARD
TZOFFSETFROM:-0500
TZOFFSETTO:-0600
TZNAME:CST
DTSTART:20231105T070000
END:STANDARD
BEGIN:DAYLIGHT
TZOFFSETFROM:-0600
TZOFFSETTO:-0500
TZNAME:CDT
DTSTART:20240310T080000
END:DAYLIGHT
BEGIN:STANDARD
TZOFFSETFROM:-0500
TZOFFSETTO:-0600
TZNAME:CST
DTSTART:20241103T070000
END:STANDARD
END:VTIMEZONE
BEGIN:VEVENT
DTSTART;TZID=America/Chicago:20230724T170000
DTEND;TZID=America/Chicago:20230724T210000
DTSTAMP:20260423T174211
CREATED:20230609T143426Z
LAST-MODIFIED:20251229T194759Z
UID:10405-1690218000-1690232400@www.midsummersmusic.com
SUMMARY:2023 Donors Picnic
DESCRIPTION:Donors at the “Encore” level and above are invited to the Berkenfeld estate in Baileys Harbor for the annual cookout with musicians\, board members\, and staff. Invitations will be issued. \nDetails to come
URL:https://www.midsummersmusic.com/event/2023-donors-picnic/
LOCATION:Berkenfeld Estate\, 9397 Summach Road\, Baileys Harbor\, WI\, 54202
CATEGORIES:Midsummer's Music,Private
END:VEVENT
BEGIN:VEVENT
DTSTART;TZID=America/Chicago:20230710T160000
DTEND;TZID=America/Chicago:20230710T180000
DTSTAMP:20260423T174211
CREATED:20230601T164026Z
LAST-MODIFIED:20251229T194818Z
UID:10323-1689004800-1689012000@www.midsummersmusic.com
SUMMARY:Reception for Legacy Society members and 2023 Musician Sponsors
DESCRIPTION:This exclusive reception/cocktail party is dedicated to Legacy Society members and those who are sponsoring musicians for Midsummer’s 2023 summer season. Invitations will be issued. \nMore details to come.
URL:https://www.midsummersmusic.com/event/reception-legacy-society-members/
LOCATION:Fults’ Residence\, Ephraim\, WI\, 54211
CATEGORIES:Midsummer's Music,Private
END:VEVENT
BEGIN:VEVENT
DTSTART;TZID=America/Chicago:20220729T113000
DTEND;TZID=America/Chicago:20220729T143000
DTSTAMP:20260423T174211
CREATED:20220427T175456Z
LAST-MODIFIED:20251229T195838Z
UID:8788-1659094200-1659105000@www.midsummersmusic.com
SUMMARY:Legacy Society Inaugural Luncheon
DESCRIPTION:St. Luke’s Episcopal Church\, Sister Bay \n11:30am • welcome\n12:00pm • luncheon\n12:30pm • program honoring Jim & Jean Berkenstock \nLegacy Society members RSVP to 920-854-7088 by July 27.
URL:https://www.midsummersmusic.com/event/legacy-society-inaugural-luncheon/
LOCATION:St. Luke’s Episcopal Church\, 2336 Canterbury Ln\, Sister Bay\, WI\, 54234
CATEGORIES:Midsummer's Music,Private
END:VEVENT
END:VCALENDAR