BEGIN:VCALENDAR
VERSION:2.0
PRODID:-//Midsummer&#039;s Music and its affiliate, the Griffon String Quartet - ECPv6.15.20//NONSGML v1.0//EN
CALSCALE:GREGORIAN
METHOD:PUBLISH
X-ORIGINAL-URL:https://www.midsummersmusic.com
X-WR-CALDESC:Events for Midsummer&#039;s Music and its affiliate, the Griffon String Quartet
REFRESH-INTERVAL;VALUE=DURATION:PT1H
X-Robots-Tag:noindex
X-PUBLISHED-TTL:PT1H
BEGIN:VTIMEZONE
TZID:America/Chicago
BEGIN:DAYLIGHT
TZOFFSETFROM:-0600
TZOFFSETTO:-0500
TZNAME:CDT
DTSTART:20140309T080000
END:DAYLIGHT
BEGIN:STANDARD
TZOFFSETFROM:-0500
TZOFFSETTO:-0600
TZNAME:CST
DTSTART:20141102T070000
END:STANDARD
BEGIN:DAYLIGHT
TZOFFSETFROM:-0600
TZOFFSETTO:-0500
TZNAME:CDT
DTSTART:20150308T080000
END:DAYLIGHT
BEGIN:STANDARD
TZOFFSETFROM:-0500
TZOFFSETTO:-0600
TZNAME:CST
DTSTART:20151101T070000
END:STANDARD
BEGIN:DAYLIGHT
TZOFFSETFROM:-0600
TZOFFSETTO:-0500
TZNAME:CDT
DTSTART:20160313T080000
END:DAYLIGHT
BEGIN:STANDARD
TZOFFSETFROM:-0500
TZOFFSETTO:-0600
TZNAME:CST
DTSTART:20161106T070000
END:STANDARD
END:VTIMEZONE
BEGIN:VEVENT
DTSTART;TZID=America/Chicago:20150619T193000
DTEND;TZID=America/Chicago:20150619T193000
DTSTAMP:20260425T200244
CREATED:20150227T041500Z
LAST-MODIFIED:20251229T202205Z
UID:2889-1434742200-1434742200@www.midsummersmusic.com
SUMMARY:Fast Friends
DESCRIPTION:Nonet in F Major (1857)\nWinds and Strings\nFranz Lachner (1803-1890) \nOctet in F Major\, D. 803\nClarinet\, Bassoon\, Horn\, and Strings\nFranz Schubert (1797-1827)
URL:https://www.midsummersmusic.com/event/fast-friends/
LOCATION:The Hardy Gallery\, Anderson Ln\, Ephraim\, WI\, 54211
CATEGORIES:Concert,Midsummer's Music
END:VEVENT
BEGIN:VEVENT
DTSTART;TZID=America/Chicago:20150617T193000
DTEND;TZID=America/Chicago:20150617T193000
DTSTAMP:20260425T200244
CREATED:20150227T093511Z
LAST-MODIFIED:20251229T202205Z
UID:2894-1434569400-1434569400@www.midsummersmusic.com
SUMMARY:Gifted Genius
DESCRIPTION:Trio in E Minor\, Opus 27\nOboe\, Clarinet\, and Piano\nEdouard Destenay (1850-1924) \nQuintet in E-flat Major\, K. 452\nOboe\, Clarinet\, Bassoon\, Horn and Piano\nWolfgang Amadeus Mozart (1756-1791) \nQuartet in E-flat Major\, Opus 87\nViolin\, Viola\, Cello\, and Piano\nAntonin Dvorak (1841-1904)
URL:https://www.midsummersmusic.com/event/gifted-genius/
LOCATION:Björklunden – Vail Hall\, 7590 Boynton Ln\, Baileys Harbor\, WI\, 54202
CATEGORIES:Concert,Midsummer's Music
END:VEVENT
BEGIN:VEVENT
DTSTART;TZID=America/Chicago:20150616T193000
DTEND;TZID=America/Chicago:20150616T193000
DTSTAMP:20260425T200244
CREATED:20150225T190357Z
LAST-MODIFIED:20251229T202205Z
UID:2842-1434483000-1434483000@www.midsummersmusic.com
SUMMARY:Romantic Legacy
DESCRIPTION:Trio (1958)\nFlute\, Violin\, and Piano\nNino Rota (1911-1979) \nQuintet in C Minor\, Opus 54\nClarinet\, Horn\, Violin\, Cello\, and Piano\nRobert Kahn (1865-1951) \nQuartet in E-flat\, Opus 47\nPiano\, Violin\, Viola\, and Cello\nRobert Schumann (1810-1856)
URL:https://www.midsummersmusic.com/event/romantic-legacy-3/
LOCATION:Trenchard Residence\, Sister Bay\, WI
CATEGORIES:Concert,Midsummer's Music
END:VEVENT
BEGIN:VEVENT
DTSTART;TZID=America/Chicago:20150614T150000
DTEND;TZID=America/Chicago:20150614T150000
DTSTAMP:20260425T200244
CREATED:20150223T032440Z
LAST-MODIFIED:20251229T202205Z
UID:27-1434294000-1434294000@www.midsummersmusic.com
SUMMARY:Romantic Legacy
DESCRIPTION:Trio (1958)\nFlute\, Violin\, and Piano\nNino Rota (1911-1979) \nQuintet in C Minor\, Opus 54\nClarinet\, Horn\, Violin\, Cello\, and Piano\nRobert Kahn (1865-1951) \nQuartet in E-flat\, Opus 47\nPiano\, Violin\, Viola\, and Cello\nRobert Schumann (1810-1856)
URL:https://www.midsummersmusic.com/event/romantic-legacy-at-ephraim-moravian-church/
LOCATION:Ephraim Moravian Church\, 9970 Moravia St\, Ephraim\, WI\, 54211
CATEGORIES:Concert,Midsummer's Music
END:VEVENT
BEGIN:VEVENT
DTSTART;TZID=America/Chicago:20150613T193000
DTEND;TZID=America/Chicago:20150613T193000
DTSTAMP:20260425T200244
CREATED:20150223T032036Z
LAST-MODIFIED:20251229T202205Z
UID:25-1434223800-1434223800@www.midsummersmusic.com
SUMMARY:Romantic Legacy
DESCRIPTION:Trio (1958)\nFlute\, Violin\, and Piano\nNino Rota (1911-1979) \nQuintet in C Minor\, Opus 54\nClarinet\, Horn\, Violin\, Cello\, and Piano\nRobert Kahn (1865-1951) \nQuartet in E-flat\, Opus 47\nPiano\, Violin\, Viola\, and Cello\nRobert Schumann (1810-1856)
URL:https://www.midsummersmusic.com/event/romantic-legacy-2/
LOCATION:Unitarian Universalist Fellowship of Door County\, 10341 Water Street HWY 42\, Ephraim\, WI\, 54211
CATEGORIES:Concert,Midsummer's Music
END:VEVENT
BEGIN:VEVENT
DTSTART;TZID=America/Chicago:20150612T190000
DTEND;TZID=America/Chicago:20150612T190000
DTSTAMP:20260425T200244
CREATED:20150223T025105Z
LAST-MODIFIED:20251229T202205Z
UID:22-1434135600-1434135600@www.midsummersmusic.com
SUMMARY:Romantic Legacy
DESCRIPTION:Trio (1958)\nFlute\, Violin\, and Piano\nNino Rota (1911-1979) \nQuintet in C Minor\, Opus 54\nClarinet\, Horn\, Violin\, Cello\, and Piano\nRobert Kahn (1865-1951) \nQuartet in E-flat\, Opus 47\nPiano\, Violin\, Viola\, and Cello\nRobert Schumann (1810-1856)
URL:https://www.midsummersmusic.com/event/romantic-legacy/
LOCATION:Birch Creek Music Performance Center – Juniper Hall\, 3821 County Rd. E\, Egg Harbor\, WI\, 54209
CATEGORIES:Concert,Midsummer's Music
END:VEVENT
BEGIN:VEVENT
DTSTART;TZID=America/Chicago:20150515T193000
DTEND;TZID=America/Chicago:20150515T193000
DTSTAMP:20260425T200244
CREATED:20150227T200322Z
LAST-MODIFIED:20251229T202205Z
UID:2925-1431718200-1431718200@www.midsummersmusic.com
SUMMARY:Pro Arte Quartet Concert
DESCRIPTION:
URL:https://www.midsummersmusic.com/event/pro-arte-quartet-concert/
LOCATION:Ephraim Moravian Church\, 9970 Moravia St\, Ephraim\, WI\, 54211
CATEGORIES:Concert,Midsummer's Music
END:VEVENT
END:VCALENDAR