BEGIN:VCALENDAR
VERSION:2.0
PRODID:-//Midsummer&#039;s Music and its affiliate, the Griffon String Quartet - ECPv6.15.20//NONSGML v1.0//EN
CALSCALE:GREGORIAN
METHOD:PUBLISH
X-ORIGINAL-URL:https://www.midsummersmusic.com
X-WR-CALDESC:Events for Midsummer&#039;s Music and its affiliate, the Griffon String Quartet
REFRESH-INTERVAL;VALUE=DURATION:PT1H
X-Robots-Tag:noindex
X-PUBLISHED-TTL:PT1H
BEGIN:VTIMEZONE
TZID:America/Chicago
BEGIN:DAYLIGHT
TZOFFSETFROM:-0600
TZOFFSETTO:-0500
TZNAME:CDT
DTSTART:20140309T080000
END:DAYLIGHT
BEGIN:STANDARD
TZOFFSETFROM:-0500
TZOFFSETTO:-0600
TZNAME:CST
DTSTART:20141102T070000
END:STANDARD
BEGIN:DAYLIGHT
TZOFFSETFROM:-0600
TZOFFSETTO:-0500
TZNAME:CDT
DTSTART:20150308T080000
END:DAYLIGHT
BEGIN:STANDARD
TZOFFSETFROM:-0500
TZOFFSETTO:-0600
TZNAME:CST
DTSTART:20151101T070000
END:STANDARD
BEGIN:DAYLIGHT
TZOFFSETFROM:-0600
TZOFFSETTO:-0500
TZNAME:CDT
DTSTART:20160313T080000
END:DAYLIGHT
BEGIN:STANDARD
TZOFFSETFROM:-0500
TZOFFSETTO:-0600
TZNAME:CST
DTSTART:20161106T070000
END:STANDARD
BEGIN:DAYLIGHT
TZOFFSETFROM:-0600
TZOFFSETTO:-0500
TZNAME:CDT
DTSTART:20170312T080000
END:DAYLIGHT
BEGIN:STANDARD
TZOFFSETFROM:-0500
TZOFFSETTO:-0600
TZNAME:CST
DTSTART:20171105T070000
END:STANDARD
END:VTIMEZONE
BEGIN:VEVENT
DTSTART;TZID=America/Chicago:20160715T190000
DTEND;TZID=America/Chicago:20160715T190000
DTSTAMP:20260425T163707
CREATED:20160205T173530Z
LAST-MODIFIED:20251229T202136Z
UID:3223-1468609200-1468609200@www.midsummersmusic.com
SUMMARY:Romantic Connection
DESCRIPTION:Quintet in E-flat Major\, Op. 3 – Thomas Dunhill\nComposed in 1898 as the result of a competition for a cash prize\, this quintet was dedicated to Charles Villiers Stanford from our Downton Abbey Concert program. \nPiano Quintet in E-flat Major\, Op. 44 – Robert Schumann\nNoted for its extroverted\, exuberant character\, Schumann’s quintet is considered one of his finest compositions and a major work of nineteenth-century chamber music.
URL:https://www.midsummersmusic.com/event/romantic-connection-3/
LOCATION:Unitarian Universalist Fellowship of Door County\, 10341 Water Street HWY 42\, Ephraim\, WI\, 54211
CATEGORIES:Concert,Midsummer's Music
END:VEVENT
BEGIN:VEVENT
DTSTART;TZID=America/Chicago:20160714T180000
DTEND;TZID=America/Chicago:20160714T180000
DTSTAMP:20260425T163707
CREATED:20160205T173409Z
LAST-MODIFIED:20251229T202136Z
UID:3226-1468519200-1468519200@www.midsummersmusic.com
SUMMARY:Romantic Connection
DESCRIPTION:Fundraiser for the school’s fine arts programs. \nQuintet in E-flat Major\, Op. 3 – Thomas Dunhill\nComposed in 1898 as the result of a competition for a cash prize\, this quintet was dedicated to Charles Villiers Stanford from our Downton Abbey Concert program. \nPiano Quintet in E-flat Major\, Op. 44 – Robert Schumann\nNoted for its extroverted\, exuberant character\, Schumann’s quintet is considered one of his finest compositions and a major work of nineteenth-century chamber music.
URL:https://www.midsummersmusic.com/event/romantic-connection-2/
LOCATION:East High School\, 1415 E Walnut St.\, Green Bay\, WI\, 54301\, United States
CATEGORIES:Concert,Midsummer's Music
END:VEVENT
BEGIN:VEVENT
DTSTART;TZID=America/Chicago:20160712T190000
DTEND;TZID=America/Chicago:20160712T190000
DTSTAMP:20260425T163707
CREATED:20160205T172358Z
LAST-MODIFIED:20251229T202136Z
UID:3220-1468350000-1468350000@www.midsummersmusic.com
SUMMARY:From Light to Serious
DESCRIPTION:“Italian Serenade” in G Minor – Hugo Wolf\nBased on an old Italian melody with a lively\, optimistic manner evocative off the Italianate spirit. \nFlute Quartet in D Minor\, Op. 56 – Franz Danzi\nThis quartet has been described as “light classical\,” and quite enjoyable. \nQuartettsatz in C Minor\, D 703 – Franz Schubert\nInterestingly the first movement of a string quartet that Schubert never completed. \nString Quartet in F Minor\, Op. 95 – Ludwig van Beethoven\nOne of the shortest and most compact of all of his quartets\, this is referred to as “Serioso” for the tempo designation of the third movement.
URL:https://www.midsummersmusic.com/event/from-light-to-serious/
LOCATION:Johnson-Weidenbacher Residence\, Baileys Harbor\, WI\, 54202\, United States
CATEGORIES:Concert,Midsummer's Music
END:VEVENT
BEGIN:VEVENT
DTSTART;TZID=America/Chicago:20160710T190000
DTEND;TZID=America/Chicago:20160710T190000
DTSTAMP:20260425T163707
CREATED:20160205T171523Z
LAST-MODIFIED:20251229T202136Z
UID:3214-1468177200-1468177200@www.midsummersmusic.com
SUMMARY:Flair and Passion
DESCRIPTION:(Bring your own picnic at 5:00 pm) \nQuintet in F Major\, Op. 107 – Anton Reicha\nReicha’s musical craftsmanship is evident through this quintet. \nString Quintet in D Major\, D.956\, Op. 163 – Franz Schubert\nSchubert’s final chamber work is sometimes called the “Cello Quintet” and was completed just two months before his death.
URL:https://www.midsummersmusic.com/event/flair-passion/
LOCATION:Woodwalk Gallery\, 6746 County Rd. G\, Egg Harbor\, WI\, 54209
CATEGORIES:Concert,Midsummer's Music
END:VEVENT
BEGIN:VEVENT
DTSTART;TZID=America/Chicago:20160709T150000
DTEND;TZID=America/Chicago:20160709T150000
DTSTAMP:20260425T163707
CREATED:20160205T171332Z
LAST-MODIFIED:20251229T202136Z
UID:3213-1468076400-1468076400@www.midsummersmusic.com
SUMMARY:Flair and Passion
DESCRIPTION:(Dinner at The Shoreline Restaurant) \nQuintet in F Major\, Op. 107 – Anton Reicha\nReicha’s musical craftsmanship is evident through this quintet. \nString Quintet in D Major\, D.956\, Op. 163 – Franz Schubert\nSchubert’s final chamber work is sometimes called the “Cello Quintet” and was completed just two months before his death. \nBuy tickets to the concert only » \nBuy tickets to the concert and dinner »
URL:https://www.midsummersmusic.com/event/flair-passion-3/
LOCATION:The Clearing Folk School – Schoolhouse\, 12103 Garrett Bay Rd\, Ellison Bay\, WI\, 54210
CATEGORIES:Concert,Midsummer's Music
END:VEVENT
BEGIN:VEVENT
DTSTART;TZID=America/Chicago:20160708T190000
DTEND;TZID=America/Chicago:20160708T190000
DTSTAMP:20260425T163707
CREATED:20160205T171011Z
LAST-MODIFIED:20251229T202136Z
UID:3212-1468004400-1468004400@www.midsummersmusic.com
SUMMARY:Flair and Passion
DESCRIPTION:Quintet in F Major\, Op. 107 – Anton Reicha\nReicha’s musical craftsmanship is evident through this quintet. \nString Quintet in D Major\, D.956\, Op. 163 – Franz Schubert\nSchubert’s final chamber work is sometimes called the “Cello Quintet” and was completed just two months before his death.
URL:https://www.midsummersmusic.com/event/flair-passion-2/
LOCATION:Hoehn-Goldberg Residence\, Sturgeon Bay\, WI\, 54235\, United States
CATEGORIES:Concert,Midsummer's Music
END:VEVENT
BEGIN:VEVENT
DTSTART;TZID=America/Chicago:20160706T190000
DTEND;TZID=America/Chicago:20160706T190000
DTSTAMP:20260425T163707
CREATED:20160205T170820Z
LAST-MODIFIED:20251229T202136Z
UID:3211-1467831600-1467831600@www.midsummersmusic.com
SUMMARY:Flair and Passion
DESCRIPTION:Quintet in F Major\, Op. 107 – Anton Reicha\nReicha’s musical craftsmanship is evident through this quintet. \nString Quintet in D Major\, D.956\, Op. 163 – Franz Schubert\nSchubert’s final chamber work is sometimes called the “Cello Quintet” and was completed just two months before his death.
URL:https://www.midsummersmusic.com/event/flair-and-passion-2/
LOCATION:Björklunden – Vail Hall\, 7590 Boynton Ln\, Baileys Harbor\, WI\, 54202
CATEGORIES:Concert,Midsummer's Music
END:VEVENT
BEGIN:VEVENT
DTSTART;TZID=America/Chicago:20160514T190000
DTEND;TZID=America/Chicago:20160514T190000
DTSTAMP:20260425T163707
CREATED:20160215T152515Z
LAST-MODIFIED:20251229T202136Z
UID:3247-1463252400-1463252400@www.midsummersmusic.com
SUMMARY:Pro Arte Quartet
DESCRIPTION:Midsummer’s Music Festival presents two concerts with Wisconsin’s famed string musicians.
URL:https://www.midsummersmusic.com/event/pro-arte-quartet/
LOCATION:The Ridges Cook-Albert Fuller Center\, 8166 Hwy 57\, Baileys Harbor\, WI\, 54202
CATEGORIES:Concert,Midsummer's Music
END:VEVENT
BEGIN:VEVENT
DTSTART;TZID=America/Chicago:20150712T140000
DTEND;TZID=America/Chicago:20150712T140000
DTSTAMP:20260425T163707
CREATED:20150227T113139Z
LAST-MODIFIED:20251229T202136Z
UID:2912-1436709600-1436709600@www.midsummersmusic.com
SUMMARY:Big Top Door County
DESCRIPTION:A Festive 25th Anniversary Celebration “Under the Tent” \nMidsummer’s Music is joined by Guest Artists:\nCyndy Stiehl\n“Doc” Hiede\n“Count Dracula”\nAnd Other Door County Favorites
URL:https://www.midsummersmusic.com/event/big-top-door-county/
LOCATION:Berkenfeld Estate\, 9397 Summach Road\, Baileys Harbor\, WI\, 54202
CATEGORIES:Concert,Midsummer's Music
END:VEVENT
BEGIN:VEVENT
DTSTART;TZID=America/Chicago:20150711T193000
DTEND;TZID=America/Chicago:20150711T193000
DTSTAMP:20260425T163707
CREATED:20150227T112121Z
LAST-MODIFIED:20251229T202136Z
UID:2908-1436643000-1436643000@www.midsummersmusic.com
SUMMARY:Pure Sunshine
DESCRIPTION:Grand Septet in D Major\, Opus 88\nClarinet\, Horn\, Violin\, Viola\, Cello\, Bass\, and Piano\nIgnaz Moschles (1794-1870) \nQuintet\, “The Trout\,” in A Major\, D. 677\nViolin\, Viola\, Cello\, Bass\, and Piano\nFranz Schubert (1797-1827)
URL:https://www.midsummersmusic.com/event/pure-sunshine-3/
LOCATION:Björklunden – Vail Hall\, 7590 Boynton Ln\, Baileys Harbor\, WI\, 54202
CATEGORIES:Concert,Midsummer's Music
END:VEVENT
BEGIN:VEVENT
DTSTART;TZID=America/Chicago:20150710T193000
DTEND;TZID=America/Chicago:20150710T193000
DTSTAMP:20260425T163707
CREATED:20150227T112039Z
LAST-MODIFIED:20251229T202136Z
UID:2907-1436556600-1436556600@www.midsummersmusic.com
SUMMARY:Pure Sunshine
DESCRIPTION:Grand Septet in D Major\, Opus 88\nClarinet\, Horn\, Violin\, Viola\, Cello\, Bass\, and Piano\nIgnaz Moschles (1794-1870) \nQuintet\, “The Trout\,” in A Major\, D. 677\nViolin\, Viola\, Cello\, Bass\, and Piano\nFranz Schubert (1797-1827)
URL:https://www.midsummersmusic.com/event/pure-sunshine-2/
LOCATION:Ephraim Moravian Church\, 9970 Moravia St\, Ephraim\, WI\, 54211
CATEGORIES:Concert,Midsummer's Music
END:VEVENT
BEGIN:VEVENT
DTSTART;TZID=America/Chicago:20150709T180000
DTEND;TZID=America/Chicago:20150709T180000
DTSTAMP:20260425T163707
CREATED:20150227T112008Z
LAST-MODIFIED:20251229T202136Z
UID:2906-1436464800-1436464800@www.midsummersmusic.com
SUMMARY:Pure Sunshine
DESCRIPTION:(Dinner 8:00 pm at Mission Grille\, Sister Bay) \nGrand Septet in D Major\, Opus 88\nClarinet\, Horn\, Violin\, Viola\, Cello\, Bass\, and Piano\nIgnaz Moschles (1794-1870) \nQuintet\, “The Trout\,” in A Major\, D. 677\nViolin\, Viola\, Cello\, Bass\, and Piano\nFranz Schubert (1797-1827) \nBuy tickets to the concert only » \nBuy tickets to the concert and dinner »
URL:https://www.midsummersmusic.com/event/pure-sunshine/
LOCATION:St. Luke’s Episcopal Church\, 2336 Canterbury Ln\, Sister Bay\, WI\, 54234
CATEGORIES:Concert,Midsummer's Music
END:VEVENT
BEGIN:VEVENT
DTSTART;TZID=America/Chicago:20150707T193000
DTEND;TZID=America/Chicago:20150707T193000
DTSTAMP:20260425T163707
CREATED:20150227T111522Z
LAST-MODIFIED:20251229T202136Z
UID:2904-1436297400-1436297400@www.midsummersmusic.com
SUMMARY:Surprising Masters
DESCRIPTION:Symphony No. 94 in G Major\, “The Surprise” (arr. Salomon)\nFlute and String Quartet\nFranz Joseph Haydn (1733-1809) \nQuartet in F Major\, K. E. 386b\nOboe\, Violin\, Viola\, and Cello\nWolfgang Amadeus Mozart (1756-1791) \nQuartet in F Major\, Opus 135\nString Quartet\nLudwig van Beethoven (1770 -1827)
URL:https://www.midsummersmusic.com/event/surprising-masters-4/
LOCATION:Schaulis Residence\, Gills Rock\, WI
CATEGORIES:Concert,Midsummer's Music
END:VEVENT
BEGIN:VEVENT
DTSTART;TZID=America/Chicago:20150706T193000
DTEND;TZID=America/Chicago:20150706T193000
DTSTAMP:20260425T163707
CREATED:20150227T111426Z
LAST-MODIFIED:20251229T202137Z
UID:2903-1436211000-1436211000@www.midsummersmusic.com
SUMMARY:Surprising Masters
DESCRIPTION:Symphony No. 94 in G Major\, “The Surprise” (arr. Salomon)\nFlute and String Quartet\nFranz Joseph Haydn (1733-1809) \nQuartet in F Major\, K. E. 386b\nOboe\, Violin\, Viola\, and Cello\nWolfgang Amadeus Mozart (1756-1791) \nQuartet in F Major\, Opus 135\nString Quartet\nLudwig van Beethoven (1770 -1827)
URL:https://www.midsummersmusic.com/event/surprising-masters-3/
LOCATION:Old Gibraltar Town Hall\, 4176 Maple St\, Fish Creek\, WI\, 54212
CATEGORIES:Concert,Midsummer's Music
END:VEVENT
BEGIN:VEVENT
DTSTART;TZID=America/Chicago:20150705T193000
DTEND;TZID=America/Chicago:20150705T193000
DTSTAMP:20260425T163707
CREATED:20150227T110932Z
LAST-MODIFIED:20251229T202205Z
UID:2900-1436124600-1436124600@www.midsummersmusic.com
SUMMARY:Northern Lights
DESCRIPTION:En Saga (1892)\nFlute\, Clarinet\, Horn\, String Quartet\, and Bass\nJean Sibelius (1865-1957) \nOctet in D Major\, Opus 5\nFour Violins\, Two Violas\, and Two Cellos\nRheinhold Gliere (1875-1956) \nOctet in E-flat Major\, Opus 20\nFour Violins\, Two Violas\, and Two Cellos\nFelix Mendelssohn (1809-1847)
URL:https://www.midsummersmusic.com/event/northern-lights-3/
LOCATION:Woodwalk Gallery\, 6746 County Rd. G\, Egg Harbor\, WI\, 54209
CATEGORIES:Concert,Midsummer's Music
END:VEVENT
BEGIN:VEVENT
DTSTART;TZID=America/Chicago:20150702T170000
DTEND;TZID=America/Chicago:20150702T170000
DTSTAMP:20260425T163707
CREATED:20150227T110800Z
LAST-MODIFIED:20251229T202205Z
UID:2899-1435856400-1435856400@www.midsummersmusic.com
SUMMARY:Northern Lights
DESCRIPTION:4:00 – Waterfront Cocktails at Rowley’s Pub. \nEach guest will receive two free drink tickets for any drink desired\, including our colorful Vacation Cocktails.  Enjoy in our retro pub with outdoor patio. \n5:00 – Northern Lights Concert – Lake Michigan Room \n7:00 – Chef-carved Prime Rib Buffet \nAn array of delightful offerings including our famous prime rib\, but also chicken and other entrees\, full salad bar\, soups\, fresh rolls\, Swedish limpa\, and desserts\, all from Grandma’s Swedish Bakery. \nAfter dinner\, stop back in the pub for a nightcap\, and later\, take a stroll outside where you may spot the real northern lights over the lake to cap off your evening. \nEn Saga (1892)\nFlute\, Clarinet\, Horn\, String Quartet\, and Bass\nJean Sibelius (1865-1957) \nOctet in D Major\, Opus 5\nFour Violins\, Two Violas\, and Two Cellos\nRheinhold Gliere (1875-1956) \nOctet in E-flat Major\, Opus 20\nFour Violins\, Two Violas\, and Two Cellos\nFelix Mendelssohn (1809-1847) \nBuy tickets to the concert only » \nBuy tickets to the concert and dinner »
URL:https://www.midsummersmusic.com/event/northern-lights-2/
LOCATION:Rowley’s Bay Resort\, 1041 Co Rd ZZ\, Ellison Bay\, WI\, 54210
CATEGORIES:Concert,Midsummer's Music
END:VEVENT
BEGIN:VEVENT
DTSTART;TZID=America/Chicago:20150701T193000
DTEND;TZID=America/Chicago:20150701T193000
DTSTAMP:20260425T163707
CREATED:20150227T111320Z
LAST-MODIFIED:20251229T202205Z
UID:2902-1435779000-1435779000@www.midsummersmusic.com
SUMMARY:Surprising Masters
DESCRIPTION:Symphony No. 94 in G Major\, “The Surprise” (arr. Salomon)\nFlute and String Quartet\nFranz Joseph Haydn (1733-1809) \nQuartet in F Major\, K. E. 386b\nOboe\, Violin\, Viola\, and Cello\nWolfgang Amadeus Mozart (1756-1791) \nQuartet in F Major\, Opus 135\nString Quartet\nLudwig van Beethoven (1770 -1827)
URL:https://www.midsummersmusic.com/event/surprising-masters-2/
LOCATION:Marlett Residence\, Sturgeon Bay\, WI
CATEGORIES:Concert,Midsummer's Music
END:VEVENT
BEGIN:VEVENT
DTSTART;TZID=America/Chicago:20150630T193000
DTEND;TZID=America/Chicago:20150630T193000
DTSTAMP:20260425T163707
CREATED:20150227T111154Z
LAST-MODIFIED:20251229T202205Z
UID:2901-1435692600-1435692600@www.midsummersmusic.com
SUMMARY:Surprising Masters
DESCRIPTION:Symphony No. 94 in G Major\, “The Surprise” (arr. Salomon)\nFlute and String Quartet\nFranz Joseph Haydn (1733-1809) \nQuartet in F Major\, K. E. 386b\nOboe\, Violin\, Viola\, and Cello\nWolfgang Amadeus Mozart (1756-1791) \nQuartet in F Major\, Opus 135\nString Quartet\nLudwig van Beethoven (1770 -1827)
URL:https://www.midsummersmusic.com/event/surprising-masters/
LOCATION:Smith Residence\, Sister Bay\, WI
CATEGORIES:Concert,Midsummer's Music
END:VEVENT
BEGIN:VEVENT
DTSTART;TZID=America/Chicago:20150628T193000
DTEND;TZID=America/Chicago:20150628T193000
DTSTAMP:20260425T163707
CREATED:20150227T110417Z
LAST-MODIFIED:20251229T202205Z
UID:2898-1435519800-1435519800@www.midsummersmusic.com
SUMMARY:Northern Lights
DESCRIPTION:En Saga (1892)\nFlute\, Clarinet\, Horn\, String Quartet\, and Bass\nJean Sibelius (1865-1957) \nOctet in D Major\, Opus 5\nFour Violins\, Two Violas\, and Two Cellos\nRheinhold Gliere (1875-1956) \nOctet in E-flat Major\, Opus 20\nFour Violins\, Two Violas\, and Two Cellos\nFelix Mendelssohn (1809-1847)
URL:https://www.midsummersmusic.com/event/northern-lights/
LOCATION:Björklunden – Vail Hall\, 7590 Boynton Ln\, Baileys Harbor\, WI\, 54202
CATEGORIES:Concert,Midsummer's Music
END:VEVENT
BEGIN:VEVENT
DTSTART;TZID=America/Chicago:20150627T193000
DTEND;TZID=America/Chicago:20150627T193000
DTSTAMP:20260425T163707
CREATED:20150227T093847Z
LAST-MODIFIED:20251229T202205Z
UID:2896-1435433400-1435433400@www.midsummersmusic.com
SUMMARY:Gifted Genius
DESCRIPTION:Trio in E Minor\, Opus 27\nOboe\, Clarinet\, and Piano\nEdouard Destenay (1850-1924) \nQuintet in E-flat Major\, K. 452\nOboe\, Clarinet\, Bassoon\, Horn and Piano\nWolfgang Amadeus Mozart (1756-1791) \nQuartet in E-flat Major\, Opus 87\nViolin\, Viola\, Cello\, and Piano\nAntonin Dvorak (1841-1904)
URL:https://www.midsummersmusic.com/event/gifted-genius-3/
LOCATION:Ephraim Moravian Church\, 9970 Moravia St\, Ephraim\, WI\, 54211
CATEGORIES:Concert,Midsummer's Music
END:VEVENT
BEGIN:VEVENT
DTSTART;TZID=America/Chicago:20150626T193000
DTEND;TZID=America/Chicago:20150626T193000
DTSTAMP:20260425T163707
CREATED:20150227T093709Z
LAST-MODIFIED:20251229T202205Z
UID:2895-1435347000-1435347000@www.midsummersmusic.com
SUMMARY:Gifted Genius
DESCRIPTION:Trio in E Minor\, Opus 27\nOboe\, Clarinet\, and Piano\nEdouard Destenay (1850-1924) \nQuintet in E-flat Major\, K. 452\nOboe\, Clarinet\, Bassoon\, Horn and Piano\nWolfgang Amadeus Mozart (1756-1791) \nQuartet in E-flat Major\, Opus 87\nViolin\, Viola\, Cello\, and Piano\nAntonin Dvorak (1841-1904)
URL:https://www.midsummersmusic.com/event/gifted-genius-2/
LOCATION:Unitarian Universalist Fellowship of Door County\, 10341 Water Street HWY 42\, Ephraim\, WI\, 54211
CATEGORIES:Concert,Midsummer's Music
END:VEVENT
BEGIN:VEVENT
DTSTART;TZID=America/Chicago:20150625T180000
DTEND;TZID=America/Chicago:20150625T180000
DTSTAMP:20260425T163707
CREATED:20150227T041850Z
LAST-MODIFIED:20251229T202205Z
UID:2892-1435255200-1435255200@www.midsummersmusic.com
SUMMARY:Fast Friends
DESCRIPTION:(8:00 pm. Dinner Alexander’s Restaurant\, Fish Creek) \nNonet in F Major (1857)\nWinds and Strings\nFranz Lachner (1803-1890) \nOctet in F Major\, D. 803\nClarinet\, Bassoon\, Horn\, and Strings\nFranz Schubert (1797-1827) \nBuy tickets to the concert only » \nBuy tickets to the concert and dinner »
URL:https://www.midsummersmusic.com/event/fast-friends-4/
LOCATION:Old Gibraltar Town Hall\, 4176 Maple St\, Fish Creek\, WI\, 54212
CATEGORIES:Concert,Midsummer's Music
END:VEVENT
BEGIN:VEVENT
DTSTART;TZID=America/Chicago:20150621T193000
DTEND;TZID=America/Chicago:20150621T193000
DTSTAMP:20260425T163707
CREATED:20150227T041751Z
LAST-MODIFIED:20251229T202205Z
UID:2891-1434915000-1434915000@www.midsummersmusic.com
SUMMARY:Fast Friends
DESCRIPTION:Nonet in F Major (1857)\nWinds and Strings\nFranz Lachner (1803-1890) \nOctet in F Major\, D. 803\nClarinet\, Bassoon\, Horn\, and Strings\nFranz Schubert (1797-1827)
URL:https://www.midsummersmusic.com/event/fast-friends-3/
LOCATION:Woodwalk Gallery\, 6746 County Rd. G\, Egg Harbor\, WI\, 54209
CATEGORIES:Concert,Midsummer's Music
END:VEVENT
BEGIN:VEVENT
DTSTART;TZID=America/Chicago:20150620T150000
DTEND;TZID=America/Chicago:20150620T150000
DTSTAMP:20260425T163707
CREATED:20150227T041704Z
LAST-MODIFIED:20251229T202205Z
UID:2890-1434812400-1434812400@www.midsummersmusic.com
SUMMARY:Fast Friends
DESCRIPTION:Nonet in F Major (1857)\nWinds and Strings\nFranz Lachner (1803-1890) \nOctet in F Major\, D. 803\nClarinet\, Bassoon\, Horn\, and Strings\nFranz Schubert (1797-1827)
URL:https://www.midsummersmusic.com/event/fast-friends-2/
LOCATION:The Clearing Folk School – Schoolhouse\, 12103 Garrett Bay Rd\, Ellison Bay\, WI\, 54210
CATEGORIES:Concert,Midsummer's Music
END:VEVENT
BEGIN:VEVENT
DTSTART;TZID=America/Chicago:20150619T193000
DTEND;TZID=America/Chicago:20150619T193000
DTSTAMP:20260425T163707
CREATED:20150227T041500Z
LAST-MODIFIED:20251229T202205Z
UID:2889-1434742200-1434742200@www.midsummersmusic.com
SUMMARY:Fast Friends
DESCRIPTION:Nonet in F Major (1857)\nWinds and Strings\nFranz Lachner (1803-1890) \nOctet in F Major\, D. 803\nClarinet\, Bassoon\, Horn\, and Strings\nFranz Schubert (1797-1827)
URL:https://www.midsummersmusic.com/event/fast-friends/
LOCATION:The Hardy Gallery\, Anderson Ln\, Ephraim\, WI\, 54211
CATEGORIES:Concert,Midsummer's Music
END:VEVENT
BEGIN:VEVENT
DTSTART;TZID=America/Chicago:20150617T193000
DTEND;TZID=America/Chicago:20150617T193000
DTSTAMP:20260425T163707
CREATED:20150227T093511Z
LAST-MODIFIED:20251229T202205Z
UID:2894-1434569400-1434569400@www.midsummersmusic.com
SUMMARY:Gifted Genius
DESCRIPTION:Trio in E Minor\, Opus 27\nOboe\, Clarinet\, and Piano\nEdouard Destenay (1850-1924) \nQuintet in E-flat Major\, K. 452\nOboe\, Clarinet\, Bassoon\, Horn and Piano\nWolfgang Amadeus Mozart (1756-1791) \nQuartet in E-flat Major\, Opus 87\nViolin\, Viola\, Cello\, and Piano\nAntonin Dvorak (1841-1904)
URL:https://www.midsummersmusic.com/event/gifted-genius/
LOCATION:Björklunden – Vail Hall\, 7590 Boynton Ln\, Baileys Harbor\, WI\, 54202
CATEGORIES:Concert,Midsummer's Music
END:VEVENT
BEGIN:VEVENT
DTSTART;TZID=America/Chicago:20150616T193000
DTEND;TZID=America/Chicago:20150616T193000
DTSTAMP:20260425T163707
CREATED:20150225T190357Z
LAST-MODIFIED:20251229T202205Z
UID:2842-1434483000-1434483000@www.midsummersmusic.com
SUMMARY:Romantic Legacy
DESCRIPTION:Trio (1958)\nFlute\, Violin\, and Piano\nNino Rota (1911-1979) \nQuintet in C Minor\, Opus 54\nClarinet\, Horn\, Violin\, Cello\, and Piano\nRobert Kahn (1865-1951) \nQuartet in E-flat\, Opus 47\nPiano\, Violin\, Viola\, and Cello\nRobert Schumann (1810-1856)
URL:https://www.midsummersmusic.com/event/romantic-legacy-3/
LOCATION:Trenchard Residence\, Sister Bay\, WI
CATEGORIES:Concert,Midsummer's Music
END:VEVENT
BEGIN:VEVENT
DTSTART;TZID=America/Chicago:20150614T150000
DTEND;TZID=America/Chicago:20150614T150000
DTSTAMP:20260425T163707
CREATED:20150223T032440Z
LAST-MODIFIED:20251229T202205Z
UID:27-1434294000-1434294000@www.midsummersmusic.com
SUMMARY:Romantic Legacy
DESCRIPTION:Trio (1958)\nFlute\, Violin\, and Piano\nNino Rota (1911-1979) \nQuintet in C Minor\, Opus 54\nClarinet\, Horn\, Violin\, Cello\, and Piano\nRobert Kahn (1865-1951) \nQuartet in E-flat\, Opus 47\nPiano\, Violin\, Viola\, and Cello\nRobert Schumann (1810-1856)
URL:https://www.midsummersmusic.com/event/romantic-legacy-at-ephraim-moravian-church/
LOCATION:Ephraim Moravian Church\, 9970 Moravia St\, Ephraim\, WI\, 54211
CATEGORIES:Concert,Midsummer's Music
END:VEVENT
BEGIN:VEVENT
DTSTART;TZID=America/Chicago:20150613T193000
DTEND;TZID=America/Chicago:20150613T193000
DTSTAMP:20260425T163707
CREATED:20150223T032036Z
LAST-MODIFIED:20251229T202205Z
UID:25-1434223800-1434223800@www.midsummersmusic.com
SUMMARY:Romantic Legacy
DESCRIPTION:Trio (1958)\nFlute\, Violin\, and Piano\nNino Rota (1911-1979) \nQuintet in C Minor\, Opus 54\nClarinet\, Horn\, Violin\, Cello\, and Piano\nRobert Kahn (1865-1951) \nQuartet in E-flat\, Opus 47\nPiano\, Violin\, Viola\, and Cello\nRobert Schumann (1810-1856)
URL:https://www.midsummersmusic.com/event/romantic-legacy-2/
LOCATION:Unitarian Universalist Fellowship of Door County\, 10341 Water Street HWY 42\, Ephraim\, WI\, 54211
CATEGORIES:Concert,Midsummer's Music
END:VEVENT
BEGIN:VEVENT
DTSTART;TZID=America/Chicago:20150612T190000
DTEND;TZID=America/Chicago:20150612T190000
DTSTAMP:20260425T163707
CREATED:20150223T025105Z
LAST-MODIFIED:20251229T202205Z
UID:22-1434135600-1434135600@www.midsummersmusic.com
SUMMARY:Romantic Legacy
DESCRIPTION:Trio (1958)\nFlute\, Violin\, and Piano\nNino Rota (1911-1979) \nQuintet in C Minor\, Opus 54\nClarinet\, Horn\, Violin\, Cello\, and Piano\nRobert Kahn (1865-1951) \nQuartet in E-flat\, Opus 47\nPiano\, Violin\, Viola\, and Cello\nRobert Schumann (1810-1856)
URL:https://www.midsummersmusic.com/event/romantic-legacy/
LOCATION:Birch Creek Music Performance Center – Juniper Hall\, 3821 County Rd. E\, Egg Harbor\, WI\, 54209
CATEGORIES:Concert,Midsummer's Music
END:VEVENT
END:VCALENDAR