BEGIN:VCALENDAR
VERSION:2.0
PRODID:-//Midsummer&#039;s Music and its affiliate, the Griffon String Quartet - ECPv6.15.20//NONSGML v1.0//EN
CALSCALE:GREGORIAN
METHOD:PUBLISH
X-ORIGINAL-URL:https://www.midsummersmusic.com
X-WR-CALDESC:Events for Midsummer&#039;s Music and its affiliate, the Griffon String Quartet
REFRESH-INTERVAL;VALUE=DURATION:PT1H
X-Robots-Tag:noindex
X-PUBLISHED-TTL:PT1H
BEGIN:VTIMEZONE
TZID:America/Chicago
BEGIN:DAYLIGHT
TZOFFSETFROM:-0600
TZOFFSETTO:-0500
TZNAME:CDT
DTSTART:20210314T080000
END:DAYLIGHT
BEGIN:STANDARD
TZOFFSETFROM:-0500
TZOFFSETTO:-0600
TZNAME:CST
DTSTART:20211107T070000
END:STANDARD
BEGIN:DAYLIGHT
TZOFFSETFROM:-0600
TZOFFSETTO:-0500
TZNAME:CDT
DTSTART:20220313T080000
END:DAYLIGHT
BEGIN:STANDARD
TZOFFSETFROM:-0500
TZOFFSETTO:-0600
TZNAME:CST
DTSTART:20221106T070000
END:STANDARD
BEGIN:DAYLIGHT
TZOFFSETFROM:-0600
TZOFFSETTO:-0500
TZNAME:CDT
DTSTART:20230312T080000
END:DAYLIGHT
BEGIN:STANDARD
TZOFFSETFROM:-0500
TZOFFSETTO:-0600
TZNAME:CST
DTSTART:20231105T070000
END:STANDARD
END:VTIMEZONE
BEGIN:VEVENT
DTSTART;TZID=America/Chicago:20220824T190000
DTEND;TZID=America/Chicago:20220824T213000
DTSTAMP:20260424T075546
CREATED:20220427T110053Z
LAST-MODIFIED:20251229T195823Z
UID:8961-1661367600-1661376600@www.midsummersmusic.com
SUMMARY:Down Home & Heavenly • St. Luke's Episcopal Church
DESCRIPTION:Divertimento No. 10 in F Major\, K. 247 • Wolfgang Amadeus Mozart\nTwo Horns and Strings \nRodeo Reina del Cielo (Rodeo Queen of Heaven) • Libby Larsen\nClarinet\, Violin\, Cello\, and Piano \nSeptet in E-flat Major\, Op. 25 • Ferdinand Ries\nClarinet\, Two Horns\, Violin\, Cello\, Bass\, and Piano \n 
URL:https://www.midsummersmusic.com/event/home-heavenly-st-lukes/
LOCATION:St. Luke’s Episcopal Church\, 2336 Canterbury Ln\, Sister Bay\, WI\, 54234
CATEGORIES:Concert,Midsummer's Music
END:VEVENT
BEGIN:VEVENT
DTSTART;TZID=America/Chicago:20220821T150000
DTEND;TZID=America/Chicago:20220821T173000
DTSTAMP:20260424T075546
CREATED:20220427T110037Z
LAST-MODIFIED:20251229T195823Z
UID:8957-1661094000-1661103000@www.midsummersmusic.com
SUMMARY:Down Home & Heavenly • Hope United Church of Christ
DESCRIPTION:Divertimento No. 10 in F Major\, K. 247 • Wolfgang Amadeus Mozart\nTwo Horns and Strings \nRodeo Reina del Cielo (Rodeo Queen of Heaven) • Libby Larsen\nClarinet\, Violin\, Cello\, and Piano \nSeptet in E-flat Major\, Op. 25 • Ferdinand Ries\nClarinet\, Two Horns\, Violin\, Cello\, Bass\, and Piano \n 
URL:https://www.midsummersmusic.com/event/home-heavenly-hope-united/
LOCATION:Hope United Church of Christ\, 141 S 12th Ave.\, Sturgeon Bay\, WI\, 54235\, United States
CATEGORIES:Concert,Midsummer's Music
END:VEVENT
BEGIN:VEVENT
DTSTART;TZID=America/Chicago:20220731T150000
DTEND;TZID=America/Chicago:20220731T173000
DTSTAMP:20260424T075546
CREATED:20220427T110039Z
LAST-MODIFIED:20251229T195823Z
UID:8955-1659279600-1659288600@www.midsummersmusic.com
SUMMARY:Homeland Sentiments • St. Luke's Episcopal Church
DESCRIPTION:Adagio from String Quartet in D Minor (1869) • Mykola Lysenko\nString Quartet \nTrio in C-sharp Major\, Op. 100 • Philipp Scharwenka\nPiano\, Violin\, and Cello \nQuintet in A Major\, Op. 81 • Antonín Dvořák\nPiano and String Quartet \n 
URL:https://www.midsummersmusic.com/event/homeland-sentiments-st-lukes/
LOCATION:St. Luke’s Episcopal Church\, 2336 Canterbury Ln\, Sister Bay\, WI\, 54234
CATEGORIES:Concert,Midsummer's Music
END:VEVENT
BEGIN:VEVENT
DTSTART;TZID=America/Chicago:20220730T190000
DTEND;TZID=America/Chicago:20220730T213000
DTSTAMP:20260424T075546
CREATED:20220427T110058Z
LAST-MODIFIED:20251229T195823Z
UID:8953-1659207600-1659216600@www.midsummersmusic.com
SUMMARY:Homeland Sentiments • Hope United Church of Christ
DESCRIPTION:Adagio from String Quartet in D Minor (1869) • Mykola Lysenko\nString Quartet \nTrio in C-sharp Major\, Op. 100 • Philipp Scharwenka\nPiano\, Violin\, and Cello \nQuintet in A Major\, Op. 81 • Antonín Dvořák\nPiano and String Quartet \n 
URL:https://www.midsummersmusic.com/event/homeland-sentiments-hope-united/
LOCATION:Hope United Church of Christ\, 141 S 12th Ave.\, Sturgeon Bay\, WI\, 54235\, United States
CATEGORIES:Concert,Midsummer's Music
END:VEVENT
BEGIN:VEVENT
DTSTART;TZID=America/Chicago:20220729T190000
DTEND;TZID=America/Chicago:20220729T213000
DTSTAMP:20260424T075546
CREATED:20220427T110041Z
LAST-MODIFIED:20251229T195823Z
UID:8951-1659121200-1659130200@www.midsummersmusic.com
SUMMARY:Homeland Sentiments • Kress Pavilion
DESCRIPTION:Adagio from String Quartet in D Minor (1869) • Mykola Lysenko\nString Quartet \nTrio in C-sharp Major\, Op. 100 • Philipp Scharwenka\nPiano\, Violin\, and Cello \nQuintet in A Major\, Op. 81 • Antonín Dvořák\nPiano and String Quartet \n 
URL:https://www.midsummersmusic.com/event/homeland-sentiments-kress/
LOCATION:Donald and Carol Kress Pavilion\, 7845 Church St.\, Egg Harbor\, WI\, 54209
CATEGORIES:Concert,Midsummer's Music
END:VEVENT
BEGIN:VEVENT
DTSTART;TZID=America/Chicago:20220724T170000
DTEND;TZID=America/Chicago:20220724T193000
DTSTAMP:20260424T075546
CREATED:20220427T110049Z
LAST-MODIFIED:20251229T195823Z
UID:8945-1658682000-1658691000@www.midsummersmusic.com
SUMMARY:Lush & Thrilling Romantic Poetry • Woodwalk Gallery
DESCRIPTION:Quartettsatz in C Minor\, D. 703 • Franz Schubert\nString Quartet \nDivertimento in E Major\, Op. 53 • Friedrich Gernsheim\nFlute\, String Quartet\, and Bass \nGrand Quintetto in B-flat Major\, Op. 34 • Carl Maria von Weber\nClarinet and String Quartet \n  \nAll Woodwalk Gallery Concerts\, 5:00 pm\nBring your own picnic earlier and enjoy the beautifully landscaped gardens. Featured Woodwalk artists will give brief presentations and unveil a piece created for each of the four concerts. Please call Woodwalk Gallery in advance at (920) 629-4877 to reserve a table if you plan to bring a picnic.
URL:https://www.midsummersmusic.com/event/lush-thrilling-romantic-poetry-4/
LOCATION:Woodwalk Gallery\, 6746 County Rd. G\, Egg Harbor\, WI\, 54209
CATEGORIES:Concert,Midsummer's Music
END:VEVENT
BEGIN:VEVENT
DTSTART;TZID=America/Chicago:20220723T190000
DTEND;TZID=America/Chicago:20220723T213000
DTSTAMP:20260424T075546
CREATED:20220427T110058Z
LAST-MODIFIED:20251229T195823Z
UID:8942-1658602800-1658611800@www.midsummersmusic.com
SUMMARY:Lush & Thrilling Romantic Poetry • Hope United Church of Christ
DESCRIPTION:Quartettsatz in C Minor\, D. 703 • Franz Schubert\nString Quartet \nDivertimento in E Major\, Op. 53 • Friedrich Gernsheim\nFlute\, String Quartet\, and Bass \nGrand Quintetto in B-flat Major\, Op. 34 • Carl Maria von Weber\nClarinet and String Quartet \n 
URL:https://www.midsummersmusic.com/event/lush-thrilling-romantic-poetry-3/
LOCATION:Hope United Church of Christ\, 141 S 12th Ave.\, Sturgeon Bay\, WI\, 54235\, United States
CATEGORIES:Concert,Midsummer's Music
END:VEVENT
BEGIN:VEVENT
DTSTART;TZID=America/Chicago:20220722T190000
DTEND;TZID=America/Chicago:20220722T213000
DTSTAMP:20260424T075546
CREATED:20220427T110027Z
LAST-MODIFIED:20251229T195823Z
UID:8940-1658516400-1658525400@www.midsummersmusic.com
SUMMARY:Lush & Thrilling Romantic Poetry • First Baptist Church
DESCRIPTION:Quartettsatz in C Minor\, D. 703 • Franz Schubert\nString Quartet \nDivertimento in E Major\, Op. 53 • Friedrich Gernsheim\nFlute\, String Quartet\, and Bass \nGrand Quintetto in B-flat Major\, Op. 34 • Carl Maria von Weber\nClarinet and String Quartet \n 
URL:https://www.midsummersmusic.com/event/lush-thrilling-romantic-poetry-2/
LOCATION:First Baptist Church\, 2622 S. Bay Shore Dr.\, Sister Bay\, 54234\, United States
CATEGORIES:Concert,Midsummer's Music
END:VEVENT
BEGIN:VEVENT
DTSTART;TZID=America/Chicago:20220721T190000
DTEND;TZID=America/Chicago:20220721T213000
DTSTAMP:20260424T075546
CREATED:20220427T110058Z
LAST-MODIFIED:20251229T195823Z
UID:8935-1658430000-1658439000@www.midsummersmusic.com
SUMMARY:Trio Magic • Kress Pavilion
DESCRIPTION:Serenade\, Op. 50 (1895) • Laura Netzel\nPiano\, Violin\, and Cello \nCirculo\, Op. 91 • Joachim Turina\nPiano\, Violin\, and Cello \nTrio in E-flat\, Op. 100\, D. 929 • Franz Schubert\nPiano\, Violin\, and Cello \n 
URL:https://www.midsummersmusic.com/event/trio-magic-kress-pavilion/
LOCATION:Donald and Carol Kress Pavilion\, 7845 Church St.\, Egg Harbor\, WI\, 54209
CATEGORIES:Concert,Midsummer's Music
END:VEVENT
BEGIN:VEVENT
DTSTART;TZID=America/Chicago:20220720T190000
DTEND;TZID=America/Chicago:20220720T213000
DTSTAMP:20260424T075546
CREATED:20220427T110026Z
LAST-MODIFIED:20251229T195823Z
UID:8937-1658343600-1658352600@www.midsummersmusic.com
SUMMARY:Lush & Thrilling Romantic Poetry • Sister Bay Moravian Church
DESCRIPTION:Quartettsatz in C Minor\, D. 703 • Franz Schubert\nString Quartet \nDivertimento in E Major\, Op. 53 • Friedrich Gernsheim\nFlute\, String Quartet\, and Bass \nGrand Quintetto in B-flat Major\, Op. 34 • Carl Maria von Weber\nClarinet and String Quartet \n 
URL:https://www.midsummersmusic.com/event/lush-thrilling-romantic-poetry/
LOCATION:Sister Bay Moravian Church\, 10924 Old Stage Rd\, Sister Bay\, WI\, 54234
CATEGORIES:Concert,Midsummer's Music
END:VEVENT
BEGIN:VEVENT
DTSTART;TZID=America/Chicago:20220717T150000
DTEND;TZID=America/Chicago:20220717T170000
DTSTAMP:20260424T075546
CREATED:20220427T110056Z
LAST-MODIFIED:20251229T195823Z
UID:8933-1658070000-1658077200@www.midsummersmusic.com
SUMMARY:Trio Magic • Sister Bay Salon Concert
DESCRIPTION:Serenade\, Op. 50 (1895) • Laura Netzel\nPiano\, Violin\, and Cello \nCirculo\, Op. 91 • Joachim Turina\nPiano\, Violin\, and Cello \nTrio in E-flat\, Op. 100\, D. 929 • Franz Schubert\nPiano\, Violin\, and Cello \n  \nTicket buyers will receive the address of this salon concert in Sister Bay. \nThis inviting home was the site of our first home concert on June 12\, 1991. Walls of windows offer a bird’s-eye view of the forest canopy.
URL:https://www.midsummersmusic.com/event/trio-magic-sister-bay-salon/
LOCATION:Trenchard Residence\, Sister Bay\, WI
CATEGORIES:Concert,Midsummer's Music
END:VEVENT
BEGIN:VEVENT
DTSTART;TZID=America/Chicago:20220716T190000
DTEND;TZID=America/Chicago:20220716T213000
DTSTAMP:20260424T075546
CREATED:20220427T110045Z
LAST-MODIFIED:20251229T195926Z
UID:8930-1657998000-1658007000@www.midsummersmusic.com
SUMMARY:Trio Magic • Hope United Church of Christ
DESCRIPTION:Serenade\, Op. 50 (1895) • Laura Netzel\nPiano\, Violin\, and Cello \nCirculo\, Op. 91 • Joachim Turina\nPiano\, Violin\, and Cello \nTrio in E-flat\, Op. 100\, D. 929 • Franz Schubert\nPiano\, Violin\, and Cello \n 
URL:https://www.midsummersmusic.com/event/trio-magic-hope-united-church/
LOCATION:Hope United Church of Christ\, 141 S 12th Ave.\, Sturgeon Bay\, WI\, 54235\, United States
CATEGORIES:Concert,Midsummer's Music
END:VEVENT
BEGIN:VEVENT
DTSTART;TZID=America/Chicago:20220715T190000
DTEND;TZID=America/Chicago:20220715T213000
DTSTAMP:20260424T075546
CREATED:20220510T195922Z
LAST-MODIFIED:20251229T195926Z
UID:9086-1657911600-1657920600@www.midsummersmusic.com
SUMMARY:Trio Magic • St. Luke's Episcopal Church
DESCRIPTION:Serenade\, Op. 50 (1895) • Laura Netzel\nPiano\, Violin\, and Cello \nCirculo\, Op. 91 • Joachim Turina\nPiano\, Violin\, and Cello \nTrio in E-flat\, Op. 100\, D. 929 • Franz Schubert\nPiano\, Violin\, and Cello
URL:https://www.midsummersmusic.com/event/trio-magic-tbd/
LOCATION:St. Luke’s Episcopal Church\, 2336 Canterbury Ln\, Sister Bay\, WI\, 54234
CATEGORIES:Concert,Midsummer's Music
END:VEVENT
BEGIN:VEVENT
DTSTART;TZID=America/Chicago:20220710T170000
DTEND;TZID=America/Chicago:20220710T193000
DTSTAMP:20260424T075546
CREATED:20220427T110056Z
LAST-MODIFIED:20251229T195926Z
UID:8927-1657472400-1657481400@www.midsummersmusic.com
SUMMARY:Scintillating Summer Serenades • Woodwalk Gallery
DESCRIPTION:Sextet in E-flat Major • Paul Wranitzky\nFlute\, Oboe\, Violin\, Two Violas\, and Cello \nQuartet in F Major\, K.E. 386b • Wolfgang Amadeus Mozart\nOboe\, Violin\, Viola\, and Cello \nQuintet in D Major\, Op. 35 • Bernhard Molique\nFlute\, Oboe\, Violin\, Two Violas\, and Cello \n  \nAll Woodwalk Gallery Concerts\, 5:00 pm\nBring your own picnic earlier and enjoy the beautifully landscaped gardens. Featured Woodwalk artists will give brief presentations and unveil a piece created for each of the four concerts. Please call Woodwalk Gallery in advance at (920) 629-4877 to reserve a table if you plan to bring a picnic.
URL:https://www.midsummersmusic.com/event/scintillating-summer-serenades-4/
LOCATION:Woodwalk Gallery\, 6746 County Rd. G\, Egg Harbor\, WI\, 54209
CATEGORIES:Concert,Midsummer's Music
END:VEVENT
BEGIN:VEVENT
DTSTART;TZID=America/Chicago:20220709T190000
DTEND;TZID=America/Chicago:20220709T213000
DTSTAMP:20260424T075546
CREATED:20220427T110009Z
LAST-MODIFIED:20251229T195926Z
UID:8924-1657393200-1657402200@www.midsummersmusic.com
SUMMARY:Scintillating Summer Serenades • St. Luke's Episcopal Church
DESCRIPTION:Sextet in E-flat Major • Paul Wranitzky\nFlute\, Oboe\, Violin\, Two Violas\, and Cello \nQuartet in F Major\, K.E. 386b • Wolfgang Amadeus Mozart\nOboe\, Violin\, Viola\, and Cello \nQuintet in D Major\, Op. 35 • Bernhard Molique\nFlute\, Oboe\, Violin\, Two Violas\, and Cello
URL:https://www.midsummersmusic.com/event/scintillating-summer-serenades-3/
LOCATION:St. Luke’s Episcopal Church\, 2336 Canterbury Ln\, Sister Bay\, WI\, 54234
CATEGORIES:Concert,Midsummer's Music
END:VEVENT
BEGIN:VEVENT
DTSTART;TZID=America/Chicago:20220708T190000
DTEND;TZID=America/Chicago:20220708T213000
DTSTAMP:20260424T075546
CREATED:20220427T110006Z
LAST-MODIFIED:20251229T195926Z
UID:8920-1657306800-1657315800@www.midsummersmusic.com
SUMMARY:Scintillating Summer Serenades • First Baptist Church
DESCRIPTION:Sextet in E-flat Major • Paul Wranitzky\nFlute\, Oboe\, Violin\, Two Violas\, and Cello \nQuartet in F Major\, K.E. 386b • Wolfgang Amadeus Mozart\nOboe\, Violin\, Viola\, and Cello \nQuintet in D Major\, Op. 35 • Bernhard Molique\nFlute\, Oboe\, Violin\, Two Violas\, and Cello
URL:https://www.midsummersmusic.com/event/scintillating-summer-serenades-2/
LOCATION:First Baptist Church\, 2622 S. Bay Shore Dr.\, Sister Bay\, 54234\, United States
CATEGORIES:Concert,Midsummer's Music
END:VEVENT
BEGIN:VEVENT
DTSTART;TZID=America/Chicago:20220707T190000
DTEND;TZID=America/Chicago:20220707T213000
DTSTAMP:20260424T075546
CREATED:20220427T110043Z
LAST-MODIFIED:20251229T195926Z
UID:8917-1657220400-1657229400@www.midsummersmusic.com
SUMMARY:Scintillating Summer Serenades • Kress Pavilion
DESCRIPTION:Sextet in E-flat Major • Paul Wranitzky\nFlute\, Oboe\, Violin\, Two Violas\, and Cello \nQuartet in F Major\, K.E. 386b • Wolfgang Amadeus Mozart\nOboe\, Violin\, Viola\, and Cello \nQuintet in D Major\, Op. 35 • Bernhard Molique\nFlute\, Oboe\, Violin\, Two Violas\, and Cello
URL:https://www.midsummersmusic.com/event/scintillating-summer-serenades/
LOCATION:Donald and Carol Kress Pavilion\, 7845 Church St.\, Egg Harbor\, WI\, 54209
CATEGORIES:Concert,Midsummer's Music
END:VEVENT
BEGIN:VEVENT
DTSTART;TZID=America/Chicago:20220705T190000
DTEND;TZID=America/Chicago:20220705T213000
DTSTAMP:20260424T075546
CREATED:20220427T110003Z
LAST-MODIFIED:20251229T195926Z
UID:8915-1657047600-1657056600@www.midsummersmusic.com
SUMMARY:Mozart & Healy • Hope United Church of Christ
DESCRIPTION:Trio in E-flat Major (“Kegelstatt”)\, K.498 • Wolfgang Amadeus Mozart\nClarinet\, Viola\, and Piano \nTrio (2022) • Will Healy\nClarinet\, Viola\, and Piano \nPiano Concerto No. 14 in E-flat Major\, K.449 (arr. Mozart) • Wolfgang Amadeus Mozart\nPiano and String Quartet
URL:https://www.midsummersmusic.com/event/mozart-healy-hope-united/
LOCATION:Hope United Church of Christ\, 141 S 12th Ave.\, Sturgeon Bay\, WI\, 54235\, United States
CATEGORIES:Concert,Midsummer's Music
END:VEVENT
BEGIN:VEVENT
DTSTART;TZID=America/Chicago:20220703T150000
DTEND;TZID=America/Chicago:20220703T173000
DTSTAMP:20260424T075546
CREATED:20220427T110022Z
LAST-MODIFIED:20251229T195926Z
UID:8912-1656860400-1656869400@www.midsummersmusic.com
SUMMARY:Mozart & Healy • St. Luke's Episcopal Church
DESCRIPTION:Trio in E-flat Major (“Kegelstatt”)\, K.498 • Wolfgang Amadeus Mozart\nClarinet\, Viola\, and Piano \nTrio (2022) • Will Healy\nClarinet\, Viola\, and Piano \nPiano Concerto No. 14 in E-flat Major\, K.449 (arr. Mozart) • Wolfgang Amadeus Mozart\nPiano and String Quartet
URL:https://www.midsummersmusic.com/event/mozart-healy-venue-tbd/
LOCATION:St. Luke’s Episcopal Church\, 2336 Canterbury Ln\, Sister Bay\, WI\, 54234
CATEGORIES:Concert,Midsummer's Music
END:VEVENT
BEGIN:VEVENT
DTSTART;TZID=America/Chicago:20220702T190000
DTEND;TZID=America/Chicago:20220702T213000
DTSTAMP:20260424T075546
CREATED:20220427T110054Z
LAST-MODIFIED:20251229T195926Z
UID:8910-1656788400-1656797400@www.midsummersmusic.com
SUMMARY:Mozart & Healy • Kress Pavilion
DESCRIPTION:Trio in E-flat Major (“Kegelstatt”)\, K.498 • Wolfgang Amadeus Mozart\nClarinet\, Viola\, and Piano \nTrio (2022) • Will Healy\nClarinet\, Viola\, and Piano \nPiano Concerto No. 14 in E-flat Major\, K.449 (arr. Mozart) • Wolfgang Amadeus Mozart\nPiano and String Quartet
URL:https://www.midsummersmusic.com/event/mozart-healy-kress-pavilion/
LOCATION:Donald and Carol Kress Pavilion\, 7845 Church St.\, Egg Harbor\, WI\, 54209
CATEGORIES:Concert,Midsummer's Music
END:VEVENT
BEGIN:VEVENT
DTSTART;TZID=America/Chicago:20220701T190000
DTEND;TZID=America/Chicago:20220701T213000
DTSTAMP:20260424T075546
CREATED:20220427T110016Z
LAST-MODIFIED:20251229T195926Z
UID:8906-1656702000-1656711000@www.midsummersmusic.com
SUMMARY:Mozart & Healy • Björklunden
DESCRIPTION:Trio in E-flat Major (“Kegelstatt”)\, K.498 • Wolfgang Amadeus Mozart\nClarinet\, Viola\, and Piano \nTrio (2022) • Will Healy\nClarinet\, Viola\, and Piano \nPiano Concerto No. 14 in E-flat Major\, K.449 (arr. Mozart) • Wolfgang Amadeus Mozart\nPiano and String Quartet
URL:https://www.midsummersmusic.com/event/mozart-healy-bjorklunden/
LOCATION:Björklunden – Vail Hall\, 7590 Boynton Ln\, Baileys Harbor\, WI\, 54202
CATEGORIES:Concert,Midsummer's Music
END:VEVENT
BEGIN:VEVENT
DTSTART;TZID=America/Chicago:20220623T190000
DTEND;TZID=America/Chicago:20220623T210000
DTSTAMP:20260424T075546
CREATED:20220427T110023Z
LAST-MODIFIED:20251229T195926Z
UID:8883-1656010800-1656018000@www.midsummersmusic.com
SUMMARY:English Connections • Kress Pavilion
DESCRIPTION:Quartet No. 1\, “Calvary” (1956) • Coleridge-Taylor Perkinson\nString Quartet \nPhantasy Quintet (1912) • Ralph Vaughn Williams\nTwo Violins\, Two Violas\, and Cello \nQuintet No. 1 in F Major\, Op. 85 • Charles Villiers Stanford\nTwo Violins\, Two Violas\, and Cello
URL:https://www.midsummersmusic.com/event/english-connections-kress/
LOCATION:Donald and Carol Kress Pavilion\, 7845 Church St.\, Egg Harbor\, WI\, 54209
CATEGORIES:Concert,Midsummer's Music
END:VEVENT
BEGIN:VEVENT
DTSTART;TZID=America/Chicago:20220621T170000
DTEND;TZID=America/Chicago:20220621T213000
DTSTAMP:20260424T075546
CREATED:20220427T110001Z
LAST-MODIFIED:20251229T195926Z
UID:8879-1655830800-1655847000@www.midsummersmusic.com
SUMMARY:English Connections • Fish Creek Historic Town Hall
DESCRIPTION:Quartet No. 1\, “Calvary” (1956) • Coleridge-Taylor Perkinson\nString Quartet \nPhantasy Quintet (1912) • Ralph Vaughn Williams\nTwo Violins\, Two Violas\, and Cello \nQuintet No. 1 in F Major\, Op. 85 • Charles Villiers Stanford\nTwo Violins\, Two Violas\, and Cello \nThe optional\, post-concert dinner at Alexander’s in Fish Creek has limited seating. Advance reservations are required for the concert-and-dinner package. \nConcert only: $35\nConcert and Dinner: $85 — SOLD  OUT
URL:https://www.midsummersmusic.com/event/english-connections-fish-creek/
LOCATION:Old Gibraltar Town Hall\, 4176 Maple St\, Fish Creek\, WI\, 54212
CATEGORIES:Concert,Midsummer's Music
END:VEVENT
BEGIN:VEVENT
DTSTART;TZID=America/Chicago:20220619T170000
DTEND;TZID=America/Chicago:20220619T193000
DTSTAMP:20260424T075546
CREATED:20220427T110019Z
LAST-MODIFIED:20251229T195926Z
UID:8874-1655658000-1655667000@www.midsummersmusic.com
SUMMARY:English Connections • Woodwalk Gallery
DESCRIPTION:Quartet No. 1\, “Calvary” (1956) • Coleridge-Taylor Perkinson\nString Quartet \nPhantasy Quintet (1912) • Ralph Vaughan Williams\nTwo Violins\, Two Violas\, and Cello \nQuintet No. 1 in F Major\, Op. 85 • Charles Villiers Stanford\nTwo Violins\, Two Violas\, and Cello \n  \nAll Woodwalk Gallery Concerts\, 5:00 pm\nBring your own picnic earlier and enjoy the beautifully landscaped gardens. Featured Woodwalk artists will give brief presentations and unveil a piece created for each of the four concerts. Please call Woodwalk Gallery in advance at (920) 629-4877 to reserve a table if you plan to bring a picnic.
URL:https://www.midsummersmusic.com/event/english-connections-woodwalk/
LOCATION:Woodwalk Gallery\, 6746 County Rd. G\, Egg Harbor\, WI\, 54209
CATEGORIES:Concert,Midsummer's Music
END:VEVENT
BEGIN:VEVENT
DTSTART;TZID=America/Chicago:20220616T190000
DTEND;TZID=America/Chicago:20220616T213000
DTSTAMP:20260424T075546
CREATED:20220427T110057Z
LAST-MODIFIED:20251229T200043Z
UID:8872-1655406000-1655415000@www.midsummersmusic.com
SUMMARY:English Connections • St. Luke's Episcopal Church
DESCRIPTION:Quartet No. 1\, “Calvary” (1956) • Coleridge-Taylor Perkinson\nString Quartet \nPhantasy Quintet (1912) • Ralph Vaughan Williams\nTwo Violins\, Two Violas\, and Cello \nQuintet No. 1 in F Major\, Op. 85 • Charles Villiers Stanford\nTwo Violins\, Two Violas\, and Cello
URL:https://www.midsummersmusic.com/event/english-connections/
LOCATION:St. Luke’s Episcopal Church\, 2336 Canterbury Ln\, Sister Bay\, WI\, 54234
CATEGORIES:Concert,Midsummer's Music
END:VEVENT
BEGIN:VEVENT
DTSTART;TZID=America/Chicago:20220614T190000
DTEND;TZID=America/Chicago:20220614T213000
DTSTAMP:20260424T075546
CREATED:20220427T110047Z
LAST-MODIFIED:20251229T200043Z
UID:8850-1655233200-1655242200@www.midsummersmusic.com
SUMMARY:Best of the Unknown Greats: Kiel & Raff • St. Luke's Episcopal Church
DESCRIPTION:Quartet No. 3 in G Major\, Op. 50 • Friedrich Kiel\nPiano\, Violin\, Viola\, and Cello \nQuartet No. 2 in C Minor\, Op. 202 • Joachim Raff\nPiano\, Violin\, Viola\, and Cello
URL:https://www.midsummersmusic.com/event/unknown-greats-kiel-raff-3/
LOCATION:St. Luke’s Episcopal Church\, 2336 Canterbury Ln\, Sister Bay\, WI\, 54234
CATEGORIES:Concert,Midsummer's Music
END:VEVENT
BEGIN:VEVENT
DTSTART;TZID=America/Chicago:20220612T150000
DTEND;TZID=America/Chicago:20220612T173000
DTSTAMP:20260424T075546
CREATED:20220427T110025Z
LAST-MODIFIED:20251229T200043Z
UID:8848-1655046000-1655055000@www.midsummersmusic.com
SUMMARY:Best of the Unknown Greats: Kiel & Raff • Hope UCC
DESCRIPTION:Quartet No. 3 in G Major\, Op. 50 • Friedrich Kiel\nPiano\, Violin\, Viola\, and Cello \nQuartet No. 2 in C Minor\, Op. 202 • Joachim Raff\nPiano\, Violin\, Viola\, and Cello
URL:https://www.midsummersmusic.com/event/unknown-greats-kiel-raff-2/
LOCATION:Hope United Church of Christ\, 141 S 12th Ave.\, Sturgeon Bay\, WI\, 54235\, United States
CATEGORIES:Concert,Midsummer's Music
END:VEVENT
BEGIN:VEVENT
DTSTART;TZID=America/Chicago:20220611T190000
DTEND;TZID=America/Chicago:20220611T213000
DTSTAMP:20260424T075546
CREATED:20220427T110054Z
LAST-MODIFIED:20251229T200043Z
UID:8845-1654974000-1654983000@www.midsummersmusic.com
SUMMARY:Best of the Unknown Greats: Kiel & Raff • Björklunden
DESCRIPTION:Quartet No. 3 in G Major\, Op. 50 • Friedrich Kiel\nPiano\, Violin\, Viola\, and Cello \nQuartet No. 2 in C Minor\, Op. 202 • Joachim Raff\nPiano\, Violin\, Viola\, and Cello
URL:https://www.midsummersmusic.com/event/unknown-greats-kiel-raff/
LOCATION:Björklunden – Vail Hall\, 7590 Boynton Ln\, Baileys Harbor\, WI\, 54202
CATEGORIES:Concert,Midsummer's Music
END:VEVENT
BEGIN:VEVENT
DTSTART;TZID=America/Chicago:20220609T190000
DTEND;TZID=America/Chicago:20220609T220000
DTSTAMP:20260424T075546
CREATED:20220427T110001Z
LAST-MODIFIED:20251229T200043Z
UID:8842-1654801200-1654812000@www.midsummersmusic.com
SUMMARY:Opening Night • Kress Pavilion
DESCRIPTION:Dedicated in memory of Karl Klug\nCelebrate with Midsummer’s Music at our Opening Night Gala Thursday\, June 9\, at 7:00 pm at the Donald & Carol Kress Pavilion in Egg Harbor. \nWisconsin Public Radio host Norman Gilliland will be our master of ceremonies. \nThis magical evening begins with an Island Orchard Cider toast\, and a reception with the artists follows the concert\, compliments of the Board of Directors of Midsummer’s Music Ltd. \nSponsored by Lucy Klug and the Midsummer’s Music board. \nQuartet No. 3 in G Major\, Op. 50 • Friedrich Kiel\nPiano\, Violin\, Viola\, and Cello \nQuartet No. 2 in C Minor\, Op. 202 • Joachim Raff\nPiano\, Violin\, Viola\, and Cello \n 
URL:https://www.midsummersmusic.com/event/opening-night-kress-pavilion/
LOCATION:Donald and Carol Kress Pavilion\, 7845 Church St.\, Egg Harbor\, WI\, 54209
CATEGORIES:Concert,Midsummer's Music
END:VEVENT
BEGIN:VEVENT
DTSTART;TZID=America/Chicago:20220528T140000
DTEND;TZID=America/Chicago:20220528T153000
DTSTAMP:20260424T075546
CREATED:20220514T095322Z
LAST-MODIFIED:20251229T200129Z
UID:9100-1653746400-1653751800@www.midsummersmusic.com
SUMMARY:Music for Food Concert • Birch Creek
DESCRIPTION:Postponed from May 14 to May 28. \nThis is a free musical event featuring Allyson Fleck\, viola\, and Mona Christenson\, flute. \nWe ask that you bring a food item or make a monetary donation to our partnering pantry\, the Door County Food Pantry Coalition. \nThe need to address hunger insecurity has never been as great and the statistics are shocking. 1 in 7 people nationwide are food insecure. That means every sixth person you see walking in the city might be the one who is not sure if they or their children will partake in an evening meal. Music for Food exists because of the goodwill and faith the artists show\, and because of the love\, you show to those in need. \nProgram\nSelection’s from Hoffmeister’s Duo for Flute and Viola and other classical favorites.
URL:https://www.midsummersmusic.com/event/music-food-concert-birch-creek-2/
LOCATION:Birch Creek Music Performance Center – Juniper Hall\, 3821 County Rd. E\, Egg Harbor\, WI\, 54209
CATEGORIES:Concert,Midsummer's Music
END:VEVENT
END:VCALENDAR