BEGIN:VCALENDAR
VERSION:2.0
PRODID:-//Midsummer&#039;s Music and its affiliate, the Griffon String Quartet - ECPv6.15.20//NONSGML v1.0//EN
CALSCALE:GREGORIAN
METHOD:PUBLISH
X-WR-CALNAME:Midsummer&#039;s Music and its affiliate, the Griffon String Quartet
X-ORIGINAL-URL:https://www.midsummersmusic.com
X-WR-CALDESC:Events for Midsummer&#039;s Music and its affiliate, the Griffon String Quartet
REFRESH-INTERVAL;VALUE=DURATION:PT1H
X-Robots-Tag:noindex
X-PUBLISHED-TTL:PT1H
BEGIN:VTIMEZONE
TZID:America/Chicago
BEGIN:DAYLIGHT
TZOFFSETFROM:-0600
TZOFFSETTO:-0500
TZNAME:CDT
DTSTART:20250309T080000
END:DAYLIGHT
BEGIN:STANDARD
TZOFFSETFROM:-0500
TZOFFSETTO:-0600
TZNAME:CST
DTSTART:20251102T070000
END:STANDARD
BEGIN:DAYLIGHT
TZOFFSETFROM:-0600
TZOFFSETTO:-0500
TZNAME:CDT
DTSTART:20260308T080000
END:DAYLIGHT
BEGIN:STANDARD
TZOFFSETFROM:-0500
TZOFFSETTO:-0600
TZNAME:CST
DTSTART:20261101T070000
END:STANDARD
BEGIN:DAYLIGHT
TZOFFSETFROM:-0600
TZOFFSETTO:-0500
TZNAME:CDT
DTSTART:20270314T080000
END:DAYLIGHT
BEGIN:STANDARD
TZOFFSETFROM:-0500
TZOFFSETTO:-0600
TZNAME:CST
DTSTART:20271107T070000
END:STANDARD
END:VTIMEZONE
BEGIN:VEVENT
DTSTART;TZID=America/Chicago:20260801T190000
DTEND;TZID=America/Chicago:20260801T210000
DTSTAMP:20260423T181000
CREATED:20260417T133229Z
LAST-MODIFIED:20260417T141342Z
UID:14722-1785610800-1785618000@www.midsummersmusic.com
SUMMARY:Composing in Color - Salon
DESCRIPTION:Colorful\, Evocative\, Scintillating! Harpist Amanda Beranek joins with our strings and winds in four enchanting works that will take you far away and bring you back a changed person! The pulsing rhythms\, kaleidoscopic hues\, and swirling melodies will leave you exhilarated and enraptured. \nDanse sacrée et profane (1904) – Claude Debussy (1862-1918)\nHarp and String Quartet\nDanse sacrée: Très modèrè\nDanse profane: Modèrè \nConcerto (Septet)\, GP 337 (1935) – Arnold Bax (1885-1953)\nHarp\, Flute\, Oboe\, and String Quartet\nAllegro moderato\nCavatino: Lento\nModerato giocoso \nIntermission \nSuite en Rocaille\, Op. 84 – Florent Schmitt (1870-1958)\nHarp\, Flute\, Violin\, Viola\, and Cello\nSans hâte\nAnimé\nSans lenteur\nVif \nIntroduction and Allegro (1905) – Maurice Ravel (1875-1937)\nHarp\, Flute\, Clarinet\, and String Quartet\nTrès lent; Allegro \nSalon concerts offer an intimate\, in-home musical experience. We encourage guests to arrive between 6:00 and 6:30 PM to allow time for parking\, gathering\, and seating. The performance will begin at 7:00 PM. Following the performance\, guests are warmly invited to enjoy a reception and conversation with the musicians. \nParking might be limited depending on the venue. When necessary\, we offer shuttle services\, parking attendants\, or signage to assist you. If you need accessible parking\, please inform our staff in advance\, and we will do our best to accommodate you. \nReserve Tickets
URL:https://www.midsummersmusic.com/event/composing-in-color-salon/
CATEGORIES:Concert,Midsummer's Music
END:VEVENT
BEGIN:VEVENT
DTSTART;TZID=America/Chicago:20260802T160000
DTEND;TZID=America/Chicago:20260802T180000
DTSTAMP:20260423T181000
CREATED:20260417T133229Z
LAST-MODIFIED:20260417T141348Z
UID:14724-1785686400-1785693600@www.midsummersmusic.com
SUMMARY:Composing in Color
DESCRIPTION:Colorful\, Evocative\, Scintillating! Harpist Amanda Beranek joins with our strings and winds in four enchanting works that will take you far away and bring you back a changed person! The pulsing rhythms\, kaleidoscopic hues\, and swirling melodies will leave you exhilarated and enraptured. \nDanse sacrée et profane (1904) – Claude Debussy (1862-1918)\nHarp and String Quartet\nDanse sacrée: Très modèrè\nDanse profane: Modèrè \nConcerto (Septet)\, GP 337 (1935) – Arnold Bax (1885-1953)\nHarp\, Flute\, Oboe\, and String Quartet\nAllegro moderato\nCavatino: Lento\nModerato giocoso \nIntermission \nSuite en Rocaille\, Op. 84 – Florent Schmitt (1870-1958)\nHarp\, Flute\, Violin\, Viola\, and Cello\nSans hâte\nAnimé\nSans lenteur\nVif \nIntroduction and Allegro (1905) – Maurice Ravel (1875-1937)\nHarp\, Flute\, Clarinet\, and String Quartet\nTrès lent; Allegro \nReserve Tickets
URL:https://www.midsummersmusic.com/event/composing-in-color/
LOCATION:Donald and Carol Kress Pavilion\, 7845 Church St.\, Egg Harbor\, WI\, 54209
CATEGORIES:Concert,Midsummer's Music
END:VEVENT
BEGIN:VEVENT
DTSTART;TZID=America/Chicago:20260823T160000
DTEND;TZID=America/Chicago:20260823T180000
DTSTAMP:20260423T181000
CREATED:20260417T133229Z
LAST-MODIFIED:20260417T141547Z
UID:14726-1787500800-1787508000@www.midsummersmusic.com
SUMMARY:The Poetry of David Perry
DESCRIPTION:One of the country’s very finest violinists\, our own David Perry\, brings us one of the great orchestral solo works\, Ernest Chausson’s Poème\, in a special chamber music version the composer himself created. David’s colleague in the Pro Arte Quartet\, violist Sally Chisholm\, introduces the program with Turina’s evocative Scène Andalouse. This French/Spanish flavored program culminates with Fauré’s brilliant masterpiece\, the Piano Quartet No. 1 joined by pianist Jeannie Yu. A star-embedded program! \nScène Andalouse\, Op. 7 – Joaquin Turina (1882-1949)\nSolo Viola\, String Quartet\, and Piano\nCrépuscule du soir\nA la fenêtre \nPoème\, Op. 25 – Ernest Chausson (1855-1899)\nSolo Violin\, String Quartet\, and Piano\nLento e misterioso \nIntermission \nQuartet No. 1 in C Minor\, Op. 15 – Gabriel Fauré (1845-1924)\nPiano\, Violin\, Viola\, and Cello\nAllegro molto moderato\nScherzo: Allegro vivo\nAdagio\nAllegro molto \nReserve Tickets
URL:https://www.midsummersmusic.com/event/the-poetry-of-david-perry-4/
LOCATION:Donald and Carol Kress Pavilion\, 7845 Church St.\, Egg Harbor\, WI\, 54209
CATEGORIES:Concert,Midsummer's Music
END:VEVENT
BEGIN:VEVENT
DTSTART;TZID=America/Chicago:20260828T190000
DTEND;TZID=America/Chicago:20260828T210000
DTSTAMP:20260423T181000
CREATED:20260417T133229Z
LAST-MODIFIED:20260417T141634Z
UID:14728-1787943600-1787950800@www.midsummersmusic.com
SUMMARY:The Poetry of David Perry
DESCRIPTION:One of the country’s very finest violinists\, our own David Perry\, brings us one of the great orchestral solo works\, Ernest Chausson’s Poème\, in a special chamber music version the composer himself created. David’s colleague in the Pro Arte Quartet\, violist Sally Chisholm\, introduces the program with Turina’s evocative Scène Andalouse. This French/Spanish flavored program culminates with Fauré’s brilliant masterpiece\, the Piano Quartet No. 1 joined by pianist Jeannie Yu. A star-embedded program! \nScène Andalouse\, Op. 7 – Joaquin Turina (1882-1949)\nSolo Viola\, String Quartet\, and Piano\nCrépuscule du soir\nA la fenêtre \nPoème\, Op. 25 – Ernest Chausson (1855-1899)\nSolo Violin\, String Quartet\, and Piano\nLento e misterioso \nIntermission \nQuartet No. 1 in C Minor\, Op. 15 – Gabriel Fauré (1845-1924)\nPiano\, Violin\, Viola\, and Cello\nAllegro molto moderato\nScherzo: Allegro vivo\nAdagio\nAllegro molto \nReserve Tickets
URL:https://www.midsummersmusic.com/event/the-poetry-of-david-perry-3/
LOCATION:MUSE Sturgeon Bay\, 330 Jefferson St.\, Sturgeon Bay\, WI\, 54235
CATEGORIES:Concert,Midsummer's Music
END:VEVENT
BEGIN:VEVENT
DTSTART;TZID=America/Chicago:20260829T190000
DTEND;TZID=America/Chicago:20260829T210000
DTSTAMP:20260423T181000
CREATED:20260417T133229Z
LAST-MODIFIED:20260417T141640Z
UID:14730-1788030000-1788037200@www.midsummersmusic.com
SUMMARY:The Poetry of David Perry
DESCRIPTION:One of the country’s very finest violinists\, our own David Perry\, brings us one of the great orchestral solo works\, Ernest Chausson’s Poème\, in a special chamber music version the composer himself created. David’s colleague in the Pro Arte Quartet\, violist Sally Chisholm\, introduces the program with Turina’s evocative Scène Andalouse. This French/Spanish flavored program culminates with Fauré’s brilliant masterpiece\, the Piano Quartet No. 1 joined by pianist Jeannie Yu. A star-embedded program! \nScène Andalouse\, Op. 7 – Joaquin Turina (1882-1949)\nSolo Viola\, String Quartet\, and Piano\nCrépuscule du soir\nA la fenêtre \nPoème\, Op. 25 – Ernest Chausson (1855-1899)\nSolo Violin\, String Quartet\, and Piano\nLento e misterioso \nIntermission \nQuartet No. 1 in C Minor\, Op. 15 – Gabriel Fauré (1845-1924)\nPiano\, Violin\, Viola\, and Cello\nAllegro molto moderato\nScherzo: Allegro vivo\nAdagio\nAllegro molto \nReserve Tickets
URL:https://www.midsummersmusic.com/event/the-poetry-of-david-perry-2/
LOCATION:St. Luke’s Episcopal Church\, 2336 Canterbury Ln\, Sister Bay\, WI\, 54234
CATEGORIES:Concert,Midsummer's Music
END:VEVENT
BEGIN:VEVENT
DTSTART;TZID=America/Chicago:20260830T160000
DTEND;TZID=America/Chicago:20260830T180000
DTSTAMP:20260423T181000
CREATED:20260417T133229Z
LAST-MODIFIED:20260417T141845Z
UID:14732-1788105600-1788112800@www.midsummersmusic.com
SUMMARY:Tchaikovsky\, Souvenir de Florence
DESCRIPTION:Everyone loves Tchaikovsky\, and his String Sextet inspired by Florence\, Italy is as memorable as it gets. Violinist David Perry leads this program of rich string sounds\, which begins with another resounding work for the same combination by the dramatic and colorful Hungarian Composer\, Ernst von Dohnányi. \nSextet in B-flat Major\, W080 – Ernst von Dohnányi (1877-1960)\nTwo Violins\, Two Violas\, and Two Cellos\nAllegro ma tranquillo\nScherzo: Allegro vivace\nAdagio quasi andante\nFinale: Animato \nIntermission \nSouvenir de Florence\, Op. 70 – Pyotr Ilyich Tchaikovsky (1840-1893)\nTwo Violins\, Two Violas\, and Two Cellos\nAllegro con spirito\nAdagio cantabile e con moto\nAllegretto moderato\nAllegro vivace \nReserve Tickets
URL:https://www.midsummersmusic.com/event/tchaikovsky-souvenir-de-florence-3/
LOCATION:Donald and Carol Kress Pavilion\, 7845 Church St.\, Egg Harbor\, WI\, 54209
CATEGORIES:Concert,Midsummer's Music
END:VEVENT
END:VCALENDAR