BEGIN:VCALENDAR
VERSION:2.0
PRODID:-//Midsummer&#039;s Music and its affiliate, the Griffon String Quartet - ECPv6.15.20//NONSGML v1.0//EN
CALSCALE:GREGORIAN
METHOD:PUBLISH
X-WR-CALNAME:Midsummer&#039;s Music and its affiliate, the Griffon String Quartet
X-ORIGINAL-URL:https://www.midsummersmusic.com
X-WR-CALDESC:Events for Midsummer&#039;s Music and its affiliate, the Griffon String Quartet
REFRESH-INTERVAL;VALUE=DURATION:PT1H
X-Robots-Tag:noindex
X-PUBLISHED-TTL:PT1H
BEGIN:VTIMEZONE
TZID:America/Chicago
BEGIN:DAYLIGHT
TZOFFSETFROM:-0600
TZOFFSETTO:-0500
TZNAME:CDT
DTSTART:20250309T080000
END:DAYLIGHT
BEGIN:STANDARD
TZOFFSETFROM:-0500
TZOFFSETTO:-0600
TZNAME:CST
DTSTART:20251102T070000
END:STANDARD
BEGIN:DAYLIGHT
TZOFFSETFROM:-0600
TZOFFSETTO:-0500
TZNAME:CDT
DTSTART:20260308T080000
END:DAYLIGHT
BEGIN:STANDARD
TZOFFSETFROM:-0500
TZOFFSETTO:-0600
TZNAME:CST
DTSTART:20261101T070000
END:STANDARD
BEGIN:DAYLIGHT
TZOFFSETFROM:-0600
TZOFFSETTO:-0500
TZNAME:CDT
DTSTART:20270314T080000
END:DAYLIGHT
BEGIN:STANDARD
TZOFFSETFROM:-0500
TZOFFSETTO:-0600
TZNAME:CST
DTSTART:20271107T070000
END:STANDARD
END:VTIMEZONE
BEGIN:VEVENT
DTSTART;TZID=America/Chicago:20260517T150000
DTEND;TZID=America/Chicago:20260517T170000
DTSTAMP:20260423T130542
CREATED:20260413T161357Z
LAST-MODIFIED:20260413T161357Z
UID:14789-1779030000-1779037200@www.midsummersmusic.com
SUMMARY:Notes & Vintages: Music for Cello & Piano Paired with Wine
DESCRIPTION:Experience an afternoon of sensory delight at Notes & Vintages: Music for Cello & Piano Paired with Wine. Cellist Jesse Nummelin and pianist Rie Tanaka bring this program to life with music by Scarlatti\, Bonis\, Chaminade\, and Mendelssohn\, each thoughtfully paired with three standout wines selected by Rian Hill of Left Bank Wine & Spirits. You’ll enjoy a progression from sparkling to white to red\, with each pour reflecting the mood and character of the music. Paired with delicious bites from Mojo Restaurant Group\, this is a welcoming\, intimate experience designed to be savored. Perfect for music lovers\, wine enthusiasts\, or anyone looking for a unique way to spend a spring afternoon! \nReserve Tickets
URL:https://www.midsummersmusic.com/event/notes-vintages-music-for-cello-piano-paired-with-wine/
LOCATION:MUSE Sturgeon Bay\, 330 Jefferson St.\, Sturgeon Bay\, WI\, 54235
CATEGORIES:Concert,Midsummer's Music
END:VEVENT
END:VCALENDAR