BEGIN:VCALENDAR
VERSION:2.0
PRODID:-//Midsummer&#039;s Music and its affiliate, the Griffon String Quartet - ECPv6.15.20//NONSGML v1.0//EN
CALSCALE:GREGORIAN
METHOD:PUBLISH
X-WR-CALNAME:Midsummer&#039;s Music and its affiliate, the Griffon String Quartet
X-ORIGINAL-URL:https://www.midsummersmusic.com
X-WR-CALDESC:Events for Midsummer&#039;s Music and its affiliate, the Griffon String Quartet
REFRESH-INTERVAL;VALUE=DURATION:PT1H
X-Robots-Tag:noindex
X-PUBLISHED-TTL:PT1H
BEGIN:VTIMEZONE
TZID:America/Chicago
BEGIN:DAYLIGHT
TZOFFSETFROM:-0600
TZOFFSETTO:-0500
TZNAME:CDT
DTSTART:20240310T080000
END:DAYLIGHT
BEGIN:STANDARD
TZOFFSETFROM:-0500
TZOFFSETTO:-0600
TZNAME:CST
DTSTART:20241103T070000
END:STANDARD
BEGIN:DAYLIGHT
TZOFFSETFROM:-0600
TZOFFSETTO:-0500
TZNAME:CDT
DTSTART:20250309T080000
END:DAYLIGHT
BEGIN:STANDARD
TZOFFSETFROM:-0500
TZOFFSETTO:-0600
TZNAME:CST
DTSTART:20251102T070000
END:STANDARD
BEGIN:DAYLIGHT
TZOFFSETFROM:-0600
TZOFFSETTO:-0500
TZNAME:CDT
DTSTART:20260308T080000
END:DAYLIGHT
BEGIN:STANDARD
TZOFFSETFROM:-0500
TZOFFSETTO:-0600
TZNAME:CST
DTSTART:20261101T070000
END:STANDARD
END:VTIMEZONE
BEGIN:VEVENT
DTSTART;TZID=America/Chicago:20251004T190000
DTEND;TZID=America/Chicago:20251004T210000
DTSTAMP:20260423T222417
CREATED:20250404T141523Z
LAST-MODIFIED:20251229T191543Z
UID:13276-1759604400-1759611600@www.midsummersmusic.com
SUMMARY:Autumn Music Fest • MUSE\, Sturgeon Bay
DESCRIPTION:Fanny Mendelssohn: The Year in Music\nExperience an unforgettable evening of passion\, elegance\, and musical brilliance as acclaimed pianist Kate Boyd joins forces with the renowned Griffon String Quartet. Kate brings to life Das Jahr\, H. 385—Fanny Mendelssohn’s evocative and rarely performed masterpiece that captures the emotional essence of the changing seasons. The program also features Mozart’s beloved Piano Quartet No. 2\, a work of sparkling beauty and profound expression. This powerful collaboration promises to uplift and inspire\, celebrating the timeless artistry of two extraordinary composers brought vividly to life by exceptional performers. \nReserve Tickets
URL:https://www.midsummersmusic.com/event/autumn-music-fest-muse-sturgeon-bay-2/
LOCATION:MUSE Sturgeon Bay\, 330 Jefferson St.\, Sturgeon Bay\, WI\, 54235
CATEGORIES:Concert,Midsummer's Music
ATTACH;FMTTYPE=image/png:https://www.midsummersmusic.com/wp-content/uploads/2025/04/amf-calendar-featured-image-1-scaled.png
END:VEVENT
BEGIN:VEVENT
DTSTART;TZID=America/Chicago:20251005T170000
DTEND;TZID=America/Chicago:20251005T190000
DTSTAMP:20260423T222417
CREATED:20250404T141528Z
LAST-MODIFIED:20251229T191535Z
UID:13278-1759683600-1759690800@www.midsummersmusic.com
SUMMARY:Autumn Music Fest • Kress Pavilion\, Egg Harbor
DESCRIPTION:Fanny Mendelssohn: The Year in Music\nExperience an unforgettable evening of passion\, elegance\, and musical brilliance as acclaimed pianist Kate Boyd joins forces with the renowned Griffon String Quartet. Kate brings to life Das Jahr\, H. 385—Fanny Mendelssohn’s evocative and rarely performed masterpiece that captures the emotional essence of the changing seasons. The program also features Mozart’s beloved Piano Quartet No. 2\, a work of sparkling beauty and profound expression. This powerful collaboration promises to uplift and inspire\, celebrating the timeless artistry of two extraordinary composers brought vividly to life by exceptional performers. \nReserve Tickets
URL:https://www.midsummersmusic.com/event/autumn-music-fest-kress-pavilion-egg-harbor-2/
LOCATION:Donald and Carol Kress Pavilion\, 7845 Church St.\, Egg Harbor\, WI\, 54209
CATEGORIES:Concert,Midsummer's Music
ATTACH;FMTTYPE=image/png:https://www.midsummersmusic.com/wp-content/uploads/2025/04/amf-calendar-featured-image-1-scaled.png
END:VEVENT
BEGIN:VEVENT
DTSTART;TZID=America/Chicago:20251011T190000
DTEND;TZID=America/Chicago:20251011T210000
DTSTAMP:20260423T222417
CREATED:20250404T141539Z
LAST-MODIFIED:20251229T191522Z
UID:13280-1760209200-1760216400@www.midsummersmusic.com
SUMMARY:Autumn Music Fest - Pro Arte Quartet • MUSE\, Sturgeon Bay
DESCRIPTION:Haydn and Beethoven: Foundations and Revolutions\nEnjoy musical brilliance as Wisconsin’s own critically acclaimed Pro Arte Quartet takes the stage in a stirring celebration of masterful string quartet repertoire. This inspiring concert brings together the elegance of Haydn’s String Quartet in C Major\, Op. 50\, No. 2\, the poignant beauty of George Walker’s Lyric for Strings\, and the bold innovation of Beethoven’s String Quartet No. 7\, Op. 59\, No. 1. Join us for a powerful journey through time and emotion\, performed by one of the nation’s most esteemed ensembles. \nReserve Tickets
URL:https://www.midsummersmusic.com/event/autumn-music-fest-pro-arte-quartet-muse-sturgeon-bay/
LOCATION:MUSE Sturgeon Bay\, 330 Jefferson St.\, Sturgeon Bay\, WI\, 54235
CATEGORIES:Concert,Midsummer's Music
ATTACH;FMTTYPE=image/png:https://www.midsummersmusic.com/wp-content/uploads/2025/04/amf-calendar-featured-image-1-scaled.png
END:VEVENT
BEGIN:VEVENT
DTSTART;TZID=America/Chicago:20251012T170000
DTEND;TZID=America/Chicago:20251012T190000
DTSTAMP:20260423T222417
CREATED:20250404T141546Z
LAST-MODIFIED:20251229T191512Z
UID:13282-1760288400-1760295600@www.midsummersmusic.com
SUMMARY:Autumn Music Fest - Pro Arte Quartet • Woodwalk Gallery\, Egg Harbor
DESCRIPTION:Haydn and Beethoven: Foundations and Revolutions\nEnjoy musical brilliance as Wisconsin’s own critically acclaimed Pro Arte Quartet takes the stage in a stirring celebration of masterful string quartet repertoire. This inspiring concert brings together the elegance of Haydn’s String Quartet in C Major\, Op. 50\, No. 2\, the poignant beauty of George Walker’s Lyric for Strings\, and the bold innovation of Beethoven’s String Quartet No. 7\, Op. 59\, No. 1. Join us for a powerful journey through time and emotion\, performed by one of the nation’s most esteemed ensembles. \nReserve Tickets
URL:https://www.midsummersmusic.com/event/autumn-music-fest-pro-arte-quartet-woodwalk-gallery-egg-harbor/
LOCATION:Woodwalk Gallery\, 6746 County Rd. G\, Egg Harbor\, WI\, 54209
CATEGORIES:Concert,Midsummer's Music
ATTACH;FMTTYPE=image/png:https://www.midsummersmusic.com/wp-content/uploads/2025/04/amf-calendar-featured-image-1-scaled.png
END:VEVENT
BEGIN:VEVENT
DTSTART;TZID=America/Chicago:20251018T190000
DTEND;TZID=America/Chicago:20251018T210000
DTSTAMP:20260423T222417
CREATED:20250404T141552Z
LAST-MODIFIED:20251014T134634Z
UID:13284-1760814000-1760821200@www.midsummersmusic.com
SUMMARY:Autumn Music Fest - Griffon String Quartet • MUSE\, Sturgeon Bay
DESCRIPTION:Past\, Present\, Passion: A Musical Journey\n\n\n\n\n\n\n\nPrepare to be inspired by the dynamic artistry of the Griffon String Quartet as they present a compelling program that bridges tradition and innovation. From the refined elegance of Haydn’s String Quartet\, Op. 76\, No. 5 to the vibrant\, rhythmic energy of Jessie Montgomery’s Voodoo Dolls\, and the passionate intensity of Brahms’ String Quartet No. 1 in C Minor\, Op. 51\, this concert promises an unforgettable journey through the power and versatility of the string quartet. Let the Griffon String Quartet ignite your imagination and stir your soul with a performance that celebrates the depth and diversity of chamber music. \n\n\n\n\n\n\n\nReserve Free Tickets
URL:https://www.midsummersmusic.com/event/autumn-music-fest-griffon-string-quartet-muse-sturgeon-bay/
LOCATION:MUSE Sturgeon Bay\, 330 Jefferson St.\, Sturgeon Bay\, WI\, 54235
CATEGORIES:Community-Embedded,Concert,Griffon String Quartet,Midsummer's Music
ATTACH;FMTTYPE=image/png:https://www.midsummersmusic.com/wp-content/uploads/2025/04/amf-calendar-featured-image-1-scaled.png
END:VEVENT
BEGIN:VEVENT
DTSTART;TZID=America/Chicago:20251019T170000
DTEND;TZID=America/Chicago:20251019T190000
DTSTAMP:20260423T222417
CREATED:20250404T131517Z
LAST-MODIFIED:20251014T134616Z
UID:13286-1760893200-1760900400@www.midsummersmusic.com
SUMMARY:Autumn Music Fest - Griffon String Quartet • Woodwalk Gallery\, Egg Harbor
DESCRIPTION:Past\, Present\, Passion: A Musical Journey\n\n\n\n\n\n\n\nPrepare to be inspired by the dynamic artistry of the Griffon String Quartet as they present a compelling program that bridges tradition and innovation. From the refined elegance of Haydn’s String Quartet\, Op. 76\, No. 5 to the vibrant\, rhythmic energy of Jessie Montgomery’s Voodoo Dolls\, and the passionate intensity of Brahms’ String Quartet No. 1 in C Minor\, Op. 51\, this concert promises an unforgettable journey through the power and versatility of the string quartet. Let the Griffon String Quartet ignite your imagination and stir your soul with a performance that celebrates the depth and diversity of chamber music. \n\n\n\n\n\n\n\nReserve Free Tickets
URL:https://www.midsummersmusic.com/event/autumn-music-fest-griffon-string-quartet-woodwalk-gallery-egg-harbor/
LOCATION:Woodwalk Gallery\, 6746 County Rd. G\, Egg Harbor\, WI\, 54209
CATEGORIES:Community-Embedded,Concert,Griffon String Quartet,Midsummer's Music
ATTACH;FMTTYPE=image/png:https://www.midsummersmusic.com/wp-content/uploads/2025/04/amf-calendar-featured-image-1-scaled.png
END:VEVENT
END:VCALENDAR