BEGIN:VCALENDAR
VERSION:2.0
PRODID:-//Midsummer&#039;s Music and its affiliate, the Griffon String Quartet - ECPv6.15.20//NONSGML v1.0//EN
CALSCALE:GREGORIAN
METHOD:PUBLISH
X-WR-CALNAME:Midsummer&#039;s Music and its affiliate, the Griffon String Quartet
X-ORIGINAL-URL:https://www.midsummersmusic.com
X-WR-CALDESC:Events for Midsummer&#039;s Music and its affiliate, the Griffon String Quartet
REFRESH-INTERVAL;VALUE=DURATION:PT1H
X-Robots-Tag:noindex
X-PUBLISHED-TTL:PT1H
BEGIN:VTIMEZONE
TZID:America/Chicago
BEGIN:DAYLIGHT
TZOFFSETFROM:-0600
TZOFFSETTO:-0500
TZNAME:CDT
DTSTART:20240310T080000
END:DAYLIGHT
BEGIN:STANDARD
TZOFFSETFROM:-0500
TZOFFSETTO:-0600
TZNAME:CST
DTSTART:20241103T070000
END:STANDARD
BEGIN:DAYLIGHT
TZOFFSETFROM:-0600
TZOFFSETTO:-0500
TZNAME:CDT
DTSTART:20250309T080000
END:DAYLIGHT
BEGIN:STANDARD
TZOFFSETFROM:-0500
TZOFFSETTO:-0600
TZNAME:CST
DTSTART:20251102T070000
END:STANDARD
BEGIN:DAYLIGHT
TZOFFSETFROM:-0600
TZOFFSETTO:-0500
TZNAME:CDT
DTSTART:20260308T080000
END:DAYLIGHT
BEGIN:STANDARD
TZOFFSETFROM:-0500
TZOFFSETTO:-0600
TZNAME:CST
DTSTART:20261101T070000
END:STANDARD
END:VTIMEZONE
BEGIN:VEVENT
DTSTART;TZID=America/Chicago:20250612T190000
DTEND;TZID=America/Chicago:20250612T210000
DTSTAMP:20260424T050801
CREATED:20250130T160659Z
LAST-MODIFIED:20251229T192105Z
UID:12776-1749754800-1749762000@www.midsummersmusic.com
SUMMARY:The Romantic Era of the Schumanns
DESCRIPTION:The Schumann’s intense love story centered around the piano. Both studied piano with her father\, but he fought their eventual marriage. Friedrich Kalkbrenner was possibly the greatest pianist before Liszt. He moved in the same circles as the Schumanns. Jeannie Yu will bring these piano parts to life in scintillating fashion while David Perry’s violin will melt you with Clara’s opening Romance. \nThree Romances\, Op. 22 – Clara Schumann\nViolin and Piano \nSextet in G Major\, Op. 58 – Friedrich Kalkbrenner\nPiano\, Two Violins\, Viola\, Cello\, and Bass \nQuintet in E-flat Major\, Op. 44 – Robert Schumann\nPiano\, Two Violins\, Viola\, and Cello \nDavid Perry & Ann Palen\, Violins • Sally Chisholm\, Viola • Zou Zou Robidoux\, Cello • Kris Saebo\, Bass • Jeannie Yu\, Piano \nDavid is sponsored by the Nancy T. & David A. Borghesi Fund of the Community Foundation of the Lowcountry and Mary Hauser & Jerry Randall. Sally is sponsored by the Nancy T. and David A. Borghesi Fund. Kris is sponsored by James Goodwin. Jeannie is sponsored by Mary Hauser & Jerry Randall. \nThe Romantic Era of the Schumanns program is sponsored by the Gould Family Fund of the Door County Community Foundation. \nThis performance is sponsored by the Midsummer’s Music Board of Directors. \nReserve Tickets
URL:https://www.midsummersmusic.com/event/35th-anniversary-program-a1/
LOCATION:Donald and Carol Kress Pavilion\, 7845 Church St.\, Egg Harbor\, WI\, 54209
CATEGORIES:Concert,Midsummer's Music
ATTACH;FMTTYPE=image/jpeg:https://www.midsummersmusic.com/wp-content/uploads/2025/01/the-romantic-era-of-the-schumanns-calendar-featured-image-scaled.jpg
END:VEVENT
BEGIN:VEVENT
DTSTART;TZID=America/Chicago:20250614T190000
DTEND;TZID=America/Chicago:20250614T210000
DTSTAMP:20260424T050801
CREATED:20250130T160916Z
LAST-MODIFIED:20251229T192105Z
UID:12789-1749927600-1749934800@www.midsummersmusic.com
SUMMARY:The Romantic Era of the Schumanns
DESCRIPTION:The Schumann’s intense love story centered around the piano. Both studied piano with her father\, but he fought their eventual marriage. Friedrich Kalkbrenner was possibly the greatest pianist before Liszt. He moved in the same circles as the Schumanns. Jeannie Yu will bring these piano parts to life in scintillating fashion while David Perry’s violin will melt you with Clara’s opening Romance. \nThree Romances\, Op. 22 – Clara Schumann\nViolin and Piano \nSextet in G Major\, Op. 58 – Friedrich Kalkbrenner\nPiano\, Two Violins\, Viola\, Cello\, and Bass \nQuintet in E-flat Major\, Op. 44 – Robert Schumann\nPiano\, Two Violins\, Viola\, and Cello \nDavid Perry & Ann Palen\, Violins • Sally Chisholm\, Viola • Zou Zou Robidoux\, Cello • Kris Saebo\, Bass • Jeannie Yu\, Piano \nDavid is sponsored by the Nancy T. & David A. Borghesi Fund of the Community Foundation of the Lowcountry and Mary Hauser & Jerry Randall. Sally is sponsored by the Nancy T. and David A. Borghesi Fund. Kris is sponsored by James Goodwin. Jeannie is sponsored by Mary Hauser & Jerry Randall. \nThe Romantic Era of the Schumanns program is sponsored by the Gould Family Fund of the Door County Community Foundation. \nReserve Tickets
URL:https://www.midsummersmusic.com/event/35th-anniversary-program-a2/
LOCATION:St. Luke’s Episcopal Church\, 2336 Canterbury Ln\, Sister Bay\, WI\, 54234
CATEGORIES:Concert,Midsummer's Music
ATTACH;FMTTYPE=image/jpeg:https://www.midsummersmusic.com/wp-content/uploads/2025/01/the-romantic-era-of-the-schumanns-calendar-featured-image-scaled.jpg
END:VEVENT
BEGIN:VEVENT
DTSTART;TZID=America/Chicago:20250615T160000
DTEND;TZID=America/Chicago:20250615T180000
DTSTAMP:20260424T050801
CREATED:20250130T161127Z
LAST-MODIFIED:20251229T192105Z
UID:12791-1750003200-1750010400@www.midsummersmusic.com
SUMMARY:The Romantic Era of the Schumanns
DESCRIPTION:The Schumann’s intense love story centered around the piano. Both studied piano with her father\, but he fought their eventual marriage. Friedrich Kalkbrenner was possibly the greatest pianist before Liszt. He moved in the same circles as the Schumanns. Jeannie Yu will bring these piano parts to life in scintillating fashion while David Perry’s violin will melt you with Clara’s opening Romance. \nThree Romances\, Op. 22 – Clara Schumann\nViolin and Piano \nSextet in G Major\, Op. 58 – Friedrich Kalkbrenner\nPiano\, Two Violins\, Viola\, Cello\, and Bass \nQuintet in E-flat Major\, Op. 44 – Robert Schumann\nPiano\, Two Violins\, Viola\, and Cello \nDavid Perry & Ann Palen\, Violins • Sally Chisholm\, Viola • Zou Zou Robidoux\, Cello • Kris Saebo\, Bass • Jeannie Yu\, Piano \nDavid is sponsored by the Nancy T. & David A. Borghesi Fund of the Community Foundation of the Lowcountry and Mary Hauser & Jerry Randall. Sally is sponsored by the Nancy T. and David A. Borghesi Fund. Kris is sponsored by James Goodwin. Jeannie is sponsored by Mary Hauser & Jerry Randall. \nThe Romantic Era of the Schumanns program is sponsored by the Gould Family Fund of the Door County Community Foundation. \nThis performance is sponsored by Sandy Zingler. \nReserve Tickets
URL:https://www.midsummersmusic.com/event/35th-anniversary-program-a3/
LOCATION:MUSE Sturgeon Bay\, 330 Jefferson St.\, Sturgeon Bay\, WI\, 54235
CATEGORIES:Concert,Midsummer's Music
ATTACH;FMTTYPE=image/jpeg:https://www.midsummersmusic.com/wp-content/uploads/2025/01/the-romantic-era-of-the-schumanns-calendar-featured-image-scaled.jpg
END:VEVENT
BEGIN:VEVENT
DTSTART;TZID=America/Chicago:20250618T190000
DTEND;TZID=America/Chicago:20250618T210000
DTSTAMP:20260424T050801
CREATED:20250130T161246Z
LAST-MODIFIED:20251229T192105Z
UID:12793-1750273200-1750280400@www.midsummersmusic.com
SUMMARY:Mozart and Dvořák
DESCRIPTION:Two masterworks for strings by Mozart and Dvořák bookend this program. In between\, both programmatically and historically\, is Anton Reicha\, a friend of Beethoven’s who was born the same year. An important musical influence in the 19th century\, his brilliant Clarinet Quintet is a masterpiece and a wonderful showcase for the featured instrument. \nQuintet No. 6 in E-flat Major\, K. 614 – Wolfgang Amadeus Mozart\nTwo Violins\, Two Violas\, and Cello \nQuintet in B-flat Major\, Op. 89 – Anton Reicha\nClarinet\, Two Violins\, Viola\, and Cello \nString Sextet in A Major\, Op. 48 – Antonin Dvořák\nTwo Violins\, Two Violas\, and Two Cellos \nJJ Koh\, Clarinet • David Perry & Chris Bolduc\, Violins • Sally Chisholm & Allyson Fleck\, Violas • Zou Zou Robidoux & Ian Wasserman\, Cellos \nJJ is sponsored by Mary Pikul Anderson. David is sponsored by the Nancy T. & David A. Borghesi Fund of the Community Foundation of the Lowcountry and Mary Hauser & Jerry Randall. Sally is sponsored by the Nancy T. and David A. Borghesi Fund. Allyson is sponsored by Peter & Beverly Ann Conroy \nThis performance is sponsored by Bob & Alice Chrismer. \nReserve Tickets
URL:https://www.midsummersmusic.com/event/35th-anniversary-program-b1/
LOCATION:Björklunden – Vail Hall\, 7590 Boynton Ln\, Baileys Harbor\, WI\, 54202
CATEGORIES:Concert,Midsummer's Music
ATTACH;FMTTYPE=image/jpeg:https://www.midsummersmusic.com/wp-content/uploads/2025/01/mozart-and-dvorak-calendar-featured-image-scaled.jpg
END:VEVENT
BEGIN:VEVENT
DTSTART;TZID=America/Chicago:20250620T190000
DTEND;TZID=America/Chicago:20250620T210000
DTSTAMP:20260424T050801
CREATED:20250130T161333Z
LAST-MODIFIED:20251229T192105Z
UID:12795-1750446000-1750453200@www.midsummersmusic.com
SUMMARY:Mozart and Dvořák
DESCRIPTION:Two masterworks for strings by Mozart and Dvořák bookend this program. In between\, both programmatically and historically\, is Anton Reicha\, a friend of Beethoven’s who was born the same year. An important musical influence in the 19th century\, his brilliant Clarinet Quintet is a masterpiece and a wonderful showcase for the featured instrument. \nQuintet No. 6 in E-flat Major\, K. 614 – Wolfgang Amadeus Mozart\nTwo Violins\, Two Violas\, and Cello \nQuintet in B-flat Major\, Op. 89 – Anton Reicha\nClarinet\, Two Violins\, Viola\, and Cello \nString Sextet in A Major\, Op. 48 – Antonin Dvořák\nTwo Violins\, Two Violas\, and Two Cellos \nJJ Koh\, Clarinet • David Perry & Chris Bolduc\, Violins • Sally Chisholm & Allyson Fleck\, Violas • Zou Zou Robidoux & Ian Wasserman\, Cellos \nJJ is sponsored by Mary Pikul Anderson. David is sponsored by the Nancy T. & David A. Borghesi Fund of the Community Foundation of the Lowcountry and Mary Hauser & Jerry Randall. Sally is sponsored by the Nancy T. and David A. Borghesi Fund. Allyson is sponsored by Peter & Beverly Ann Conroy \nThis performance is sponsored by Friends of Jim Ingwersen in memory of Jim Ingwersen. \nReserve Tickets
URL:https://www.midsummersmusic.com/event/35th-anniversary-program-b2/
LOCATION:PenArt\, 3900 County F\, Fish Creek\, WI\, 54212
CATEGORIES:Concert,Midsummer's Music
ATTACH;FMTTYPE=image/jpeg:https://www.midsummersmusic.com/wp-content/uploads/2025/01/mozart-and-dvorak-calendar-featured-image-scaled.jpg
END:VEVENT
BEGIN:VEVENT
DTSTART;TZID=America/Chicago:20250622T160000
DTEND;TZID=America/Chicago:20250622T180000
DTSTAMP:20260424T050801
CREATED:20250130T161419Z
LAST-MODIFIED:20251229T192105Z
UID:12797-1750608000-1750615200@www.midsummersmusic.com
SUMMARY:Mozart and Dvořák
DESCRIPTION:Two masterworks for strings by Mozart and Dvořák bookend this program. In between\, both programmatically and historically\, is Anton Reicha\, a friend of Beethoven’s who was born the same year. An important musical influence in the 19th century\, his brilliant Clarinet Quintet is a masterpiece and a wonderful showcase for the featured instrument. \nQuintet No. 6 in E-flat Major\, K. 614 – Wolfgang Amadeus Mozart\nTwo Violins\, Two Violas\, and Cello \nQuintet in B-flat Major\, Op. 89 – Anton Reicha\nClarinet\, Two Violins\, Viola\, and Cello \nString Sextet in A Major\, Op. 48 – Antonin Dvořák\nTwo Violins\, Two Violas\, and Two Cellos \nJJ Koh\, Clarinet • David Perry & Chris Bolduc\, Violins • Sally Chisholm & Allyson Fleck\, Violas • Zou Zou Robidoux & Ian Wasserman\, Cellos \nJJ is sponsored by Mary Pikul Anderson. David is sponsored by the Nancy T. & David A. Borghesi Fund of the Community Foundation of the Lowcountry and Mary Hauser & Jerry Randall. Sally is sponsored by the Nancy T. and David A. Borghesi Fund. Allyson is sponsored by Peter & Beverly Ann Conroy \nThis performance is sponsored by Carmen & Gene Witt. \nReserve Tickets
URL:https://www.midsummersmusic.com/event/35th-anniversary-program-b3/
LOCATION:Donald and Carol Kress Pavilion\, 7845 Church St.\, Egg Harbor\, WI\, 54209
CATEGORIES:Concert,Midsummer's Music
ATTACH;FMTTYPE=image/jpeg:https://www.midsummersmusic.com/wp-content/uploads/2025/01/mozart-and-dvorak-calendar-featured-image-scaled.jpg
END:VEVENT
BEGIN:VEVENT
DTSTART;TZID=America/Chicago:20250625T190000
DTEND;TZID=America/Chicago:20250625T210000
DTSTAMP:20260424T050801
CREATED:20250130T161505Z
LAST-MODIFIED:20251229T192104Z
UID:12799-1750878000-1750885200@www.midsummersmusic.com
SUMMARY:Mozart and Dvořák
DESCRIPTION:Two masterworks for strings by Mozart and Dvořák bookend this program. In between\, both programmatically and historically\, is Anton Reicha\, a friend of Beethoven’s who was born the same year. An important musical influence in the 19th century\, his brilliant Clarinet Quintet is a masterpiece and a wonderful showcase for the featured instrument. \nQuintet No. 6 in E-flat Major\, K. 614 – Wolfgang Amadeus Mozart\nTwo Violins\, Two Violas\, and Cello \nQuintet in B-flat Major\, Op. 89 – Anton Reicha\nClarinet\, Two Violins\, Viola\, and Cello \nString Sextet in A Major\, Op. 48 – Antonin Dvořák\nTwo Violins\, Two Violas\, and Two Cellos \nJJ Koh\, Clarinet • David Perry & Chris Bolduc\, Violins • Sally Chisholm & Allyson Fleck\, Violas • Zou Zou Robidoux & Ian Wasserman\, Cellos \nJJ is sponsored by Mary Pikul Anderson. David is sponsored by the Nancy T. & David A. Borghesi Fund of the Community Foundation of the Lowcountry and Mary Hauser & Jerry Randall. Sally is sponsored by the Nancy T. and David A. Borghesi Fund. Allyson is sponsored by Peter & Beverly Ann Conroy \nThis performance is sponsored by Sandy Zingler. \nReserve Tickets
URL:https://www.midsummersmusic.com/event/35th-anniversary-program-b4/
LOCATION:Woodwalk Gallery\, 6746 County Rd. G\, Egg Harbor\, WI\, 54209
CATEGORIES:Concert,Midsummer's Music
ATTACH;FMTTYPE=image/jpeg:https://www.midsummersmusic.com/wp-content/uploads/2025/01/mozart-and-dvorak-calendar-featured-image-scaled.jpg
END:VEVENT
BEGIN:VEVENT
DTSTART;TZID=America/Chicago:20250626T190000
DTEND;TZID=America/Chicago:20250626T210000
DTSTAMP:20260424T050801
CREATED:20250130T161601Z
LAST-MODIFIED:20251229T192104Z
UID:12801-1750964400-1750971600@www.midsummersmusic.com
SUMMARY:Mendelssohn Magic
DESCRIPTION:Mendelssohn’s 2nd Piano Trio is unsurpassed. The way he weaves a Bach chorale melody into the final movement is spellbinding and worth the ticket price alone. Two other trios\, each involving the flute of Heather Zinninger\, set the stage. Undine Smith Moore’s Suite is hauntingly evocative\, while Weber’s Flute Trio shows how much the Romantic Period is indebted to this German master. \nAfro American Suite – Undine Smith Moore\nFlute\, Cello\, and Piano \nTrio in G Minor\, Op. 63 – Carl Maria von Weber\nFlute\, Cello\, and Piano \nTrio No. 2 in C Minor\, Op. 66 – Felix Mendelssohn\nViolin\, Cello\, and Piano \nHeather Zinninger\, Flute • David Perry\, Violin • Mara McClain\, Cello • Jeannie Yu\, Piano \nHeather is sponsored by the Jean Berkenstock Family Fund. David is sponsored by the Nancy T. & David A. Borghesi Fund of the Community Foundation of the Lowcountry and Mary Hauser & Jerry Randall. Mara is sponsored by Bob & Alice Chrismer. Jeannie is sponsored by Mary Hauser & Jerry Randall. \nThis performance is sponsored by Mary Hauser & Jerry Randall. \nThe Mendelssohn Magic program is sponsored by the Women’s Fund of the Door County Community Foundation. \nReserve Tickets
URL:https://www.midsummersmusic.com/event/35th-anniversary-program-1/
LOCATION:Unitarian Universalist Fellowship of Door County\, 10341 Water Street HWY 42\, Ephraim\, WI\, 54211
CATEGORIES:Concert,Midsummer's Music
ATTACH;FMTTYPE=image/jpeg:https://www.midsummersmusic.com/wp-content/uploads/2025/01/mendelssohn-magic-calendar-featured-image-scaled.jpg
END:VEVENT
BEGIN:VEVENT
DTSTART;TZID=America/Chicago:20250627T190000
DTEND;TZID=America/Chicago:20250627T210000
DTSTAMP:20260424T050801
CREATED:20250130T161648Z
LAST-MODIFIED:20251229T192104Z
UID:12803-1751050800-1751058000@www.midsummersmusic.com
SUMMARY:Mendelssohn Magic
DESCRIPTION:Mendelssohn’s 2nd Piano Trio is unsurpassed. The way he weaves a Bach chorale melody into the final movement is spellbinding and worth the ticket price alone. Two other trios\, each involving the flute of Heather Zinninger\, set the stage. Undine Smith Moore’s Suite is hauntingly evocative\, while Weber’s Flute Trio shows how much the Romantic Period is indebted to this German master. \nAfro American Suite – Undine Smith Moore\nFlute\, Cello\, and Piano \nTrio in G Minor\, Op. 63 – Carl Maria von Weber\nFlute\, Cello\, and Piano \nTrio No. 2 in C Minor\, Op. 66 – Felix Mendelssohn\nViolin\, Cello\, and Piano \nHeather Zinninger\, Flute • David Perry\, Violin • Mara McClain\, Cello • Jeannie Yu\, Piano \nHeather is sponsored by the Jean Berkenstock Family Fund. David is sponsored by the Nancy T. & David A. Borghesi Fund of the Community Foundation of the Lowcountry and Mary Hauser & Jerry Randall. Mara is sponsored by Bob & Alice Chrismer. Jeannie is sponsored by Mary Hauser & Jerry Randall. \nThis performance is sponsored by Roy & Betsy Gill. \nThe Mendelssohn Magic program is sponsored by the Women’s Fund of the Door County Community Foundation. \nReserve Tickets
URL:https://www.midsummersmusic.com/event/35th-anniversary-program-2/
LOCATION:MUSE Sturgeon Bay\, 330 Jefferson St.\, Sturgeon Bay\, WI\, 54235
CATEGORIES:Concert,Midsummer's Music
ATTACH;FMTTYPE=image/jpeg:https://www.midsummersmusic.com/wp-content/uploads/2025/01/mendelssohn-magic-calendar-featured-image-scaled.jpg
END:VEVENT
BEGIN:VEVENT
DTSTART;TZID=America/Chicago:20250628T190000
DTEND;TZID=America/Chicago:20250628T210000
DTSTAMP:20260424T050801
CREATED:20250130T161925Z
LAST-MODIFIED:20251229T192104Z
UID:12805-1751137200-1751144400@www.midsummersmusic.com
SUMMARY:Mendelssohn Magic
DESCRIPTION:Mendelssohn’s 2nd Piano Trio is unsurpassed. The way he weaves a Bach chorale melody into the final movement is spellbinding and worth the ticket price alone. Two other trios\, each involving the flute of Heather Zinninger\, set the stage. Undine Smith Moore’s Suite is hauntingly evocative\, while Weber’s Flute Trio shows how much the Romantic Period is indebted to this German master. \nAfro American Suite – Undine Smith Moore\nFlute\, Cello\, and Piano \nTrio in G Minor\, Op. 63 – Carl Maria von Weber\nFlute\, Cello\, and Piano \nTrio No. 2 in C Minor\, Op. 66 – Felix Mendelssohn\nViolin\, Cello\, and Piano \nHeather Zinninger\, Flute • David Perry\, Violin • Mara McClain\, Cello • Jeannie Yu\, Piano \nHeather is sponsored by the Jean Berkenstock Family Fund. David is sponsored by the Nancy T. & David A. Borghesi Fund of the Community Foundation of the Lowcountry and Mary Hauser & Jerry Randall. Mara is sponsored by Bob & Alice Chrismer. Jeannie is sponsored by Mary Hauser & Jerry Randall. \nThis performance is sponsored by the Gould Family Fund of the Door County Community Foundation. \nThe Mendelssohn Magic program is sponsored by the Women’s Fund of the Door County Community Foundation. \nReserve Tickets
URL:https://www.midsummersmusic.com/event/35th-anniversary-program-3/
LOCATION:St. Luke’s Episcopal Church\, 2336 Canterbury Ln\, Sister Bay\, WI\, 54234
CATEGORIES:Concert,Midsummer's Music
ATTACH;FMTTYPE=image/jpeg:https://www.midsummersmusic.com/wp-content/uploads/2025/01/mendelssohn-magic-calendar-featured-image-scaled.jpg
END:VEVENT
END:VCALENDAR