BEGIN:VCALENDAR
VERSION:2.0
PRODID:-//Midsummer&#039;s Music and its affiliate, the Griffon String Quartet - ECPv6.15.20//NONSGML v1.0//EN
CALSCALE:GREGORIAN
METHOD:PUBLISH
X-ORIGINAL-URL:https://www.midsummersmusic.com
X-WR-CALDESC:Events for Midsummer&#039;s Music and its affiliate, the Griffon String Quartet
REFRESH-INTERVAL;VALUE=DURATION:PT1H
X-Robots-Tag:noindex
X-PUBLISHED-TTL:PT1H
BEGIN:VTIMEZONE
TZID:America/Chicago
BEGIN:DAYLIGHT
TZOFFSETFROM:-0600
TZOFFSETTO:-0500
TZNAME:CDT
DTSTART:20230312T080000
END:DAYLIGHT
BEGIN:STANDARD
TZOFFSETFROM:-0500
TZOFFSETTO:-0600
TZNAME:CST
DTSTART:20231105T070000
END:STANDARD
BEGIN:DAYLIGHT
TZOFFSETFROM:-0600
TZOFFSETTO:-0500
TZNAME:CDT
DTSTART:20240310T080000
END:DAYLIGHT
BEGIN:STANDARD
TZOFFSETFROM:-0500
TZOFFSETTO:-0600
TZNAME:CST
DTSTART:20241103T070000
END:STANDARD
BEGIN:DAYLIGHT
TZOFFSETFROM:-0600
TZOFFSETTO:-0500
TZNAME:CDT
DTSTART:20250309T080000
END:DAYLIGHT
BEGIN:STANDARD
TZOFFSETFROM:-0500
TZOFFSETTO:-0600
TZNAME:CST
DTSTART:20251102T070000
END:STANDARD
END:VTIMEZONE
BEGIN:VEVENT
DTSTART;TZID=America/Chicago:20240308T170000
DTEND;TZID=America/Chicago:20240308T190000
DTSTAMP:20260425T053840
CREATED:20240109T124506Z
LAST-MODIFIED:20251229T194326Z
UID:11193-1709917200-1709924400@www.midsummersmusic.com
SUMMARY:Seven Last Words • Shepherd of the Bay
DESCRIPTION:The Seven Last Words of Our Savior on the Cross (German: Die sieben letzten Worte unseres Erlösers am Kreuze) is an orchestral work by Franz Joseph Haydn\, commissioned in 1786 for the Good Friday service at Oratorio de la Santa Cueva (Holy Cave Oratory) in Cádiz\, Spain.\n\n\nMidsummer’s Music presents the Pro Arte Quartet along with narrator(s) at Shepherd of the Bay Lutheran Church for this moving piece.\n\nDavid Perry and Suzanne Beia\, violins\nSally Chisholm\, viola\nParry Karp\, cello\n\nMeditations:\nPastor James Honig\, Shepherd of the Bay Lutheran Church\nReverend Brit Bjurstrom Frazier\, St. Luke’s Episcopal Church\nReverend Kerry Krauss\, Sister Bay Moravian Church\nMichelle Lawrie\, Executive Director Door County Economic Development Corporation\nCari Lewis\, Executive Director Door Community Auditorium\nReverend Mark Stephen Richards\, Unity Hospice & the Unitarian Universalist Fellowship\nTonya Fehlhofer\, CEO Door County YMCA\n\nSponsor: Dennis & Bonnie Connolly\nSupporting Sponsors: Door County Medical Center\, Innovative Printing\, The Mail Haus\, Wisconsin Arts Board\n\nLive Streaming Link: https://youtube.com/live/l6nlWHjvmwk\n\nFree-will Offering—Click the Buy Tickets Now button to reserve tickets.
URL:https://www.midsummersmusic.com/event/words-shepherd-bay/
LOCATION:Shepherd of the Bay Lutheran Church\, 11836 WI-42\, Ellison Bay\, WI\, 54210
CATEGORIES:Concert,Midsummer's Music
ATTACH;FMTTYPE=image/jpeg:https://www.midsummersmusic.com/wp-content/uploads/2024/01/slw-calendar-featured-image-scaled.jpg
END:VEVENT
BEGIN:VEVENT
DTSTART;TZID=America/Chicago:20240309T150000
DTEND;TZID=America/Chicago:20240309T170000
DTSTAMP:20260425T053840
CREATED:20240109T124745Z
LAST-MODIFIED:20251229T194319Z
UID:11195-1709996400-1710003600@www.midsummersmusic.com
SUMMARY:Seven Last Words • First Presbyterian Church
DESCRIPTION:The Seven Last Words of Our Savior on the Cross (German: Die sieben letzten Worte unseres Erlösers am Kreuze) is an orchestral work by Franz Joseph Haydn\, commissioned in 1786 for the Good Friday service at Oratorio de la Santa Cueva (Holy Cave Oratory) in Cádiz\, Spain.\n\n\nMidsummer’s Music presents the Pro Arte Quartet along with narrator(s) at First Presbyterian Green Bay for this moving piece.\n\nDavid Perry and Suzanne Beia\, violins\nSally Chisholm\, viola\nParry Karp\, cello\n\n\nMeditations:\nJesse Brunette\, Executive Director St. John’s Ministries\nNan Bush\, President The Bellin Health Foundation\nPastor Katie Estes\, First Presbyterian Church\nPastor Rachel Knoke\, Trinity Lutheran Church\nPastor Larry Lange\, Grace Lutheran Church\nSara Williams\, JOSHUA Community Organizer and The Salvation Army Emergency Services Case Manager\nPastor Nancy Zorn Micke\, Peace United Church of Christ\n\n\n\nSponsor: Dennis & Bonnie Connolly\nSupporting Sponsor: Door County Medical Center\, Innovative Printing\, The Mail Haus\, Wisconsin Arts Board\n\nFree-will Offering—Click the Buy Tickets Now button to reserve tickets.
URL:https://www.midsummersmusic.com/event/words-presbyterian-church/
LOCATION:First Presbyterian Church of Green Bay\, 200 S Ashland Ave.\, Green Bay\, WI\, 54303\, United States
CATEGORIES:Concert,Midsummer's Music
ATTACH;FMTTYPE=image/jpeg:https://www.midsummersmusic.com/wp-content/uploads/2024/01/slw-calendar-featured-image-scaled.jpg
END:VEVENT
END:VCALENDAR