BEGIN:VCALENDAR
VERSION:2.0
PRODID:-//Midsummer&#039;s Music and its affiliate, the Griffon String Quartet - ECPv6.15.20//NONSGML v1.0//EN
CALSCALE:GREGORIAN
METHOD:PUBLISH
X-WR-CALNAME:Midsummer&#039;s Music and its affiliate, the Griffon String Quartet
X-ORIGINAL-URL:https://www.midsummersmusic.com
X-WR-CALDESC:Events for Midsummer&#039;s Music and its affiliate, the Griffon String Quartet
REFRESH-INTERVAL;VALUE=DURATION:PT1H
X-Robots-Tag:noindex
X-PUBLISHED-TTL:PT1H
BEGIN:VTIMEZONE
TZID:America/Chicago
BEGIN:DAYLIGHT
TZOFFSETFROM:-0600
TZOFFSETTO:-0500
TZNAME:CDT
DTSTART:20220313T080000
END:DAYLIGHT
BEGIN:STANDARD
TZOFFSETFROM:-0500
TZOFFSETTO:-0600
TZNAME:CST
DTSTART:20221106T070000
END:STANDARD
BEGIN:DAYLIGHT
TZOFFSETFROM:-0600
TZOFFSETTO:-0500
TZNAME:CDT
DTSTART:20230312T080000
END:DAYLIGHT
BEGIN:STANDARD
TZOFFSETFROM:-0500
TZOFFSETTO:-0600
TZNAME:CST
DTSTART:20231105T070000
END:STANDARD
BEGIN:DAYLIGHT
TZOFFSETFROM:-0600
TZOFFSETTO:-0500
TZNAME:CDT
DTSTART:20240310T080000
END:DAYLIGHT
BEGIN:STANDARD
TZOFFSETFROM:-0500
TZOFFSETTO:-0600
TZNAME:CST
DTSTART:20241103T070000
END:STANDARD
END:VTIMEZONE
BEGIN:VEVENT
DTSTART;TZID=America/Chicago:20231001T160000
DTEND;TZID=America/Chicago:20231001T193000
DTSTAMP:20260425T143405
CREATED:20230905T095524Z
LAST-MODIFIED:20251229T194632Z
UID:10682-1696176000-1696188600@www.midsummersmusic.com
SUMMARY:Autumn Music Fest: Lindsay Flowers\, JJ Koh\, Garret Ross
DESCRIPTION:Discover the enchanting power of intimate musical storytelling. Join us! \nLindsay Flowers\, Oboe\nJJ Koh\, Clarinet\nGarret Ross\, Piano \nTrio in G Minor (1919) by Paul Gilson (1865-1942) \nOboe Concerto No. 2 (2000) by Frigyes Hidas (1928-2007) \nClarinet Sonata No. 2\, Op. 120 (1894) by Johannes Brahms (1833-1897) \nThe Lovers (2018) by Eun-Chul Oh (1994-present) \n  \n\n\nDoors open for seating 45 minutes prior to the concert.
URL:https://www.midsummersmusic.com/event/autumn-music-fest-jj-koh-clarinet/
LOCATION:Donald and Carol Kress Pavilion\, 7845 Church St.\, Egg Harbor\, WI\, 54209
CATEGORIES:Concert,Midsummer's Music
END:VEVENT
BEGIN:VEVENT
DTSTART;TZID=America/Chicago:20231007T190000
DTEND;TZID=America/Chicago:20231007T210000
DTSTAMP:20260425T143405
CREATED:20230905T050113Z
LAST-MODIFIED:20251229T194632Z
UID:10550-1696705200-1696712400@www.midsummersmusic.com
SUMMARY:Autumn Music Fest: Pro Arte Quartet
DESCRIPTION:Discover the enchanting power of intimate musical storytelling. Join us! \nThis concert features Wisconsin’s famed Pro Arte Quartet. \nString Quartet No. 22 in B-flat Major\, K.589 by Wolfgang Amadeus Mozart\nString Quartet No. 8 in C Minor\, Op. 110\, by Dmitri Shostakovich\nString Quartet No. 12\, Op. 96\, “American” by Antonín Dvořák\nPro Arte Quartet\nDavid Perry and Suzanne Beia\, Violins\nSally Chisholm\, Viola\nParry Karp\, Cello \n  \n\nDoors open for seating 30 minutes prior to the concert.
URL:https://www.midsummersmusic.com/event/fall-festival-pro-arte-quartet-2/
LOCATION:Hope United Church of Christ\, 141 S 12th Ave.\, Sturgeon Bay\, WI\, 54235\, United States
CATEGORIES:Concert,Midsummer's Music
END:VEVENT
BEGIN:VEVENT
DTSTART;TZID=America/Chicago:20231008T150000
DTEND;TZID=America/Chicago:20231008T170000
DTSTAMP:20260425T143405
CREATED:20230905T050110Z
LAST-MODIFIED:20251229T194632Z
UID:10677-1696777200-1696784400@www.midsummersmusic.com
SUMMARY:Autumn Music Fest: Pro Arte Quartet/Griffon String Quartet
DESCRIPTION:Discover the enchanting power of intimate musical storytelling. Join us! \nThis concert features Wisconsin’s famed Pro Arte Quartet and Midsummer’s resident ensemble\, the Griffon String Quartet. \n\n\nString Quartet No. 22 in B-flat Major\, K.589 by Wolfgang Amadeus Mozart\nString Quartet No. 8 in C Minor\, Op. 110\, by Dmitri Shostakovich\n\nString Octet in E-flat Major\, Op. 20\, by Felix Mendelssohn\n\nPro Arte Quartet\nDavid Perry and Suzanne Beia\, Violins\nSally Chisholm\, Viola\nParry Karp\, Cello\n\nGriffon String Quartet\nRoy Meyer and Alex Norris\, Violins\nLucas Blekeberg\, Viola\nJesse Nummelin\, Cello \nClick the Buy Tickets Online button to reserve tickets. Donations will be accepted. \n\n\nDoors open for seating 30 minutes prior to the concert.
URL:https://www.midsummersmusic.com/event/autumn-music-fest-pro-arte-quartet-griffon/
LOCATION:Tarlton Theatre\, 405-409 West Walnut St.\, Green Bay\, WI\, 54303
CATEGORIES:Concert,Midsummer's Music
END:VEVENT
END:VCALENDAR