BEGIN:VCALENDAR
VERSION:2.0
PRODID:-//Midsummer&#039;s Music and its affiliate, the Griffon String Quartet - ECPv6.15.20//NONSGML v1.0//EN
CALSCALE:GREGORIAN
METHOD:PUBLISH
X-ORIGINAL-URL:https://www.midsummersmusic.com
X-WR-CALDESC:Events for Midsummer&#039;s Music and its affiliate, the Griffon String Quartet
REFRESH-INTERVAL;VALUE=DURATION:PT1H
X-Robots-Tag:noindex
X-PUBLISHED-TTL:PT1H
BEGIN:VTIMEZONE
TZID:America/Chicago
BEGIN:DAYLIGHT
TZOFFSETFROM:-0600
TZOFFSETTO:-0500
TZNAME:CDT
DTSTART:20220313T080000
END:DAYLIGHT
BEGIN:STANDARD
TZOFFSETFROM:-0500
TZOFFSETTO:-0600
TZNAME:CST
DTSTART:20221106T070000
END:STANDARD
BEGIN:DAYLIGHT
TZOFFSETFROM:-0600
TZOFFSETTO:-0500
TZNAME:CDT
DTSTART:20230312T080000
END:DAYLIGHT
BEGIN:STANDARD
TZOFFSETFROM:-0500
TZOFFSETTO:-0600
TZNAME:CST
DTSTART:20231105T070000
END:STANDARD
BEGIN:DAYLIGHT
TZOFFSETFROM:-0600
TZOFFSETTO:-0500
TZNAME:CDT
DTSTART:20240310T080000
END:DAYLIGHT
BEGIN:STANDARD
TZOFFSETFROM:-0500
TZOFFSETTO:-0600
TZNAME:CST
DTSTART:20241103T070000
END:STANDARD
END:VTIMEZONE
BEGIN:VEVENT
DTSTART;TZID=America/Chicago:20230901T190000
DTEND;TZID=America/Chicago:20230901T200000
DTSTAMP:20260425T163003
CREATED:20230325T050149Z
LAST-MODIFIED:20251229T194632Z
UID:10083-1693594800-1693598400@www.midsummersmusic.com
SUMMARY:Celebratory Fireworks! • UUF\, Ephraim
DESCRIPTION:A season like this needs a concluding celebration! The pyrotechnics begin with Dora Pejačević’s romantically sumptuous Piano Quartet followed by our most requested piece\, Schoenfield’s outrageous Café Music. Our program and season conclude with music for piano and strings by the great Richard Strauss\, coming from the same period as his tone poems\, Don Juan and Death and Transfiguration\, it is likewise a tour de force! Come celebrate with us. \nPiano Quartet in D Minor\, Op. 25 • Dora Pejačević\nViolin\, Viola\, Cello\, and Piano \nCafé Music • Paul Schoenfield\nViolin\, Cello\, and Piano \nPiano Quartet in C Minor\, Op. 13 • Richard Strauss\nViolin\, Viola\, Cello\, and Piano \nDavid Perry\, Violin • Sally Chisholm\, Viola • Paula Kosower\, Cello • Jeannie Yu\, Piano
URL:https://www.midsummersmusic.com/event/celebratory-fireworks-uuf/
LOCATION:Unitarian Universalist Fellowship of Door County\, 10341 Water Street HWY 42\, Ephraim\, WI\, 54211
CATEGORIES:Concert,Midsummer's Music
END:VEVENT
BEGIN:VEVENT
DTSTART;TZID=America/Chicago:20230902T190000
DTEND;TZID=America/Chicago:20230902T210000
DTSTAMP:20260425T163003
CREATED:20230325T050139Z
LAST-MODIFIED:20251229T194632Z
UID:10086-1693681200-1693688400@www.midsummersmusic.com
SUMMARY:Celebratory Fireworks! • St. Luke's\, Sister Bay
DESCRIPTION:A season like this needs a concluding celebration! The pyrotechnics begin with Dora Pejačević’s romantically sumptuous Piano Quartet followed by our most requested piece\, Schoenfield’s outrageous Café Music. Our program and season conclude with music for piano and strings by the great Richard Strauss\, coming from the same period as his tone poems\, Don Juan and Death and Transfiguration\, it is likewise a tour de force! Come celebrate with us. \nPiano Quartet in D Minor\, Op. 25 • Dora Pejačević\nViolin\, Viola\, Cello\, and Piano \nCafé Music • Paul Schoenfield\nViolin\, Cello\, and Piano \nPiano Quartet in C Minor\, Op. 13 • Richard Strauss\nViolin\, Viola\, Cello\, and Piano \nDavid Perry\, Violin • Sally Chisholm\, Viola • Paula Kosower\, Cello • Jeannie Yu\, Piano \nSponsored by Daniel & Sarah Myers
URL:https://www.midsummersmusic.com/event/celebratory-fireworks-st/
LOCATION:St. Luke’s Episcopal Church\, 2336 Canterbury Ln\, Sister Bay\, WI\, 54234
CATEGORIES:Concert,Midsummer's Music
END:VEVENT
BEGIN:VEVENT
DTSTART;TZID=America/Chicago:20230903T150000
DTEND;TZID=America/Chicago:20230903T170000
DTSTAMP:20260425T163003
CREATED:20230325T050102Z
LAST-MODIFIED:20251229T194632Z
UID:10080-1693753200-1693760400@www.midsummersmusic.com
SUMMARY:Splendid Stories • The Clearing Folk School\, Ellison Bay
DESCRIPTION:We have stories to tell … from the short\, whimsical\, and inventive caricatures by Jan Bach for Flute and Horn\, to the broad landscape of Sibelius’ En Saga\, to the heartfelt patriotism of Dvorak’s striking String Quintet with double bass—the one he dedicated “To my Nation.” Stories you’ll want to hear. \nFour Two-Bit Contraptions • Jan Bach\nFlute and Horn \nEn Saga\, Op. 9 (Gregory Barrett arr.) • Jean Sibelius\nFlute\, Clarinet\, Horn\, and Strings \nQuintet in G Major\, Op. 77 • Antonín Dvořák\nString Quartet and Double Bass \nHeather Zinninger\, Flute • JJ Koh\, Clarinet • Fritz Foss\, Horn • David Perry & Roy Meyer\, Violins • Sally Chisholm\, Viola • Paula Kosower\, Cello • Jeremy Attanaseo\, Bass \nSponsored by Michael Elkow
URL:https://www.midsummersmusic.com/event/splendid-stories-clearing/
LOCATION:The Clearing Folk School – Schoolhouse\, 12103 Garrett Bay Rd\, Ellison Bay\, WI\, 54210
CATEGORIES:Concert,Midsummer's Music
END:VEVENT
BEGIN:VEVENT
DTSTART;TZID=America/Chicago:20230904T150000
DTEND;TZID=America/Chicago:20230904T183000
DTSTAMP:20260425T163003
CREATED:20230325T050110Z
LAST-MODIFIED:20251229T194632Z
UID:10088-1693839600-1693852200@www.midsummersmusic.com
SUMMARY:Celebratory Fireworks! • Labor Day Gala\, Björklunden\, Baileys Harbor
DESCRIPTION:Join us for an unforgettable afternoon supporting music that brightens the future for our community\, with inspired cuisine and a spectacular live performance featuring our own world-class musicians! 3:00pm \nA season like this needs a concluding celebration! The pyrotechnics begin with Dora Pejačević’s romantically sumptuous Piano Quartet followed by our most requested piece\, Schoenfield’s outrageous Café Music. Our program and season conclude with music for piano and strings by the great Richard Strauss\, coming from the same period as his tone poems\, Don Juan and Death and Transfiguration\, it is likewise a tour de force! Come celebrate with us. \nPiano Quartet in D Minor\, Op. 25 • Dora Pejačević\nViolin\, Viola\, Cello\, and Piano \nCafé Music • Paul Schoenfield\nViolin\, Cello\, and Piano \nPiano Quartet in C Minor\, Op. 13 • Richard Strauss\nViolin\, Viola\, Cello\, and Piano \nDavid Perry\, Violin • Sally Chisholm\, Viola • Paula Kosower\, Cello • Jeannie Yu\, Piano \nSpecial Guest Emcee John Clare\, SiriusXM Symphony Hall Host \nThank you to these amazing event sponsors …\nPlatinum: Jim & Jean Berkenstock\nGold: David & Nancy Borghesi and Sandra Zingler\nSilver: Fortifi Bank & Sugar Maple Asset Management\nSupporters: Larry & Cynthia Crock and George & Julie Fiedler
URL:https://www.midsummersmusic.com/event/celebratory-fireworks-labor/
LOCATION:Björklunden – Vail Hall\, 7590 Boynton Ln\, Baileys Harbor\, WI\, 54202
CATEGORIES:Concert,Midsummer's Music
END:VEVENT
BEGIN:VEVENT
DTSTART;TZID=America/Chicago:20230930T190000
DTEND;TZID=America/Chicago:20230930T213000
DTSTAMP:20260425T163003
CREATED:20230905T095349Z
LAST-MODIFIED:20251229T194632Z
UID:10680-1696100400-1696109400@www.midsummersmusic.com
SUMMARY:Autumn Music Fest: Lindsay Flowers\, JJ Koh\, Garret Ross
DESCRIPTION:Discover the enchanting power of intimate musical storytelling. Join us! \nThis Autumn Music Fest opening night concert is the only Salon Concert of the October series. As MM’s first ever concert was held at the Trenchard residence in Sister Bay\, it is fitting that Dianne Trenchard hosts the first concert of MM’s first Autumn Music Fest. \nSpecial Guest Host Lori Skelton\, host of Wisconsin Public Radio’s “Afternoon Classics” and the producer and host of “Wisconsin Classical.” \nLindsay Flowers\, Oboe\nJJ Koh\, Clarinet\nGarret Ross\, Piano \nTrio in G Minor (1919) by Paul Gilson (1865-1942) \nOboe Concerto No. 2 (2000) by Frigyes Hidas (1928-2007) \nClarinet Sonata No. 2\, Op. 120 (1894) by Johannes Brahms (1833-1897) \nThe Lovers (2018) by Eun-Chul Oh (1994-present) \n  \nDoors open for seating 45 minutes prior to the concert.
URL:https://www.midsummersmusic.com/event/autumn-music-fest-lindsay-flowers/
LOCATION:Trenchard Residence\, Sister Bay\, WI
CATEGORIES:Concert,Midsummer's Music
END:VEVENT
END:VCALENDAR