BEGIN:VCALENDAR
VERSION:2.0
PRODID:-//Midsummer&#039;s Music and its affiliate, the Griffon String Quartet - ECPv6.15.20//NONSGML v1.0//EN
CALSCALE:GREGORIAN
METHOD:PUBLISH
X-ORIGINAL-URL:https://www.midsummersmusic.com
X-WR-CALDESC:Events for Midsummer&#039;s Music and its affiliate, the Griffon String Quartet
REFRESH-INTERVAL;VALUE=DURATION:PT1H
X-Robots-Tag:noindex
X-PUBLISHED-TTL:PT1H
BEGIN:VTIMEZONE
TZID:America/Chicago
BEGIN:DAYLIGHT
TZOFFSETFROM:-0600
TZOFFSETTO:-0500
TZNAME:CDT
DTSTART:20220313T080000
END:DAYLIGHT
BEGIN:STANDARD
TZOFFSETFROM:-0500
TZOFFSETTO:-0600
TZNAME:CST
DTSTART:20221106T070000
END:STANDARD
BEGIN:DAYLIGHT
TZOFFSETFROM:-0600
TZOFFSETTO:-0500
TZNAME:CDT
DTSTART:20230312T080000
END:DAYLIGHT
BEGIN:STANDARD
TZOFFSETFROM:-0500
TZOFFSETTO:-0600
TZNAME:CST
DTSTART:20231105T070000
END:STANDARD
BEGIN:DAYLIGHT
TZOFFSETFROM:-0600
TZOFFSETTO:-0500
TZNAME:CDT
DTSTART:20240310T080000
END:DAYLIGHT
BEGIN:STANDARD
TZOFFSETFROM:-0500
TZOFFSETTO:-0600
TZNAME:CST
DTSTART:20241103T070000
END:STANDARD
END:VTIMEZONE
BEGIN:VEVENT
DTSTART;TZID=America/Chicago:20230701T190000
DTEND;TZID=America/Chicago:20230701T210000
DTSTAMP:20260425T200157
CREATED:20230325T050132Z
LAST-MODIFIED:20251229T194850Z
UID:9889-1688238000-1688245200@www.midsummersmusic.com
SUMMARY:Remembering Rachmaninoff Remembering Tchaikovsky • St. Luke's\, Sister Bay
DESCRIPTION:On the occasion of Rachmaninoff’s 150th birthday\, we celebrate with his Trio élégiaque\, dedicated to his mentor\, Tchaikovsky\, with the inscription\, “In Memory of a Great Artist.” The “Great Artist” is represented on this program by his First String Quartet. \nQuartet No. 1 in D Major\, Op. 11\, “Accordion” • Pyotr Il’yich Tchaikovsky\nString Quartet \nTrio élégiaque No. 2 in D Minor\, Op. 9\, “In Memory of a Great Artist” • Sergei Rachmaninoff\nViolin\, Cello\, and Piano \nDavid Perry & Roy Meyer\, Violins • Allyson Fleck\, Viola • Anthony Arnone\, Cello • Jeannie Yu\, Piano \nSponsored by Karin & Scott Myers
URL:https://www.midsummersmusic.com/event/c3-st-lukes-sister-bay/
LOCATION:St. Luke’s Episcopal Church\, 2336 Canterbury Ln\, Sister Bay\, WI\, 54234
CATEGORIES:Concert,Midsummer's Music
END:VEVENT
BEGIN:VEVENT
DTSTART;TZID=America/Chicago:20230702T170000
DTEND;TZID=America/Chicago:20230702T190000
DTSTAMP:20260425T200157
CREATED:20230325T050129Z
LAST-MODIFIED:20251229T194850Z
UID:9891-1688317200-1688324400@www.midsummersmusic.com
SUMMARY:Remembering Rachmaninoff Remembering Tchaikovsky • Hope UCC\, Sturgeon Bay
DESCRIPTION:On the occasion of Rachmaninoff’s 150th birthday\, we celebrate with his Trio élégiaque\, dedicated to his mentor\, Tchaikovsky\, with the inscription\, “In Memory of a Great Artist.” The “Great Artist” is represented on this program by his First String Quartet. \nQuartet No. 1 in D Major\, Op. 11\, “Accordion” • Pyotr Il’yich Tchaikovsky\nString Quartet \nTrio élégiaque No. 2 in D Minor\, Op. 9\, “In Memory of a Great Artist” • Sergei Rachmaninoff\nViolin\, Cello\, and Piano \nDavid Perry & Roy Meyer\, Violins • Allyson Fleck\, Viola • Anthony Arnone\, Cello • Jeannie Yu\, Piano \nSponsored by Sandy Zingler
URL:https://www.midsummersmusic.com/event/c4-hope-ucc-sturgeon-bay/
LOCATION:Hope United Church of Christ\, 141 S 12th Ave.\, Sturgeon Bay\, WI\, 54235\, United States
CATEGORIES:Concert,Midsummer's Music
END:VEVENT
BEGIN:VEVENT
DTSTART;TZID=America/Chicago:20230706T190000
DTEND;TZID=America/Chicago:20230706T210000
DTSTAMP:20260425T200157
CREATED:20230325T050103Z
LAST-MODIFIED:20251229T194850Z
UID:9907-1688670000-1688677200@www.midsummersmusic.com
SUMMARY:Brahms in the Spotlight • Kress Pavilion\, Egg Harbor
DESCRIPTION:“One of my finest works\,” is what Brahms said to Clara Schumann about his String Quintet\, Opus 88. Brahms was also the inspiration for the masterful Clarinet Quintet by Sir Arthur Somervell. These two works are introduced by the hauntingly beautiful\, African American Spiritual-inspired Movements for String Quartet by Nkeiru Okoye\, a young American composer of Nigerian ancestry. \nMovements for String Quartet • Nkeiru Okoye\nString Quartet \nQuintet in G Major • Sir Arthur Somervell\nClarinet and String Quartet \nString Quintet No. 1 in F Major\, Op. 88\, “Spring” • Johannes Brahms\nTwo Violins\, Two Violas\, and Cello \nJJ Koh\, Clarinet • David Perry & Ann Palen\, Violins • Christopher Dozoryst & Allyson Fleck\, Violas • Paula Kosower\, Cello \nSponsored by Mike & Susan Stoehr
URL:https://www.midsummersmusic.com/event/d2-kress-pavilion-egg-harbor/
LOCATION:Donald and Carol Kress Pavilion\, 7845 Church St.\, Egg Harbor\, WI\, 54209
CATEGORIES:Concert,Midsummer's Music
END:VEVENT
BEGIN:VEVENT
DTSTART;TZID=America/Chicago:20230707T190000
DTEND;TZID=America/Chicago:20230707T210000
DTSTAMP:20260425T200157
CREATED:20230325T050114Z
LAST-MODIFIED:20251229T194850Z
UID:9905-1688756400-1688763600@www.midsummersmusic.com
SUMMARY:Brahms in the Spotlight • UUF\, Ephraim
DESCRIPTION:“One of my finest works\,” is what Brahms said to Clara Schumann about his String Quintet\, Opus 88. Brahms was also the inspiration for the masterful Clarinet Quintet by Sir Arthur Somervell. These two works are introduced by the hauntingly beautiful\, African American Spiritual-inspired Movements for String Quartet by Nkeiru Okoye\, a young American composer of Nigerian ancestry. \nMovements for String Quartet • Nkeiru Okoye\nString Quartet \nQuintet in G Major • Sir Arthur Somervell\nClarinet and String Quartet \nString Quintet No. 1 in F Major\, Op. 88\, “Spring” • Johannes Brahms\nTwo Violins\, Two Violas\, and Cello \nJJ Koh\, Clarinet • David Perry & Ann Palen\, Violins • Christopher Dozoryst & Allyson Fleck\, Violas • Paula Kosower\, Cello \nSponsored by Barbara Gould
URL:https://www.midsummersmusic.com/event/d1-hope-ucc-sturgeon-bay/
LOCATION:Unitarian Universalist Fellowship of Door County\, 10341 Water Street HWY 42\, Ephraim\, WI\, 54211
CATEGORIES:Concert,Midsummer's Music
END:VEVENT
BEGIN:VEVENT
DTSTART;TZID=America/Chicago:20230708T190000
DTEND;TZID=America/Chicago:20230708T210000
DTSTAMP:20260425T200157
CREATED:20230325T050111Z
LAST-MODIFIED:20251229T194850Z
UID:9909-1688842800-1688850000@www.midsummersmusic.com
SUMMARY:Brahms in the Spotlight • St. Luke's\, Sister Bay
DESCRIPTION:“One of my finest works\,” is what Brahms said to Clara Schumann about his String Quintet\, Opus 88. Brahms was also the inspiration for the masterful Clarinet Quintet by Sir Arthur Somervell. These two works are introduced by the hauntingly beautiful\, African American Spiritual-inspired Movements for String Quartet by Nkeiru Okoye\, a young American composer of Nigerian ancestry. \nMovements for String Quartet • Nkeiru Okoye\nString Quartet \nQuintet in G Major • Sir Arthur Somervell\nClarinet and String Quartet \nString Quintet No. 1 in F Major\, Op. 88\, “Spring” • Johannes Brahms\nTwo Violins\, Two Violas\, and Cello \nJJ Koh\, Clarinet • David Perry & Ann Palen\, Violins • Christopher Dozoryst & Allyson Fleck\, Violas • Paula Kosower\, Cello
URL:https://www.midsummersmusic.com/event/d3-st-lukes-sister-bay/
LOCATION:St. Luke’s Episcopal Church\, 2336 Canterbury Ln\, Sister Bay\, WI\, 54234
CATEGORIES:Concert,Midsummer's Music
END:VEVENT
BEGIN:VEVENT
DTSTART;TZID=America/Chicago:20230709T170000
DTEND;TZID=America/Chicago:20230709T190000
DTSTAMP:20260425T200157
CREATED:20230325T050122Z
LAST-MODIFIED:20251229T194850Z
UID:9911-1688922000-1688929200@www.midsummersmusic.com
SUMMARY:Brahms in the Spotlight • Woodwalk Gallery\, Egg Harbor
DESCRIPTION:“One of my finest works\,” is what Brahms said to Clara Schumann about his String Quintet\, Opus 88. Brahms was also the inspiration for the masterful Clarinet Quintet by Sir Arthur Somervell. These two works are introduced by the hauntingly beautiful\, African American Spiritual-inspired Movements for String Quartet by Nkeiru Okoye\, a young American composer of Nigerian ancestry. \nMovements for String Quartet • Nkeiru Okoye\nString Quartet \nQuintet in G Major • Sir Arthur Somervell\nClarinet and String Quartet \nString Quintet No. 1 in F Major\, Op. 88\, “Spring” • Johannes Brahms\nTwo Violins\, Two Violas\, and Cello \nJJ Koh\, Clarinet • David Perry & Ann Palen\, Violins • Christopher Dozoryst & Allyson Fleck\, Violas • Paula Kosower\, Cello \nSponsored by Susan DeWitt Davie
URL:https://www.midsummersmusic.com/event/d4-woodwalk-gallery-egg-harbor/
LOCATION:Woodwalk Gallery\, 6746 County Rd. G\, Egg Harbor\, WI\, 54209
CATEGORIES:Concert,Midsummer's Music
END:VEVENT
BEGIN:VEVENT
DTSTART;TZID=America/Chicago:20230713T190000
DTEND;TZID=America/Chicago:20230713T210000
DTSTAMP:20260425T200157
CREATED:20230325T050111Z
LAST-MODIFIED:20251229T194743Z
UID:9915-1689274800-1689282000@www.midsummersmusic.com
SUMMARY:Eric Lewis Meets Will Healy • Kress Pavilion\, Egg Harbor
DESCRIPTION:SOLD OUT \nDoor County favorite Eric Lewis joins forces with Midsummer’s own Composer-in-Residence Will Healy to create a truly one-of-a-kind program. Being presented only twice\, you do not want to miss a single note of this incredible collaboration\, including a world premiere piano quartet by Will! \nMovements from Sonata No. 6 in G Major\, BWV 1019  • J.S. Bach\nViolin and Piano (Will Healy & George Meyer)\nBourée from Suite in E Minor\, BWV 996 • J.S. Bach\nGuitar (Eric Lewis)\nEric Lewis Set:\n\nKaty Hopkins\nOff to Lambeau\nFor Rose Mary (world premiere)\nAdditional Selections\n\nWill Healy/George Meyer Set: \n\nGood for You\nLet the Record Show (world premiere)\nSquirrel Holster\n\nRoot Position (world premiere) • Will Healy\nTrio for Two Violins and Cello • George Meyer\nEnsemble Selections (with world premiere)\n\nEric Lewis\, Vocals/Guitar • Will Healy\, Piano • Sahada Buckley & George Meyer\, Violins • Allyson Fleck\, Viola • Mara McClain\, Cello • Drew Banzhaf\, Bass\n\nIn memory of Tommy Burroughs\n\nSponsored by Dick & Annie Egan\nSupporting Sponsors: MMG Foundation and Sandy Zingler
URL:https://www.midsummersmusic.com/event/e1-kress-pavilion-egg-harbor/
LOCATION:Donald and Carol Kress Pavilion\, 7845 Church St.\, Egg Harbor\, WI\, 54209
CATEGORIES:Concert,Midsummer's Music
END:VEVENT
BEGIN:VEVENT
DTSTART;TZID=America/Chicago:20230714T190000
DTEND;TZID=America/Chicago:20230714T210000
DTSTAMP:20260425T200157
CREATED:20230325T050125Z
LAST-MODIFIED:20251229T194743Z
UID:9917-1689361200-1689368400@www.midsummersmusic.com
SUMMARY:Eric Lewis Meets Will Healy • Shepherd of the Bay\, Ellison Bay
DESCRIPTION:Door County favorite Eric Lewis joins forces with Midsummer’s own Composer-in-Residence Will Healy to create a truly one-of-a-kind program. Being presented only twice\, you do not want to miss a single note of this incredible collaboration\, including a world premiere piano quartet by Will! \n\n\nMovements from Sonata No. 6 in G Major\, BWV 1019  • J.S. Bach\nViolin and Piano (Will Healy & George Meyer)\nBourée from Suite in E Minor\, BWV 996 • J.S. Bach\nGuitar (Eric Lewis)\nEric Lewis Set:\n\nKaty Hopkins\nOff to Lambeau\nFor Rose Mary (world premiere)\nAdditional Selections\n\nWill Healy/George Meyer Set: \n\nGood for You\nLet the Record Show (world premiere)\nSquirrel Holster\n\nRoot Position (world premiere) • Will Healy\nTrio for Two Violins and Cello • George Meyer\nEnsemble Selections (with world premiere)\n\nEric Lewis\, Vocals/Guitar • Will Healy\, Piano • Sahada Buckley & George Meyer\, Violins • Allyson Fleck\, Viola • Mara McClain\, Cello • Drew Banzhaf\, Bass\n\nSponsored by Tim & Sue Stone\nSupporting Sponsor: MMG Foundation
URL:https://www.midsummersmusic.com/event/e2-shepherd-bay-ellison-bay/
LOCATION:Shepherd of the Bay Lutheran Church\, 11836 WI-42\, Ellison Bay\, WI\, 54210
CATEGORIES:Concert,Midsummer's Music
END:VEVENT
BEGIN:VEVENT
DTSTART;TZID=America/Chicago:20230715T190000
DTEND;TZID=America/Chicago:20230715T210000
DTSTAMP:20260425T200157
CREATED:20230325T050115Z
LAST-MODIFIED:20251229T194743Z
UID:9919-1689447600-1689454800@www.midsummersmusic.com
SUMMARY:Emperor Concerto & Jeannie Yu • St. Luke's\, Sister Bay
DESCRIPTION:SOLD OUT \nOur reigning Queen\, pianist Jeannie Yu\, takes on The Emperor\, a match made in heaven! This Beethoven arrangement for piano and strings by Vincent Lachner\, a friend of Schubert\, is sumptuously introduced by our virtuoso flutist\, Heather Zinninger\, in a chamber version of Haydn’s Symphony No. 94 and Crusell’s exhilarating Quartet for Flute and Strings. \nQuartet in D Major\, Op. 8 • Bernhard Henrik Crusell\nFlute and Strings \nSymphony No. 94 in G Major “The Surprise” • Franz Joseph Haydn\nFlute and Strings \nConcerto No. 5 in E-flat Major\, Op. 73\, “Emperor” (Lachner arr.) • Ludwig van Beethoven\nPiano and Strings \nHeather Zinninger\, Flute • David Perry & Sahada Buckley\, Violins • Allyson Fleck\, Viola • Mara McClain\, Cello • Drew Banzhaf\, Bass • Jeannie Yu\, Piano \nSponsored by Roy & Betsy Gill
URL:https://www.midsummersmusic.com/event/f1-st-lukes-sister-bay/
LOCATION:St. Luke’s Episcopal Church\, 2336 Canterbury Ln\, Sister Bay\, WI\, 54234
CATEGORIES:Concert,Midsummer's Music
END:VEVENT
BEGIN:VEVENT
DTSTART;TZID=America/Chicago:20230716T170000
DTEND;TZID=America/Chicago:20230716T190000
DTSTAMP:20260425T200157
CREATED:20230325T050142Z
LAST-MODIFIED:20251229T194743Z
UID:9921-1689526800-1689534000@www.midsummersmusic.com
SUMMARY:Emperor Concerto & Jeannie Yu • Hope UCC\, Sturgeon Bay
DESCRIPTION:Our reigning Queen\, pianist Jeannie Yu\, takes on The Emperor\, a match made in heaven! This Beethoven arrangement for piano and strings by Vincent Lachner\, a friend of Schubert\, is sumptuously introduced by our virtuoso flutist\, Heather Zinninger\, in a chamber version of Haydn’s Symphony No. 94 and Crusell’s exhilarating Quartet for Flute and Strings. \nQuartet in D Major\, Op. 8 • Bernhard Henrik Crusell\nFlute and Strings \nSymphony No. 94 in G Major “The Surprise” • Franz Joseph Haydn\nFlute and Strings \nConcerto No. 5 in E-flat Major\, Op. 73\, “Emperor” (Lachner arr.) • Ludwig van Beethoven\nPiano and Strings \nHeather Zinninger\, Flute • David Perry & Sahada Buckley\, Violins • Allyson Fleck\, Viola • Mara McClain\, Cello • Drew Banzhaf\, Bass • Jeannie Yu\, Piano \nIn memory of James Hoehn\, MD \nSponsored by Sandy Zingler
URL:https://www.midsummersmusic.com/event/f2-hope-ucc-sturgeon-bay/
LOCATION:Hope United Church of Christ\, 141 S 12th Ave.\, Sturgeon Bay\, WI\, 54235\, United States
CATEGORIES:Concert,Midsummer's Music
END:VEVENT
BEGIN:VEVENT
DTSTART;TZID=America/Chicago:20230719T190000
DTEND;TZID=America/Chicago:20230719T210000
DTSTAMP:20260425T200157
CREATED:20230325T050100Z
LAST-MODIFIED:20251229T194743Z
UID:9923-1689793200-1689800400@www.midsummersmusic.com
SUMMARY:Emperor Concerto & Jeannie Yu • Kress Pavilion\, Egg Harbor
DESCRIPTION:SOLD OUT \nOur reigning Queen\, pianist Jeannie Yu\, takes on The Emperor\, a match made in heaven! This Beethoven arrangement for piano and strings by Vincent Lachner\, a friend of Schubert\, is sumptuously introduced by our virtuoso flutist\, Heather Zinninger\, in a chamber version of Haydn’s Symphony No. 94 and Crusell’s exhilarating Quartet for Flute and Strings. \nQuartet in D Major\, Op. 8 • Bernhard Henrik Crusell\nFlute and Strings \nSymphony No. 94 in G Major “The Surprise” • Franz Joseph Haydn\nFlute and Strings \nConcerto No. 5 in E-flat Major\, Op. 73\, “Emperor” (Lachner arr.) • Ludwig van Beethoven\nPiano and Strings \nHeather Zinninger\, Flute • David Perry & Sahada Buckley\, Violins • Allyson Fleck\, Viola • Mara McClain\, Cello • Drew Banzhaf\, Bass • Jeannie Yu\, Piano \nSponsored by Elmer Lewis in memory of Ann Lewis
URL:https://www.midsummersmusic.com/event/f3-kress-pavilion-egg-harbor/
LOCATION:Donald and Carol Kress Pavilion\, 7845 Church St.\, Egg Harbor\, WI\, 54209
CATEGORIES:Concert,Midsummer's Music
END:VEVENT
BEGIN:VEVENT
DTSTART;TZID=America/Chicago:20230720T190000
DTEND;TZID=America/Chicago:20230720T210000
DTSTAMP:20260425T200157
CREATED:20230325T050139Z
LAST-MODIFIED:20251229T194743Z
UID:10042-1689879600-1689886800@www.midsummersmusic.com
SUMMARY:Haydn (Michael) & Mendelssohn • Old Gibraltar Town Hall\, Fish Creek
DESCRIPTION:Electrifying string quintets by Mendelssohn and Joseph Haydn’s much neglected brother\, Michael. The energy\, charm\, and excitement are palpable and is sandwiched around a beautifully evocative quartet for Oboe and Strings by Ernest John Moeran featuring UW–Madison oboe star Lindsay Flowers. \nString Quintet in C Major\, P. 108 • Michael Haydn\nTwo Violins\, Two Violas\, and Cello \nPhantasy Quartet • Ernest John Moeran\nOboe\, Violin\, Viola\, and Cello \nQuintet No. 2 in B-flat Major\, Op. 87 • Felix Mendelssohn\nTwo Violins\, Two Violas\, and Cello \nLindsay Flowers\, Oboe • David Perry & Ann Palen\, Violins • Allyson Fleck & Kayla Patrick\, Violas • Mara McClain\, Cello \nSponsored by Stefan & Joan Anderson
URL:https://www.midsummersmusic.com/event/haydn-michael-mendelssohn/
LOCATION:Old Gibraltar Town Hall\, 4176 Maple St\, Fish Creek\, WI\, 54212
CATEGORIES:Concert,Midsummer's Music
END:VEVENT
BEGIN:VEVENT
DTSTART;TZID=America/Chicago:20230721T190000
DTEND;TZID=America/Chicago:20230721T210000
DTSTAMP:20260425T200157
CREATED:20230325T050159Z
LAST-MODIFIED:20251229T194743Z
UID:9925-1689966000-1689973200@www.midsummersmusic.com
SUMMARY:Emperor Concerto & Jeannie Yu • UUF\, Ephraim
DESCRIPTION:SOLD OUT (tickets may be available at the door)\n \nOur reigning Queen\, pianist Jeannie Yu\, takes on The Emperor\, a match made in heaven! This Beethoven arrangement for piano and strings by Vincent Lachner\, a friend of Schubert\, is sumptuously introduced by our virtuoso flutist\, Heather Zinninger\, in a chamber version of Haydn’s Symphony No. 94 and Crusell’s exhilarating Quartet for Flute and Strings. \nQuartet in D Major\, Op. 8 • Bernhard Henrik Crusell\nFlute and Strings \nSymphony No. 94 in G Major “The Surprise” • Franz Joseph Haydn\nFlute and Strings \nConcerto No. 5 in E-flat Major\, Op. 73\, “Emperor” (Lachner arr.) • Ludwig van Beethoven\nPiano and Strings \nHeather Zinninger\, Flute • David Perry & Sahada Buckley\, Violins • Allyson Fleck\, Viola • Mara McClain\, Cello • Drew Banzhaf\, Bass • Jeannie Yu\, Piano \nSponsored by Arlene Johnson & Chris Weidenbacher
URL:https://www.midsummersmusic.com/event/f4-uuf-ephraim/
LOCATION:Unitarian Universalist Fellowship of Door County\, 10341 Water Street HWY 42\, Ephraim\, WI\, 54211
CATEGORIES:Concert,Midsummer's Music
END:VEVENT
BEGIN:VEVENT
DTSTART;TZID=America/Chicago:20230722T190000
DTEND;TZID=America/Chicago:20230722T210000
DTSTAMP:20260425T200157
CREATED:20230325T050156Z
LAST-MODIFIED:20251229T194743Z
UID:10045-1690052400-1690059600@www.midsummersmusic.com
SUMMARY:Haydn (Michael) & Mendelssohn • St. Luke's\, Sister Bay
DESCRIPTION:Electrifying string quintets by Mendelssohn and Joseph Haydn’s much neglected brother\, Michael. The energy\, charm\, and excitement are palpable and is sandwiched around a beautifully evocative quartet for Oboe and Strings by Ernest John Moeran featuring UW–Madison oboe star Lindsay Flowers. \nString Quintet in C Major\, P. 108 • Michael Haydn\nTwo Violins\, Two Violas\, and Cello \nPhantasy Quartet • Ernest John Moeran\nOboe\, Violin\, Viola\, and Cello \nQuintet No. 2 in B-flat Major\, Op. 87 • Felix Mendelssohn\nTwo Violins\, Two Violas\, and Cello \nLindsay Flowers\, Oboe • David Perry & Ann Palen\, Violins • Allyson Fleck & Kayla Patrick\, Violas • Mara McClain\, Cello
URL:https://www.midsummersmusic.com/event/haydn-michael-mendelssohn-2/
LOCATION:St. Luke’s Episcopal Church\, 2336 Canterbury Ln\, Sister Bay\, WI\, 54234
CATEGORIES:Concert,Midsummer's Music
END:VEVENT
BEGIN:VEVENT
DTSTART;TZID=America/Chicago:20230723T170000
DTEND;TZID=America/Chicago:20230723T190000
DTSTAMP:20260425T200157
CREATED:20230325T050152Z
LAST-MODIFIED:20251229T194743Z
UID:10047-1690131600-1690138800@www.midsummersmusic.com
SUMMARY:Haydn (Michael) & Mendelssohn • Woodwalk Gallery\, Egg Harbor
DESCRIPTION:Electrifying string quintets by Mendelssohn and Joseph Haydn’s much neglected brother\, Michael. The energy\, charm\, and excitement are palpable and is sandwiched around a beautifully evocative quartet for Oboe and Strings by Ernest John Moeran featuring UW–Madison oboe star Lindsay Flowers. \nString Quintet in C Major\, P. 108 • Michael Haydn\nTwo Violins\, Two Violas\, and Cello \nPhantasy Quartet • Ernest John Moeran\nOboe\, Violin\, Viola\, and Cello \nQuintet No. 2 in B-flat Major\, Op. 87 • Felix Mendelssohn\nTwo Violins\, Two Violas\, and Cello \nLindsay Flowers\, Oboe • David Perry & Ann Palen\, Violins • Allyson Fleck & Kayla Patrick\, Violas • Mara McClain\, Cello \nSponsored by Peter & Beverly Ann Conroy
URL:https://www.midsummersmusic.com/event/haydn-michael-mendelssohn-3/
LOCATION:Woodwalk Gallery\, 6746 County Rd. G\, Egg Harbor\, WI\, 54209
CATEGORIES:Concert,Midsummer's Music
END:VEVENT
BEGIN:VEVENT
DTSTART;TZID=America/Chicago:20230726T190000
DTEND;TZID=America/Chicago:20230726T210000
DTSTAMP:20260425T200157
CREATED:20230325T050147Z
LAST-MODIFIED:20251229T194743Z
UID:10049-1690398000-1690405200@www.midsummersmusic.com
SUMMARY:Haydn (Michael) & Mendelssohn • Sister Bay Moravian Church\, Sister Bay
DESCRIPTION:Electrifying string quintets by Mendelssohn and Joseph Haydn’s much neglected brother\, Michael. The energy\, charm\, and excitement are palpable and is sandwiched around a beautifully evocative quartet for Oboe and Strings by Ernest John Moeran featuring UW–Madison oboe star Lindsay Flowers. \nString Quintet in C Major\, P. 108 • Michael Haydn\nTwo Violins\, Two Violas\, and Cello \nPhantasy Quartet • Ernest John Moeran\nOboe\, Violin\, Viola\, and Cello \nQuintet No. 2 in B-flat Major\, Op. 87 • Felix Mendelssohn\nTwo Violins\, Two Violas\, and Cello \nLindsay Flowers\, Oboe • David Perry & Ann Palen\, Violins • Allyson Fleck & Kayla Patrick\, Violas • Mara McClain\, Cello \nSupporting Sponsor: Peery & Mary Ann Duderstadt
URL:https://www.midsummersmusic.com/event/haydn-michael-mendelssohn-4/
LOCATION:Sister Bay Moravian Church\, 10924 Old Stage Rd\, Sister Bay\, WI\, 54234
CATEGORIES:Concert,Midsummer's Music
END:VEVENT
BEGIN:VEVENT
DTSTART;TZID=America/Chicago:20230727T190000
DTEND;TZID=America/Chicago:20230727T210000
DTSTAMP:20260425T200157
CREATED:20230325T050147Z
LAST-MODIFIED:20251229T194743Z
UID:10051-1690484400-1690491600@www.midsummersmusic.com
SUMMARY:Schubert Trio • Kress Pavilion\, Egg Harbor
DESCRIPTION:Written just before his untimely death\, Schubert’s Piano Trio in B-flat is one of two monumental trios he wrote at the height of his creativity. It is a mountain to climb\, but the view is worth it! Ukrainian composer Dmytro Klebanov’s 2nd Piano Trio prepares the way with its heart-rending melodies. \nPiano Trio No. 2 • Dmytro Klebanov\nPiano\, Violin\, and Cello \nPiano Trio No. 1 in B-flat\, D. 898 • Franz Schubert\nPiano\, Violin\, and Cello \nDavid Perry\, Violin • Mara McClain\, Cello • Jeannie Yu\, Piano \nSponsored by David & Nancy Borghesi
URL:https://www.midsummersmusic.com/event/schubert-trio-kress-pavilion/
LOCATION:Donald and Carol Kress Pavilion\, 7845 Church St.\, Egg Harbor\, WI\, 54209
CATEGORIES:Concert,Midsummer's Music
END:VEVENT
BEGIN:VEVENT
DTSTART;TZID=America/Chicago:20230728T190000
DTEND;TZID=America/Chicago:20230728T210000
DTSTAMP:20260425T200157
CREATED:20230325T050126Z
LAST-MODIFIED:20251229T194743Z
UID:10054-1690570800-1690578000@www.midsummersmusic.com
SUMMARY:Schubert Trio • UUF\, Ephraim
DESCRIPTION:Written just before his untimely death\, Schubert’s Piano Trio in B-flat is one of two monumental trios he wrote at the height of his creativity. It is a mountain to climb\, but the view is worth it! Ukrainian composer Dmytro Klebanov’s 2nd Piano Trio prepares the way with its heart-rending melodies. \nPiano Trio No. 2 • Dmytro Klebanov\nPiano\, Violin\, and Cello \nPiano Trio No. 1 in B-flat\, D. 898 • Franz Schubert\nPiano\, Violin\, and Cello \nDavid Perry\, Violin • Mara McClain\, Cello • Jeannie Yu\, Piano
URL:https://www.midsummersmusic.com/event/schubert-trio-uuf-ephraim/
LOCATION:Unitarian Universalist Fellowship of Door County\, 10341 Water Street HWY 42\, Ephraim\, WI\, 54211
CATEGORIES:Concert,Midsummer's Music
END:VEVENT
BEGIN:VEVENT
DTSTART;TZID=America/Chicago:20230729T190000
DTEND;TZID=America/Chicago:20230729T210000
DTSTAMP:20260425T200157
CREATED:20230325T050158Z
LAST-MODIFIED:20251229T194743Z
UID:10056-1690657200-1690664400@www.midsummersmusic.com
SUMMARY:Schubert Trio • St. Luke's\, Sister Bay
DESCRIPTION:Written just before his untimely death\, Schubert’s Piano Trio in B-flat is one of two monumental trios he wrote at the height of his creativity. It is a mountain to climb\, but the view is worth it! Ukrainian composer Dmytro Klebanov’s 2nd Piano Trio prepares the way with its heart-rending melodies. \nPiano Trio No. 2 • Dmytro Klebanov\nPiano\, Violin\, and Cello \nPiano Trio No. 1 in B-flat\, D. 898 • Franz Schubert\nPiano\, Violin\, and Cello \nDavid Perry\, Violin • Mara McClain\, Cello • Jeannie Yu\, Piano \nSponsored by Ross & Loralee Holton
URL:https://www.midsummersmusic.com/event/schubert-trio-st-lukes/
LOCATION:St. Luke’s Episcopal Church\, 2336 Canterbury Ln\, Sister Bay\, WI\, 54234
CATEGORIES:Concert,Midsummer's Music
END:VEVENT
BEGIN:VEVENT
DTSTART;TZID=America/Chicago:20230730T170000
DTEND;TZID=America/Chicago:20230730T190000
DTSTAMP:20260425T200157
CREATED:20230325T050155Z
LAST-MODIFIED:20251229T194742Z
UID:10058-1690736400-1690743600@www.midsummersmusic.com
SUMMARY:Schubert Trio • Hope UCC\, Sturgeon Bay
DESCRIPTION:Written just before his untimely death\, Schubert’s Piano Trio in B-flat is one of two monumental trios he wrote at the height of his creativity. It is a mountain to climb\, but the view is worth it! Ukrainian composer Dmytro Klebanov’s 2nd Piano Trio prepares the way with its heart-rending melodies. \nPiano Trio No. 2 • Dmytro Klebanov\nPiano\, Violin\, and Cello \nPiano Trio No. 1 in B-flat\, D. 898 • Franz Schubert\nPiano\, Violin\, and Cello \nDavid Perry\, Violin • Mara McClain\, Cello • Jeannie Yu\, Piano \nSponsored by Sandy Zingler
URL:https://www.midsummersmusic.com/event/schubert-trio-hope-ucc-sturgeon/
LOCATION:Hope United Church of Christ\, 141 S 12th Ave.\, Sturgeon Bay\, WI\, 54235\, United States
CATEGORIES:Concert,Midsummer's Music
END:VEVENT
END:VCALENDAR