BEGIN:VCALENDAR
VERSION:2.0
PRODID:-//Midsummer&#039;s Music and its affiliate, the Griffon String Quartet - ECPv6.15.20//NONSGML v1.0//EN
CALSCALE:GREGORIAN
METHOD:PUBLISH
X-WR-CALNAME:Midsummer&#039;s Music and its affiliate, the Griffon String Quartet
X-ORIGINAL-URL:https://www.midsummersmusic.com
X-WR-CALDESC:Events for Midsummer&#039;s Music and its affiliate, the Griffon String Quartet
REFRESH-INTERVAL;VALUE=DURATION:PT1H
X-Robots-Tag:noindex
X-PUBLISHED-TTL:PT1H
BEGIN:VTIMEZONE
TZID:America/Chicago
BEGIN:DAYLIGHT
TZOFFSETFROM:-0600
TZOFFSETTO:-0500
TZNAME:CDT
DTSTART:20220313T080000
END:DAYLIGHT
BEGIN:STANDARD
TZOFFSETFROM:-0500
TZOFFSETTO:-0600
TZNAME:CST
DTSTART:20221106T070000
END:STANDARD
BEGIN:DAYLIGHT
TZOFFSETFROM:-0600
TZOFFSETTO:-0500
TZNAME:CDT
DTSTART:20230312T080000
END:DAYLIGHT
BEGIN:STANDARD
TZOFFSETFROM:-0500
TZOFFSETTO:-0600
TZNAME:CST
DTSTART:20231105T070000
END:STANDARD
BEGIN:DAYLIGHT
TZOFFSETFROM:-0600
TZOFFSETTO:-0500
TZNAME:CDT
DTSTART:20240310T080000
END:DAYLIGHT
BEGIN:STANDARD
TZOFFSETFROM:-0500
TZOFFSETTO:-0600
TZNAME:CST
DTSTART:20241103T070000
END:STANDARD
END:VTIMEZONE
BEGIN:VEVENT
DTSTART;TZID=America/Chicago:20230513T150000
DTEND;TZID=America/Chicago:20230513T170000
DTSTAMP:20260425T233206
CREATED:20230402T142427Z
LAST-MODIFIED:20251229T195029Z
UID:10110-1683990000-1683997200@www.midsummersmusic.com
SUMMARY:Music for Food • Birch Creek\, Egg Harbor
DESCRIPTION:Music for Food is a musician-led initiative for local hunger relief. Music for Food concerts raise resources and awareness in the fight against hunger\, empowering any musicians who wish to use their artistry to further social justice. \nProgram Selections (intermission will be announced at the performance) – May 13/14 \nHöchster\, was ich habe\, from Cantata 39                                J.S. Bach\nVoice\, Flute\, and Keyboard (May 13)\nVoice\, Violin\, and Keyboard (May 14) \nPrelude No. 1 in C Major (May 13)                                            J.S. Bach\nKeyboard \nLime Jello Marshmallow Cottage Cheese Surprise              William Bolcom\nVoice and Keyboard \nSarabande and Rigaudon\, Op. 60 (May 13)                            Arthur Foote\nFlute\, Viola\, and Keyboard \nTrauermusik “Music of Mourning”                                            Paul Hindemith\nViola and Keyboard \nDuo for Violin and Viola\, K.423 (May 14)                                Wolfgang Amadeus Mozart\nViolin and Viola \nEarly in the Morning                                                                       Ned Rorem\nVoice and Keyboard \nEtude in C-sharp Major\, Op. 2\, No. 1                                        Alexander Scriabin\nKeyboard \nCarillon de Westminster (May 14)                                             Louis Vierne\nOrgan \nAdditional selections may be announced at the concerts. \nMona Christensen (flute\, Birch Creek)\nAllyson Fleck (viola\, Midsummer’s Music)\nRoy Meyer (violin\, Griffon String Quartet)\nCyndy Stiehl (soprano\, Ephraim Moravian Church)\nColin Welford (keyboard\, Colin and Friends) \nThis is a benefit concert in support of Music for Food. All checks should be made out to “Music for Food” with “Door County Food Pantry Coalition” denoted in the memo line. 100% of the funds collected will go to the Door County Food Pantry Coalition.
URL:https://www.midsummersmusic.com/event/music-food-birch-creek-egg/
LOCATION:Birch Creek Music Performance Center – Juniper Hall\, 3821 County Rd. E\, Egg Harbor\, WI\, 54209
CATEGORIES:Concert,Midsummer's Music
END:VEVENT
BEGIN:VEVENT
DTSTART;TZID=America/Chicago:20230514T150000
DTEND;TZID=America/Chicago:20230514T170000
DTSTAMP:20260425T233206
CREATED:20230402T142230Z
LAST-MODIFIED:20251229T195024Z
UID:10108-1684076400-1684083600@www.midsummersmusic.com
SUMMARY:Music for Food • Ephraim Moravian Church
DESCRIPTION:Music for Food is a musician-led initiative for local hunger relief. Music for Food concerts raise resources and awareness in the fight against hunger\, empowering any musicians who wish to use their artistry to further social justice. \nProgram Selections (intermission will be announced at the performance) – May 13/14 \nHöchster\, was ich habe\, from Cantata 39                                J.S. Bach\nVoice\, Flute\, and Keyboard (May 13)\nVoice\, Violin\, and Keyboard (May 14) \nPrelude No. 1 in C Major (May 13)                                            J.S. Bach\nKeyboard \nLime Jello Marshmallow Cottage Cheese Surprise              William Bolcom\nVoice and Keyboard \nSarabande and Rigaudon\, Op. 60 (May 13)                            Arthur Foote\nFlute\, Viola\, and Keyboard \nTrauermusik “Music of Mourning”                                            Paul Hindemith\nViola and Keyboard \nDuo for Violin and Viola\, K.423 (May 14)                                Wolfgang Amadeus Mozart\nViolin and Viola \nEarly in the Morning                                                                       Ned Rorem\nVoice and Keyboard \nEtude in C-sharp Major\, Op. 2\, No. 1                                        Alexander Scriabin\nKeyboard \nCarillon de Westminster (May 14)                                             Louis Vierne\nOrgan \nAdditional selections may be announced at the concerts. \nMona Christensen (flute\, Birch Creek)\nAllyson Fleck (viola\, Midsummer’s Music)\nRoy Meyer (violin\, Griffon String Quartet)\nCyndy Stiehl (soprano\, Ephraim Moravian Church)\nColin Welford (keyboard\, Colin & Friends Concerts) \nThis is a benefit concert in support of Music for Food. All checks should be made out to “Music for Food” with “Door County Food Pantry Coalition” denoted in the memo line. 100% of the funds collected will go to the Door County Food Pantry Coalition.
URL:https://www.midsummersmusic.com/event/music-food-ephraim-moravian/
LOCATION:Ephraim Moravian Church\, 9970 Moravia St\, Ephraim\, WI\, 54211
CATEGORIES:Concert,Midsummer's Music
END:VEVENT
END:VCALENDAR