BEGIN:VCALENDAR
VERSION:2.0
PRODID:-//Midsummer&#039;s Music and its affiliate, the Griffon String Quartet - ECPv6.15.20//NONSGML v1.0//EN
CALSCALE:GREGORIAN
METHOD:PUBLISH
X-WR-CALNAME:Midsummer&#039;s Music and its affiliate, the Griffon String Quartet
X-ORIGINAL-URL:https://www.midsummersmusic.com
X-WR-CALDESC:Events for Midsummer&#039;s Music and its affiliate, the Griffon String Quartet
REFRESH-INTERVAL;VALUE=DURATION:PT1H
X-Robots-Tag:noindex
X-PUBLISHED-TTL:PT1H
BEGIN:VTIMEZONE
TZID:America/Chicago
BEGIN:DAYLIGHT
TZOFFSETFROM:-0600
TZOFFSETTO:-0500
TZNAME:CDT
DTSTART:20250309T080000
END:DAYLIGHT
BEGIN:STANDARD
TZOFFSETFROM:-0500
TZOFFSETTO:-0600
TZNAME:CST
DTSTART:20251102T070000
END:STANDARD
BEGIN:DAYLIGHT
TZOFFSETFROM:-0600
TZOFFSETTO:-0500
TZNAME:CDT
DTSTART:20260308T080000
END:DAYLIGHT
BEGIN:STANDARD
TZOFFSETFROM:-0500
TZOFFSETTO:-0600
TZNAME:CST
DTSTART:20261101T070000
END:STANDARD
BEGIN:DAYLIGHT
TZOFFSETFROM:-0600
TZOFFSETTO:-0500
TZNAME:CDT
DTSTART:20270314T080000
END:DAYLIGHT
BEGIN:STANDARD
TZOFFSETFROM:-0500
TZOFFSETTO:-0600
TZNAME:CST
DTSTART:20271107T070000
END:STANDARD
END:VTIMEZONE
BEGIN:VEVENT
DTSTART;TZID=America/Chicago:20260620T130000
DTEND;TZID=America/Chicago:20260620T140000
DTSTAMP:20260423T143000
CREATED:20260417T133317Z
LAST-MODIFIED:20260417T135109Z
UID:14762-1781960400-1781964000@www.midsummersmusic.com
SUMMARY:Coffee Talk with Peter Conroy\, PhD: What is the Pop in Popular Music? Rock'n'Roll.
DESCRIPTION:Peter Conroy is Professor Emeritus of French at the University of Illinois\, Chicago. He taught there for 34 years and served as department chairman. He is a widely published literary scholar. \nHe and his wife Beverly have been seasonal residents of Door County since the mid 1980s. Before that\, they were tent campers in Peninsula State Park starting in the late 1960s. Currently they own a summer home in Fish Creek. \nBoth Peter and Beverly have been long time and loyal supporters of MidSummers Music. Last year Peter delivered a paper for MSM on “Music and Revolution” which dealt with classical music and the political context in which he was composed and performed. This year he is following up with a paper on more modern music entitled “What is the ‘Pop” in Popular Music? Rock’n’Roll.”
URL:https://www.midsummersmusic.com/event/coffee-talk-with-peter-conroy-phd-what-is-the-pop-in-popular-music-rocknroll/
LOCATION:Unitarian Universalist Fellowship of Door County\, 10341 Water Street HWY 42\, Ephraim\, WI\, 54211
CATEGORIES:Coffee Talk,Midsummer's Music
END:VEVENT
BEGIN:VEVENT
DTSTART;TZID=America/Chicago:20260711T130000
DTEND;TZID=America/Chicago:20260711T140000
DTSTAMP:20260423T143000
CREATED:20260417T133252Z
LAST-MODIFIED:20260417T133252Z
UID:14764-1783774800-1783778400@www.midsummersmusic.com
SUMMARY:Coffee Talk - George Meyer
DESCRIPTION:Coffee Talk – George Meyer
URL:https://www.midsummersmusic.com/event/coffee-talk-george-meyer/
LOCATION:Unitarian Universalist Fellowship of Door County\, 10341 Water Street HWY 42\, Ephraim\, WI\, 54211
CATEGORIES:Coffee Talk,Midsummer's Music
END:VEVENT
BEGIN:VEVENT
DTSTART;TZID=America/Chicago:20260718T130000
DTEND;TZID=America/Chicago:20260718T140000
DTSTAMP:20260423T143000
CREATED:20260417T133252Z
LAST-MODIFIED:20260417T133252Z
UID:14766-1784379600-1784383200@www.midsummersmusic.com
SUMMARY:Coffee Talk - Ansel Norris
DESCRIPTION:Coffee Talk – Ansel Norris
URL:https://www.midsummersmusic.com/event/coffee-talk-ansel-norris/
LOCATION:Unitarian Universalist Fellowship of Door County\, 10341 Water Street HWY 42\, Ephraim\, WI\, 54211
CATEGORIES:Coffee Talk,Midsummer's Music
END:VEVENT
BEGIN:VEVENT
DTSTART;TZID=America/Chicago:20260801T130000
DTEND;TZID=America/Chicago:20260801T140000
DTSTAMP:20260423T143000
CREATED:20260417T133229Z
LAST-MODIFIED:20260417T133229Z
UID:14768-1785589200-1785592800@www.midsummersmusic.com
SUMMARY:Coffee Talk - Amanda Beranek
DESCRIPTION:Coffee Talk – Amanda Beranek
URL:https://www.midsummersmusic.com/event/coffee-talk-amanda-beranek/
LOCATION:Unitarian Universalist Fellowship of Door County\, 10341 Water Street HWY 42\, Ephraim\, WI\, 54211
CATEGORIES:Coffee Talk,Midsummer's Music
END:VEVENT
BEGIN:VEVENT
DTSTART;TZID=America/Chicago:20260829T130000
DTEND;TZID=America/Chicago:20260829T140000
DTSTAMP:20260423T143000
CREATED:20260417T133229Z
LAST-MODIFIED:20260417T133229Z
UID:14770-1788008400-1788012000@www.midsummersmusic.com
SUMMARY:Coffee Talk with Elmer Lewis: The Physics of Music - Without the Equations
DESCRIPTION:Coffee Talk – Elmer Lewis
URL:https://www.midsummersmusic.com/event/coffee-talk-with-elmer-lewis-the-physics-of-music-without-the-equations/
LOCATION:Unitarian Universalist Fellowship of Door County\, 10341 Water Street HWY 42\, Ephraim\, WI\, 54211
CATEGORIES:Coffee Talk,Midsummer's Music
END:VEVENT
END:VCALENDAR