BEGIN:VCALENDAR
VERSION:2.0
PRODID:-//Midsummer&#039;s Music and its affiliate, the Griffon String Quartet - ECPv6.15.20//NONSGML v1.0//EN
CALSCALE:GREGORIAN
METHOD:PUBLISH
X-ORIGINAL-URL:https://www.midsummersmusic.com
X-WR-CALDESC:Events for Midsummer&#039;s Music and its affiliate, the Griffon String Quartet
REFRESH-INTERVAL;VALUE=DURATION:PT1H
X-Robots-Tag:noindex
X-PUBLISHED-TTL:PT1H
BEGIN:VTIMEZONE
TZID:America/Chicago
BEGIN:DAYLIGHT
TZOFFSETFROM:-0600
TZOFFSETTO:-0500
TZNAME:CDT
DTSTART:20250309T080000
END:DAYLIGHT
BEGIN:STANDARD
TZOFFSETFROM:-0500
TZOFFSETTO:-0600
TZNAME:CST
DTSTART:20251102T070000
END:STANDARD
BEGIN:DAYLIGHT
TZOFFSETFROM:-0600
TZOFFSETTO:-0500
TZNAME:CDT
DTSTART:20260308T080000
END:DAYLIGHT
BEGIN:STANDARD
TZOFFSETFROM:-0500
TZOFFSETTO:-0600
TZNAME:CST
DTSTART:20261101T070000
END:STANDARD
BEGIN:DAYLIGHT
TZOFFSETFROM:-0600
TZOFFSETTO:-0500
TZNAME:CDT
DTSTART:20270314T080000
END:DAYLIGHT
BEGIN:STANDARD
TZOFFSETFROM:-0500
TZOFFSETTO:-0600
TZNAME:CST
DTSTART:20271107T070000
END:STANDARD
END:VTIMEZONE
BEGIN:VEVENT
DTSTART;TZID=America/Chicago:20260515T150000
DTEND;TZID=America/Chicago:20260515T170000
DTSTAMP:20260423T112617
CREATED:20260204T133310Z
LAST-MODIFIED:20260204T133310Z
UID:14533-1778857200-1778864400@www.midsummersmusic.com
SUMMARY:88 Key Society Concert • Sister Bay
DESCRIPTION:The Griffon String Quartet will perform at the May gathering of the 88 Key Society at St. Luke’s Episcopal Church in Sister Bay\, presenting an afternoon of chamber music in the church’s warm and resonant setting. The program will feature music performed by the Griffon String Quartet alongside pianist Rie Tanaka and cellist Jesse Nummelin\, bringing together a rich collaboration of artists for a nuanced and expressive musical experience. \nThis performance highlights the depth\, artistry\, and collaborative spirit that define the 88 Key Society’s commitment to exceptional live music. \nThe event is open to 88 Key Society members.
URL:https://www.midsummersmusic.com/event/88-key-society-concert-sister-bay-2/
LOCATION:St. Luke’s Episcopal Church\, 2336 Canterbury Ln\, Sister Bay\, WI\, 54234
CATEGORIES:88 Key,Midsummer's Music
ATTACH;FMTTYPE=image/jpeg:https://www.midsummersmusic.com/wp-content/uploads/2025/01/midsummerslogo-wineglasses-scaled.jpg
ORGANIZER;CN="Midsummer's Music":MAILTO:office@midsummersmusic.com
END:VEVENT
END:VCALENDAR