BEGIN:VCALENDAR
VERSION:2.0
PRODID:-//Midsummer&#039;s Music and its affiliate, the Griffon String Quartet - ECPv6.15.20//NONSGML v1.0//EN
CALSCALE:GREGORIAN
METHOD:PUBLISH
X-WR-CALNAME:Midsummer&#039;s Music and its affiliate, the Griffon String Quartet
X-ORIGINAL-URL:https://www.midsummersmusic.com
X-WR-CALDESC:Events for Midsummer&#039;s Music and its affiliate, the Griffon String Quartet
REFRESH-INTERVAL;VALUE=DURATION:PT1H
X-Robots-Tag:noindex
X-PUBLISHED-TTL:PT1H
BEGIN:VTIMEZONE
TZID:America/Chicago
BEGIN:DAYLIGHT
TZOFFSETFROM:-0600
TZOFFSETTO:-0500
TZNAME:CDT
DTSTART:20190310T080000
END:DAYLIGHT
BEGIN:STANDARD
TZOFFSETFROM:-0500
TZOFFSETTO:-0600
TZNAME:CST
DTSTART:20191103T070000
END:STANDARD
BEGIN:DAYLIGHT
TZOFFSETFROM:-0600
TZOFFSETTO:-0500
TZNAME:CDT
DTSTART:20200308T080000
END:DAYLIGHT
BEGIN:STANDARD
TZOFFSETFROM:-0500
TZOFFSETTO:-0600
TZNAME:CST
DTSTART:20201101T070000
END:STANDARD
BEGIN:DAYLIGHT
TZOFFSETFROM:-0600
TZOFFSETTO:-0500
TZNAME:CDT
DTSTART:20210314T080000
END:DAYLIGHT
BEGIN:STANDARD
TZOFFSETFROM:-0500
TZOFFSETTO:-0600
TZNAME:CST
DTSTART:20211107T070000
END:STANDARD
BEGIN:DAYLIGHT
TZOFFSETFROM:-0600
TZOFFSETTO:-0500
TZNAME:CDT
DTSTART:20220313T080000
END:DAYLIGHT
BEGIN:STANDARD
TZOFFSETFROM:-0500
TZOFFSETTO:-0600
TZNAME:CST
DTSTART:20221106T070000
END:STANDARD
BEGIN:DAYLIGHT
TZOFFSETFROM:-0600
TZOFFSETTO:-0500
TZNAME:CDT
DTSTART:20230312T080000
END:DAYLIGHT
BEGIN:STANDARD
TZOFFSETFROM:-0500
TZOFFSETTO:-0600
TZNAME:CST
DTSTART:20231105T070000
END:STANDARD
BEGIN:DAYLIGHT
TZOFFSETFROM:-0600
TZOFFSETTO:-0500
TZNAME:CDT
DTSTART:20240310T080000
END:DAYLIGHT
BEGIN:STANDARD
TZOFFSETFROM:-0500
TZOFFSETTO:-0600
TZNAME:CST
DTSTART:20241103T070000
END:STANDARD
BEGIN:DAYLIGHT
TZOFFSETFROM:-0600
TZOFFSETTO:-0500
TZNAME:CDT
DTSTART:20250309T080000
END:DAYLIGHT
BEGIN:STANDARD
TZOFFSETFROM:-0500
TZOFFSETTO:-0600
TZNAME:CST
DTSTART:20251102T070000
END:STANDARD
BEGIN:DAYLIGHT
TZOFFSETFROM:-0600
TZOFFSETTO:-0500
TZNAME:CDT
DTSTART:20260308T080000
END:DAYLIGHT
BEGIN:STANDARD
TZOFFSETFROM:-0500
TZOFFSETTO:-0600
TZNAME:CST
DTSTART:20261101T070000
END:STANDARD
END:VTIMEZONE
BEGIN:VEVENT
DTSTART;TZID=America/Chicago:20251121T150000
DTEND;TZID=America/Chicago:20251121T170000
DTSTAMP:20260423T130615
CREATED:20251017T132721Z
LAST-MODIFIED:20251229T191425Z
UID:14091-1763737200-1763744400@www.midsummersmusic.com
SUMMARY:88 Key Society Event • Sister Bay
DESCRIPTION:Midsummer’s Music’s 88 Key Society will host a special autumn gathering celebrating music\, friendship\, and community\, featuring a captivating performance by the Griffon String Quartet. Guests will enjoy an intimate afternoon of exceptional artistry as the Quartet shares its passion and talent through a rich and engaging program. This gathering not only highlights the beauty of chamber music but also honors the generosity and spirit of the 88 Key Society members whose support makes Midsummer’s Music possible.
URL:https://www.midsummersmusic.com/event/88-key-society-event-sister-bay/
LOCATION:St. Luke’s Episcopal Church\, 2336 Canterbury Ln\, Sister Bay\, WI\, 54234
CATEGORIES:88 Key,Midsummer's Music
ATTACH;FMTTYPE=image/jpeg:https://www.midsummersmusic.com/wp-content/uploads/2025/01/midsummerslogo-wineglasses-scaled.jpg
END:VEVENT
BEGIN:VEVENT
DTSTART;TZID=America/Chicago:20250214T150000
DTEND;TZID=America/Chicago:20250214T170000
DTSTAMP:20260423T130615
CREATED:20250121T135307Z
LAST-MODIFIED:20251229T193252Z
UID:12765-1739545200-1739552400@www.midsummersmusic.com
SUMMARY:88 Key Society Concert • Sister Bay
DESCRIPTION:The Griffon String Quartet’s cellist\, Jesse Nummelin\, performs with pianist (and his wife)\, Rie Tanaka\, for members of MM’s 88 Key Society. \nPolonaise Brillante in C Major\, Op. 3 • Frederic Chopin\n4 Pieces for Violin and Piano\, Op. 78 • Jean Sibelius\nSelections from Souvenirs\, Op. 28 • Samuel Barber\nSonata for Cello and Piano • Francis Poulenc \nMembers who cannot attend the performance will receive a special video of the performance by email.
URL:https://www.midsummersmusic.com/event/88-key-society-concert-sister-bay/
LOCATION:Snapcrackle Tabernacle\, 9821 Highway 57\, Baileys Harbor\, WI\, 54202\, United States
CATEGORIES:88 Key,Midsummer's Music
ATTACH;FMTTYPE=image/jpeg:https://www.midsummersmusic.com/wp-content/uploads/2025/01/midsummerslogo-wineglasses-scaled.jpg
END:VEVENT
BEGIN:VEVENT
DTSTART;TZID=America/Chicago:20230828T170000
DTEND;TZID=America/Chicago:20230828T210000
DTSTAMP:20260423T130615
CREATED:20230601T164907Z
LAST-MODIFIED:20251229T194657Z
UID:10328-1693242000-1693256400@www.midsummersmusic.com
SUMMARY:88 Key Society Island Clipper Sunset Cruise
DESCRIPTION:88 Key Society members – and anyone interested in becoming members – are invited to a potluck sunset cruise aboard the Island Clipper. We’ve chartered the boat for this special event! \nYou\, too\, can join the 88 Key Society. \nBecome a member today and enjoy opportunities to connect with other concertgoers and musicians! \nSail a sunset cruise with us on 8/28. For more details\, call 920-854-7088 \nBeverages will be provided. \nMore details to come.
URL:https://www.midsummersmusic.com/event/88-key-society-island-clipper/
LOCATION:Island Clipper\, 12731 WI-42\, Ellison Bay\, WI\, 54210
CATEGORIES:88 Key,Midsummer's Music
END:VEVENT
BEGIN:VEVENT
DTSTART;TZID=America/Chicago:20230401T110000
DTEND;TZID=America/Chicago:20230401T130000
DTSTAMP:20260423T130615
CREATED:20230209T160001Z
LAST-MODIFIED:20251229T195243Z
UID:9814-1680346800-1680354000@www.midsummersmusic.com
SUMMARY:88 Key Society Members Event
DESCRIPTION:SAVE THE DATE! \n88 Key Society members event with the Pro Arte Quartet. \nFood and beverages to be provided. \nLocation TBA \nProspective members welcome \nFor membership information and to RSVP\, call 920-854-7088.
URL:https://www.midsummersmusic.com/event/88-key-society-members-event/
CATEGORIES:88 Key,Midsummer's Music
END:VEVENT
BEGIN:VEVENT
DTSTART;TZID=America/Chicago:20221210T140000
DTEND;TZID=America/Chicago:20221210T160000
DTSTAMP:20260423T130615
CREATED:20221015T113207Z
LAST-MODIFIED:20251229T195519Z
UID:9541-1670680800-1670688000@www.midsummersmusic.com
SUMMARY:88 Key Society Mix & Mingle • Sister Bay
DESCRIPTION:88 Key Society members are invited to a festive Mix & Mingle on December 10 from 2:00pm to 4:00pm at the home of Dianne Trenchard in Sister Bay. Roy Meyer\, founding member of the Griffon String Quartet\, is the event’s special guest. Holiday-themed beverages and desserts will be provided. \nCall 920-854-7088 or email office@midsummersmusic.com to RSVP by December 8\, please. \nFor information about the 88 Key Society\, click here.
URL:https://www.midsummersmusic.com/event/88-key-society-mix-mingle/
LOCATION:Trenchard Residence\, Sister Bay\, WI
CATEGORIES:88 Key,Midsummer's Music
END:VEVENT
BEGIN:VEVENT
DTSTART;TZID=America/Chicago:20220402T140000
DTEND;TZID=America/Chicago:20220402T153000
DTSTAMP:20260423T130615
CREATED:20220128T155430Z
LAST-MODIFIED:20251229T200237Z
UID:8671-1648908000-1648913400@www.midsummersmusic.com
SUMMARY:88 Key Society High Tea
DESCRIPTION:Members of the 88 Key Society are invited to participate in this high tea featuring cellist James Waldo. \n2:00pm • Welcome. Snack/tea.\n2:15pm • Music\n2:45pm • Conversation with James\n3:00-3:30pm • Closing \nFor information on joining the 88 Key Society\, please see our web page.
URL:https://www.midsummersmusic.com/event/88-key-society-high-tea/
LOCATION:Donald and Carol Kress Pavilion\, 7845 Church St.\, Egg Harbor\, WI\, 54209
CATEGORIES:88 Key,Midsummer's Music
END:VEVENT
BEGIN:VEVENT
DTSTART;TZID=America/Chicago:20211120T120000
DTEND;TZID=America/Chicago:20211120T140000
DTSTAMP:20260423T130615
CREATED:20211014T072159Z
LAST-MODIFIED:20251229T200623Z
UID:8424-1637409600-1637416800@www.midsummersmusic.com
SUMMARY:88 Key Society • Egg Harbor
DESCRIPTION:The Griffon String Quartet will perform for members of the 88 Key Society. \nMozart String Quartet No. 19 in C Major\, K. 465\, “Dissonance”\nAdagio-Allegro\nAndante cantabile\nMenuetto-Trio\nAllegro Molto\nLight luncheon reception provided by Midsummer’s Music (mini-sandwiches\, cheeses\, cookies\, coffee\, and tea)
URL:https://www.midsummersmusic.com/event/88-key-society-egg-harbor/
LOCATION:Donald and Carol Kress Pavilion\, 7845 Church St.\, Egg Harbor\, WI\, 54209
CATEGORIES:88 Key,Midsummer's Music
END:VEVENT
BEGIN:VEVENT
DTSTART;TZID=America/Chicago:20210516T180000
DTEND;TZID=America/Chicago:20210516T193000
DTSTAMP:20260423T130615
CREATED:20210201T151304Z
LAST-MODIFIED:20251229T200623Z
UID:7333-1621188000-1621193400@www.midsummersmusic.com
SUMMARY:88 Key Society Virtual Event!
DESCRIPTION:88 Key Society Virtual Event Featuring the Griffon String Quartet! \nThis program features a performance from Midsummer’s resident quartet\, the Griffon String Quartet. The virtual party takes place on May 16 via Zoom with a presentation beginning at 6:00 pm (CT). \nThis exclusive society of Midsummer’s Music supporters is limited to a maximum of 88 members\, with each “owning” one or more keys of a piano. \nMembers are acknowledged in the Midsummer’s Music program book\, promotional materials\, as well as on our website and through social media. \nIn addition\, 88 Key Society members receive VIP seating at live in-person concerts and will be invited to special meet-and-greet events with one or more musicians at the end of the season. \nBecome a member of the Midsummer’s Music 88 Key Society today with a donation of $500 per key. Membership must be renewed annually. \nCall 920-854-7088 or email midsummersmusic@gmail.com to join the society now!
URL:https://www.midsummersmusic.com/event/88-key-society-virtual-event-3/
CATEGORIES:88 Key,Midsummer's Music
END:VEVENT
BEGIN:VEVENT
DTSTART;TZID=America/Chicago:20210214T180000
DTEND;TZID=America/Chicago:20210214T193000
DTSTAMP:20260423T130615
CREATED:20210115T185503Z
LAST-MODIFIED:20251229T200623Z
UID:7249-1613325600-1613331000@www.midsummersmusic.com
SUMMARY:88 Key Society Virtual Event!
DESCRIPTION:88 Key Society Virtual Event Featuring Drew Banzhaf! \nThis Valentine’s Day program features a performance from Midsummer’s bassist Drew Banzhaf playing a selection from pieces by Beethoven and Handel. Drew also promises that a surprise guest will join him for the event. The virtual party takes place on February 14th via Zoom with a presentation beginning at 6:00 pm (CT). \nThis exclusive society of Midsummer’s Music supporters is limited to a maximum of 88 members\, with each “owning” one or more keys of a piano. \nMembers are acknowledged in the Midsummer’s Music program book\, promotional materials\, as well as on our website and through social media. \nIn addition\, 88 Key Society members receive VIP seating at live in-person concerts and will be invited to special meet-and-greet events with one or more musicians at the end of the season. \nBecome a member of the Midsummer’s Music 88 Key Society today with a donation of $500 per key. Membership must be renewed annually. \nCall 920-854-7088 or email midsummersmusic@gmail.com to join the society now!
URL:https://www.midsummersmusic.com/event/88-key-society-virtual-event-2/
CATEGORIES:88 Key,Midsummer's Music
END:VEVENT
BEGIN:VEVENT
DTSTART;TZID=America/Chicago:20201213T180000
DTEND;TZID=America/Chicago:20201213T193000
DTSTAMP:20260423T130615
CREATED:20201022T214121Z
LAST-MODIFIED:20251229T200623Z
UID:6972-1607882400-1607887800@www.midsummersmusic.com
SUMMARY:88 Key Society Virtual Event!
DESCRIPTION:88 Key Society Holiday Virtual Event Featuring members of the Griffon String Quartet! \nThis holiday program features a performance from the members of the Griffon\, Midsummer’s resident string quartet. The virtual party takes place on December 13th via Zoom with a presentation beginning at 6:00 pm (CT). There will also be a “Meet and Greet” starting at 5:30 pm CT. \nThis exclusive society of Midsummer’s Music supporters is limited to a maximum of 88 members\, with each “owning” one or more keys of a piano. \nMembers are acknowledged in the Midsummer’s Music program book\, promotional materials\, as well as on our website and through social media.  \nIn addition\, 88 Key Society members receive VIP seating at live in-person concerts and will be invited to special meet-and-greet events with one or more musicians at the end of the season. \nBecome a member of the Midsummer’s Music 88 Key Society today with a donation of $500 per key. Membership must be renewed annually. \nCall 920-854-7088 or email midsummersmusic@gmail.com to join the society now!
URL:https://www.midsummersmusic.com/event/88-key-society-virtual-event/
CATEGORIES:88 Key,Midsummer's Music
END:VEVENT
BEGIN:VEVENT
DTSTART;TZID=America/Chicago:20201004T180000
DTEND;TZID=America/Chicago:20201004T193000
DTSTAMP:20260423T130615
CREATED:20200923T181853Z
LAST-MODIFIED:20251229T200623Z
UID:6910-1601834400-1601839800@www.midsummersmusic.com
SUMMARY:88 Key Virtual Event Featuring Flutist Heather Zinninger-Yarmel
DESCRIPTION:Flutist Heather Zinninger-Yarmel Featured in an 88 Key Society Virtual Event! \nThis solo flute program shows a wide range of styles\, from French Baroque to Native American to Argentine Tango to Blues. The virtual party takes place October 4 on Zoom with a presentation beginning at 6:00 pm (CT). \nThis exclusive society of Midsummer’s Music supporters is limited to a maximum of 88 members\, with each “owning” one or more keys of a piano. \nMembers are acknowledged in the Midsummer’s Music program book and promotional materials\, as well as on our website and through social media. The names of society members will be on display at all concert receptions throughout the season. \nIn addition\, 88 Key Society members receive VIP seating at concerts and will be invited to a special meet-and-greet event with one or more musicians at the end of the season. \nBecome a member of the Midsummer’s Music 88 Key Society today with a donation of $500 per key. Membership must be renewed annually. \nCall 920-854-7088 or email midsummersmusic@gmail.com to join the society now!
URL:https://www.midsummersmusic.com/event/88-key-virtual-event-featuring/
LOCATION:Online Event\, WI\, United States
CATEGORIES:88 Key,Midsummer's Music
END:VEVENT
BEGIN:VEVENT
DTSTART;TZID=America/Chicago:20200726T180000
DTEND;TZID=America/Chicago:20200726T193000
DTSTAMP:20260423T130615
CREATED:20200715T113332Z
LAST-MODIFIED:20251229T200623Z
UID:6360-1595786400-1595791800@www.midsummersmusic.com
SUMMARY:88 Key Society Performance with Dan Won
DESCRIPTION:This exclusive society of Midsummer’s Music supporters is limited to a maximum of 88 members\, with each “owning” one or more keys of a piano. \nMembers are acknowledged in the Midsummer’s Music program book and promotional materials\, as well as on our website and through social media. The names of society members will be on display at all concert receptions throughout the season. \nIn addition\, 88 Key Society members receive VIP seating at concerts and will be invited to a special meet-and-greet event with one or more musicians at the end of the season. \nBecome a member of the Midsummer’s Music 88 Key Society today with a donation of $500 per key. Membership must be renewed annually. \n  \n\n\nCall 920-854-7088 or email midsummersmusic@gmail.com to join the society now! \n\n\n 
URL:https://www.midsummersmusic.com/event/88-key-society-performance-dan/
LOCATION:Online Event\, WI\, United States
CATEGORIES:88 Key,Midsummer's Music
END:VEVENT
END:VCALENDAR