BEGIN:VCALENDAR
VERSION:2.0
PRODID:-//Midsummer&#039;s Music and its affiliate, the Griffon String Quartet - ECPv6.15.20//NONSGML v1.0//EN
CALSCALE:GREGORIAN
METHOD:PUBLISH
X-ORIGINAL-URL:https://www.midsummersmusic.com
X-WR-CALDESC:Events for Midsummer&#039;s Music and its affiliate, the Griffon String Quartet
REFRESH-INTERVAL;VALUE=DURATION:PT1H
X-Robots-Tag:noindex
X-PUBLISHED-TTL:PT1H
BEGIN:VTIMEZONE
TZID:America/Chicago
BEGIN:DAYLIGHT
TZOFFSETFROM:-0600
TZOFFSETTO:-0500
TZNAME:CDT
DTSTART:20240310T080000
END:DAYLIGHT
BEGIN:STANDARD
TZOFFSETFROM:-0500
TZOFFSETTO:-0600
TZNAME:CST
DTSTART:20241103T070000
END:STANDARD
BEGIN:DAYLIGHT
TZOFFSETFROM:-0600
TZOFFSETTO:-0500
TZNAME:CDT
DTSTART:20250309T080000
END:DAYLIGHT
BEGIN:STANDARD
TZOFFSETFROM:-0500
TZOFFSETTO:-0600
TZNAME:CST
DTSTART:20251102T070000
END:STANDARD
BEGIN:DAYLIGHT
TZOFFSETFROM:-0600
TZOFFSETTO:-0500
TZNAME:CDT
DTSTART:20260308T080000
END:DAYLIGHT
BEGIN:STANDARD
TZOFFSETFROM:-0500
TZOFFSETTO:-0600
TZNAME:CST
DTSTART:20261101T070000
END:STANDARD
END:VTIMEZONE
BEGIN:VEVENT
DTSTART;TZID=America/Chicago:20251121T150000
DTEND;TZID=America/Chicago:20251121T170000
DTSTAMP:20260423T222449
CREATED:20251017T132721Z
LAST-MODIFIED:20251229T191425Z
UID:14091-1763737200-1763744400@www.midsummersmusic.com
SUMMARY:88 Key Society Event • Sister Bay
DESCRIPTION:Midsummer’s Music’s 88 Key Society will host a special autumn gathering celebrating music\, friendship\, and community\, featuring a captivating performance by the Griffon String Quartet. Guests will enjoy an intimate afternoon of exceptional artistry as the Quartet shares its passion and talent through a rich and engaging program. This gathering not only highlights the beauty of chamber music but also honors the generosity and spirit of the 88 Key Society members whose support makes Midsummer’s Music possible.
URL:https://www.midsummersmusic.com/event/88-key-society-event-sister-bay/
LOCATION:St. Luke’s Episcopal Church\, 2336 Canterbury Ln\, Sister Bay\, WI\, 54234
CATEGORIES:88 Key,Midsummer's Music
ATTACH;FMTTYPE=image/jpeg:https://www.midsummersmusic.com/wp-content/uploads/2025/01/midsummerslogo-wineglasses-scaled.jpg
END:VEVENT
END:VCALENDAR