BEGIN:VCALENDAR
VERSION:2.0
PRODID:-//Midsummer&#039;s Music and its affiliate, the Griffon String Quartet - ECPv6.15.20//NONSGML v1.0//EN
CALSCALE:GREGORIAN
METHOD:PUBLISH
X-ORIGINAL-URL:https://www.midsummersmusic.com
X-WR-CALDESC:Events for Midsummer&#039;s Music and its affiliate, the Griffon String Quartet
REFRESH-INTERVAL;VALUE=DURATION:PT1H
X-Robots-Tag:noindex
X-PUBLISHED-TTL:PT1H
BEGIN:VTIMEZONE
TZID:America/Chicago
BEGIN:DAYLIGHT
TZOFFSETFROM:-0600
TZOFFSETTO:-0500
TZNAME:CDT
DTSTART:20240310T080000
END:DAYLIGHT
BEGIN:STANDARD
TZOFFSETFROM:-0500
TZOFFSETTO:-0600
TZNAME:CST
DTSTART:20241103T070000
END:STANDARD
BEGIN:DAYLIGHT
TZOFFSETFROM:-0600
TZOFFSETTO:-0500
TZNAME:CDT
DTSTART:20250309T080000
END:DAYLIGHT
BEGIN:STANDARD
TZOFFSETFROM:-0500
TZOFFSETTO:-0600
TZNAME:CST
DTSTART:20251102T070000
END:STANDARD
BEGIN:DAYLIGHT
TZOFFSETFROM:-0600
TZOFFSETTO:-0500
TZNAME:CDT
DTSTART:20260308T080000
END:DAYLIGHT
BEGIN:STANDARD
TZOFFSETFROM:-0500
TZOFFSETTO:-0600
TZNAME:CST
DTSTART:20261101T070000
END:STANDARD
END:VTIMEZONE
BEGIN:VEVENT
DTSTART;TZID=America/Chicago:20250801T190000
DTEND;TZID=America/Chicago:20250801T210000
DTSTAMP:20260424T023803
CREATED:20250130T163334Z
LAST-MODIFIED:20251229T192037Z
UID:12837-1754074800-1754082000@www.midsummersmusic.com
SUMMARY:Octet Excitement – David Perry Leads the Strings of Midsummer’s Music and the Griffon String Quartet
DESCRIPTION:The forces of the superb Griffon String Quartet and the Strings of Midsummer join forces under the guidance and example of violinist David Perry in two stunning Octets. The orchestral aura of these two works is enhanced by the unique presence of the double bass. The program begins with the haunting Chaconne by Penderecki in memory of Pope John Paul II written shortly after his death. \nCiaccona in Memoriam Giovanni Paolo II (2005) – Krzysztof Penderecki\nTwo Violins\, Two Violas\, and Two Cellos \nOctet in E Major\, Op. 23 – Carl Schuberth\nFour Violins\, Two Violas\, Cello\, and Bass \nOctet in B-flat Major\, Op. Posthumous – Max Bruch\nFour Violins\, Two Violas\, Cello\, and Bass \nDavid Perry\, Roy Meyer\, Alex Norris\, & Ann Palen\, Violins • Allyson Fleck & Oryann Tsaig\, Violas • Mara McClain & Jesse Nummelin\, Cellos • Kris Saebo\, Bass \nDavid is sponsored by the Nancy T. & David A. Borghesi Fund of the Community Foundation of the Lowcountry and Mary Hauser & Jerry Randall. Allyson is sponsored by Peter & Beverly Ann Conroy. Mara is sponsored by Bob & Alice Chrismer. Kris is sponsored by James Goodwin. \nThis performance is sponsored by Cal & Barbara Lawton. \nReserve Tickets
URL:https://www.midsummersmusic.com/event/35th-anniversary-program-g3/
LOCATION:MUSE Sturgeon Bay\, 330 Jefferson St.\, Sturgeon Bay\, WI\, 54235
CATEGORIES:Concert,Midsummer's Music
ATTACH;FMTTYPE=image/jpeg:https://www.midsummersmusic.com/wp-content/uploads/2025/01/octet-excitement-calendar-featured-image-scaled.jpg
END:VEVENT
BEGIN:VEVENT
DTSTART;TZID=America/Chicago:20250802T190000
DTEND;TZID=America/Chicago:20250802T210000
DTSTAMP:20260424T023803
CREATED:20250130T163418Z
LAST-MODIFIED:20251229T192037Z
UID:12839-1754161200-1754168400@www.midsummersmusic.com
SUMMARY:Octet Excitement – David Perry Leads the Strings of Midsummer’s Music and the Griffon String Quartet
DESCRIPTION:The forces of the superb Griffon String Quartet and the Strings of Midsummer join forces under the guidance and example of violinist David Perry in two stunning Octets. The orchestral aura of these two works is enhanced by the unique presence of the double bass. The program begins with the haunting Chaconne by Penderecki in memory of Pope John Paul II written shortly after his death. \nCiaccona in Memoriam Giovanni Paolo II (2005) – Krzysztof Penderecki\nTwo Violins\, Two Violas\, and Two Cellos \nOctet in E Major\, Op. 23 – Carl Schuberth\nFour Violins\, Two Violas\, Cello\, and Bass \nOctet in B-flat Major\, Op. Posthumous – Max Bruch\nFour Violins\, Two Violas\, Cello\, and Bass \nDavid Perry\, Roy Meyer\, Alex Norris\, & Ann Palen\, Violins • Allyson Fleck & Oryann Tsaig\, Violas • Mara McClain & Jesse Nummelin\, Cellos • Kris Saebo\, Bass \nDavid is sponsored by the Nancy T. & David A. Borghesi Fund of the Community Foundation of the Lowcountry and Mary Hauser & Jerry Randall. Allyson is sponsored by Peter & Beverly Ann Conroy. Mara is sponsored by Bob & Alice Chrismer. Kris is sponsored by James Goodwin. \nReserve Tickets
URL:https://www.midsummersmusic.com/event/35th-anniversary-program-g4/
LOCATION:St. Luke’s Episcopal Church\, 2336 Canterbury Ln\, Sister Bay\, WI\, 54234
CATEGORIES:Concert,Midsummer's Music
ATTACH;FMTTYPE=image/jpeg:https://www.midsummersmusic.com/wp-content/uploads/2025/01/octet-excitement-calendar-featured-image-scaled.jpg
END:VEVENT
BEGIN:VEVENT
DTSTART;TZID=America/Chicago:20250824T160000
DTEND;TZID=America/Chicago:20250824T180000
DTSTAMP:20260424T023803
CREATED:20250130T163533Z
LAST-MODIFIED:20251229T192036Z
UID:12841-1756051200-1756058400@www.midsummersmusic.com
SUMMARY:César Franck Piano Quintet
DESCRIPTION:Pick the five greatest Piano Quintets in the literature and Franck’s has to be among them. Saint-Saëns was the pianist at the premiere. Here is an opportunity to hear Jeannie Yu in her favorite repertoire. Flutist Heather Zinninger returns to perform Amy Beach’s colorful and evocative Theme and Variations with strings. This program will close our season at our annual Labor Day Gala at Björklunden. A special and celebratory afternoon indeed! \nTheme and Variations in A Minor\, Op. 80 – Amy Marcy Beach\nFlute\, Two Violins\, Viola\, and Cello \nQuintet in F Minor – César Franck\nPiano\, Two Violins\, Viola\, and Cello \nHeather Zinninger\, Flute • David Perry & Ann Palen\, Violins • Sally Chisholm\, Viola • Cole Randolph\, Cello • Jeannie Yu\, Piano \nHeather is sponsored by the Jean Berkenstock Family Fund. David is sponsored by the Nancy T. & David A. Borghesi Fund of the Community Foundation of the Lowcountry and Mary Hauser & Jerry Randall. Sally is sponsored by the Nancy T. and David A. Borghesi Fund. Jeannie is sponsored by Mary Hauser and Jerry Randall. \nThe César Franck Piano Quintet program is sponsored by James Berkenstock and the Women’s Fund of the Door County Community Foundation. \nThis performance is sponsored by Sandy Zingler. \nReserve Tickets
URL:https://www.midsummersmusic.com/event/35th-anniversary-program-h1/
LOCATION:Hope United Church of Christ\, 141 S 12th Ave.\, Sturgeon Bay\, WI\, 54235\, United States
CATEGORIES:Concert,Midsummer's Music
ATTACH;FMTTYPE=image/jpeg:https://www.midsummersmusic.com/wp-content/uploads/2025/01/cesar-franck-piano-quintet-calendar-featured-image-scaled.jpg
END:VEVENT
BEGIN:VEVENT
DTSTART;TZID=America/Chicago:20250827T190000
DTEND;TZID=America/Chicago:20250827T210000
DTSTAMP:20260424T023803
CREATED:20250130T163617Z
LAST-MODIFIED:20251229T192036Z
UID:12843-1756321200-1756328400@www.midsummersmusic.com
SUMMARY:César Franck Piano Quintet
DESCRIPTION:Pick the five greatest Piano Quintets in the literature and Franck’s has to be among them. Saint-Saëns was the pianist at the premiere. Here is an opportunity to hear Jeannie Yu in her favorite repertoire. Flutist Heather Zinninger returns to perform Amy Beach’s colorful and evocative Theme and Variations with strings. This program will close our season at our annual Labor Day Gala at Björklunden. A special and celebratory afternoon indeed! \nTheme and Variations in A Minor\, Op. 80 – Amy Marcy Beach\nFlute\, Two Violins\, Viola\, and Cello \nQuintet in F Minor – César Franck\nPiano\, Two Violins\, Viola\, and Cello \nHeather Zinninger\, Flute • David Perry & Ann Palen\, Violins • Sally Chisholm\, Viola • Cole Randolph\, Cello • Jeannie Yu\, Piano \nHeather is sponsored by the Jean Berkenstock Family Fund. David is sponsored by the Nancy T. & David A. Borghesi Fund of the Community Foundation of the Lowcountry and Mary Hauser & Jerry Randall. Sally is sponsored by the Nancy T. and David A. Borghesi Fund. Jeannie is sponsored by Mary Hauser and Jerry Randall. \nThe César Franck Piano Quintet program is sponsored by James Berkenstock and the Women’s Fund of the Door County Community Foundation. \nReserve Tickets
URL:https://www.midsummersmusic.com/event/35th-anniversary-program-h2/
LOCATION:Shepherd of the Bay Lutheran Church\, 11836 WI-42\, Ellison Bay\, WI\, 54210
CATEGORIES:Concert,Midsummer's Music
ATTACH;FMTTYPE=image/jpeg:https://www.midsummersmusic.com/wp-content/uploads/2025/01/cesar-franck-piano-quintet-calendar-featured-image-scaled.jpg
END:VEVENT
BEGIN:VEVENT
DTSTART;TZID=America/Chicago:20250828T190000
DTEND;TZID=America/Chicago:20250828T210000
DTSTAMP:20260424T023803
CREATED:20250130T163655Z
LAST-MODIFIED:20251229T192016Z
UID:12845-1756407600-1756414800@www.midsummersmusic.com
SUMMARY:The Majesty of Schubert’s Octet
DESCRIPTION:Schubert’s Octet was inspired by Beethoven’s Septet\, which was immensely popular. Schubert adds a second violin to the ensemble. It is his chamber music answer to the Great C-Major Symphony—a masterpiece of immense proportions. Gernot Wolfgang joins us to introduce his “Impressions\,” which are suggestive of imaginary paintings\, “Carnival of Venice\,” “Dream\,” and “Country Road.” Wolfgang\, a Grammy nominated composer\, also uses the same instrumentation as the Beethoven Septet in his energetic\, novel\, and delightful addition to this illustrious repertoire. \nImpressions (2002) – Gernot Wolfgang\nClarinet\, Bassoon\, Horn\, Violin\, Viola\, Cello\, and Bass \nOctet in F Major\, D. 803 – Franz Schubert\nClarinet\, Bassoon\, Horn\, Two Violins\, Viola\, Cello\, and Bass \nAlicia Lee\, Clarinet • Judith Farmer\, Bassoon • Fritz Foss\, Horn • David Perry & Ann Palen\, Violins • Sally Chisholm\, Viola • Cole Randolph\, Cello • Jeremy Attanaseo\, Bass \nJudith is sponsored by Robert & Carla Myerson. Fritz is sponsored by Michael Elkow. David is sponsored by the Nancy T. & David A. Borghesi Fund of the Community Foundation of the Lowcountry and Mary Hauser & Jerry Randall. Sally is sponsored by the Nancy T. and David A. Borghesi Fund. Cole is sponsored by Arlene Johnson & Chris Weidenbacher. \nThis performance is sponsored by Arlene Johnson & Chris Weidenbacher. \nReserve Tickets
URL:https://www.midsummersmusic.com/event/35th-anniversary-program-i1/
LOCATION:Björklunden – Vail Hall\, 7590 Boynton Ln\, Baileys Harbor\, WI\, 54202
CATEGORIES:Concert,Midsummer's Music
ATTACH;FMTTYPE=image/jpeg:https://www.midsummersmusic.com/wp-content/uploads/2025/01/the-majesty-of-schuberts-octet-calendar-featured-image-scaled.jpg
END:VEVENT
BEGIN:VEVENT
DTSTART;TZID=America/Chicago:20250829T190000
DTEND;TZID=America/Chicago:20250829T210000
DTSTAMP:20260424T023803
CREATED:20250130T163741Z
LAST-MODIFIED:20251229T192016Z
UID:12847-1756494000-1756501200@www.midsummersmusic.com
SUMMARY:The Majesty of Schubert’s Octet
DESCRIPTION:Schubert’s Octet was inspired by Beethoven’s Septet\, which was immensely popular. Schubert adds a second violin to the ensemble. It is his chamber music answer to the Great C-Major Symphony—a masterpiece of immense proportions. Gernot Wolfgang joins us to introduce his “Impressions\,” which are suggestive of imaginary paintings\, “Carnival of Venice\,” “Dream\,” and “Country Road.” Wolfgang\, a Grammy nominated composer\, also uses the same instrumentation as the Beethoven Septet in his energetic\, novel\, and delightful addition to this illustrious repertoire. \nImpressions (2002) – Gernot Wolfgang\nClarinet\, Bassoon\, Horn\, Violin\, Viola\, Cello\, and Bass \nOctet in F Major\, D. 803 – Franz Schubert\nClarinet\, Bassoon\, Horn\, Two Violins\, Viola\, Cello\, and Bass \nAlicia Lee\, Clarinet • Judith Farmer\, Bassoon • Fritz Foss\, Horn • David Perry & Ann Palen\, Violins • Sally Chisholm\, Viola • Cole Randolph\, Cello • Jeremy Attanaseo\, Bass \nJudith is sponsored by Robert & Carla Myerson. Fritz is sponsored by Michael Elkow. David is sponsored by the Nancy T. & David A. Borghesi Fund of the Community Foundation of the Lowcountry and Mary Hauser & Jerry Randall. Sally is sponsored by the Nancy T. and David A. Borghesi Fund. Cole is sponsored by Arlene Johnson & Chris Weidenbacher. \nThis performance is sponsored by the Nancy T. & David A. Borghesi Fund of the Community Foundation of the Lowcountry. \nReserve Tickets
URL:https://www.midsummersmusic.com/event/35th-anniversary-program-i2/
LOCATION:MUSE Sturgeon Bay\, 330 Jefferson St.\, Sturgeon Bay\, WI\, 54235
CATEGORIES:Concert,Midsummer's Music
ATTACH;FMTTYPE=image/jpeg:https://www.midsummersmusic.com/wp-content/uploads/2025/01/the-majesty-of-schuberts-octet-calendar-featured-image-scaled.jpg
END:VEVENT
BEGIN:VEVENT
DTSTART;TZID=America/Chicago:20250830T130000
DTEND;TZID=America/Chicago:20250830T140000
DTSTAMP:20260424T023803
CREATED:20250203T172102Z
LAST-MODIFIED:20251229T191746Z
UID:12891-1756558800-1756562400@www.midsummersmusic.com
SUMMARY:Coffee Talk: The Physics of Music - Without the Equations
DESCRIPTION:Dr. Elmer Lewis: “The Physics of Music—Without the Equations” \nHave you ever wondered why lower pitched instruments are larger than higher pitched ones? Why are 10 violins not twice as loud as five? And why do several sound different – not just louder – than one? Why does a horn sound different – not just louder – than a violin? Why does it matter in which key music is written? That is a tough question because there are many interacting reasons. \nIn this talk\, we will attempt to answer these questions and others using simple graphs and pictures. We will examine the nature of sound waves. We will consider how they form on strings and in tubes of musical instruments\, before propagating to where they are processed by the human ear. We will explore how a sound wave’s amplitude\, wavelength\, and harmonics determine an instrument’s volume\, pitch\, and timbre. If time permits\, we will pay homage to some great physicist-musicians: Pythagoras\, Galileo\, and Einstein.
URL:https://www.midsummersmusic.com/event/coffee-talk-the-physics-of-music-without-the-equations/
LOCATION:The Clearing Folk School – Schoolhouse\, 12103 Garrett Bay Rd\, Ellison Bay\, WI\, 54210
CATEGORIES:Coffee Talk,Midsummer's Music
ATTACH;FMTTYPE=image/png:https://www.midsummersmusic.com/wp-content/uploads/2024/05/coffee-talk-calendar-featured-image-scaled.png
END:VEVENT
BEGIN:VEVENT
DTSTART;TZID=America/Chicago:20250830T150000
DTEND;TZID=America/Chicago:20250830T170000
DTSTAMP:20260424T023803
CREATED:20250130T163837Z
LAST-MODIFIED:20251229T191741Z
UID:12849-1756566000-1756573200@www.midsummersmusic.com
SUMMARY:The Majesty of Schubert’s Octet
DESCRIPTION:Schubert’s Octet was inspired by Beethoven’s Septet\, which was immensely popular. Schubert adds a second violin to the ensemble. It is his chamber music answer to the Great C-Major Symphony—a masterpiece of immense proportions. Gernot Wolfgang joins us to introduce his “Impressions\,” which are suggestive of imaginary paintings\, “Carnival of Venice\,” “Dream\,” and “Country Road.” Wolfgang\, a Grammy nominated composer\, also uses the same instrumentation as the Beethoven Septet in his energetic\, novel\, and delightful addition to this illustrious repertoire. \nImpressions (2002) – Gernot Wolfgang\nClarinet\, Bassoon\, Horn\, Violin\, Viola\, Cello\, and Bass \nOctet in F Major\, D. 803 – Franz Schubert\nClarinet\, Bassoon\, Horn\, Two Violins\, Viola\, Cello\, and Bass \nAlicia Lee\, Clarinet • Judith Farmer\, Bassoon • Fritz Foss\, Horn • David Perry & Ann Palen\, Violins • Sally Chisholm\, Viola • Cole Randolph\, Cello • Jeremy Attanaseo\, Bass \nJudith is sponsored by Robert & Carla Myerson. Fritz is sponsored by Michael Elkow. David is sponsored by the Nancy T. & David A. Borghesi Fund of the Community Foundation of the Lowcountry and Mary Hauser & Jerry Randall. Sally is sponsored by the Nancy T. and David A. Borghesi Fund. Cole is sponsored by Arlene Johnson & Chris Weidenbacher. \nThis performance is sponsored by Michael Elkow. \nReserve Tickets
URL:https://www.midsummersmusic.com/event/35th-anniversary-program-i3/
LOCATION:The Clearing Folk School – Schoolhouse\, 12103 Garrett Bay Rd\, Ellison Bay\, WI\, 54210
CATEGORIES:Concert,Midsummer's Music
ATTACH;FMTTYPE=image/jpeg:https://www.midsummersmusic.com/wp-content/uploads/2025/01/the-majesty-of-schuberts-octet-calendar-featured-image-scaled.jpg
END:VEVENT
BEGIN:VEVENT
DTSTART;TZID=America/Chicago:20250831T160000
DTEND;TZID=America/Chicago:20250831T180000
DTSTAMP:20260424T023803
CREATED:20250130T163926Z
LAST-MODIFIED:20251229T191719Z
UID:12851-1756656000-1756663200@www.midsummersmusic.com
SUMMARY:The Majesty of Schubert’s Octet
DESCRIPTION:Schubert’s Octet was inspired by Beethoven’s Septet\, which was immensely popular. Schubert adds a second violin to the ensemble. It is his chamber music answer to the Great C-Major Symphony—a masterpiece of immense proportions. Gernot Wolfgang joins us to introduce his “Impressions\,” which are suggestive of imaginary paintings\, “Carnival of Venice\,” “Dream\,” and “Country Road.” Wolfgang\, a Grammy nominated composer\, also uses the same instrumentation as the Beethoven Septet in his energetic\, novel\, and delightful addition to this illustrious repertoire. \nImpressions (2002) – Gernot Wolfgang\nClarinet\, Bassoon\, Horn\, Violin\, Viola\, Cello\, and Bass \nOctet in F Major\, D. 803 – Franz Schubert\nClarinet\, Bassoon\, Horn\, Two Violins\, Viola\, Cello\, and Bass \nAlicia Lee\, Clarinet • Judith Farmer\, Bassoon • Fritz Foss\, Horn • David Perry & Ann Palen\, Violins • Sally Chisholm\, Viola • Cole Randolph\, Cello • Jeremy Attanaseo\, Bass \nJudith is sponsored by Robert & Carla Myerson. Fritz is sponsored by Michael Elkow. David is sponsored by the Nancy T. & David A. Borghesi Fund of the Community Foundation of the Lowcountry and Mary Hauser & Jerry Randall. Sally is sponsored by the Nancy T. and David A. Borghesi Fund. Cole is sponsored by Arlene Johnson & Chris Weidenbacher. \nThis performance is sponsored by Peter & Beverly Ann Conroy. \nReserve Tickets
URL:https://www.midsummersmusic.com/event/35th-anniversary-program-i4/
LOCATION:Donald and Carol Kress Pavilion\, 7845 Church St.\, Egg Harbor\, WI\, 54209
CATEGORIES:Concert,Midsummer's Music
ATTACH;FMTTYPE=image/jpeg:https://www.midsummersmusic.com/wp-content/uploads/2025/01/the-majesty-of-schuberts-octet-calendar-featured-image-scaled.jpg
END:VEVENT
END:VCALENDAR