BEGIN:VCALENDAR
VERSION:2.0
PRODID:-//Midsummer&#039;s Music and its affiliate, the Griffon String Quartet - ECPv6.15.20//NONSGML v1.0//EN
CALSCALE:GREGORIAN
METHOD:PUBLISH
X-ORIGINAL-URL:https://www.midsummersmusic.com
X-WR-CALDESC:Events for Midsummer&#039;s Music and its affiliate, the Griffon String Quartet
REFRESH-INTERVAL;VALUE=DURATION:PT1H
X-Robots-Tag:noindex
X-PUBLISHED-TTL:PT1H
BEGIN:VTIMEZONE
TZID:America/Chicago
BEGIN:DAYLIGHT
TZOFFSETFROM:-0600
TZOFFSETTO:-0500
TZNAME:CDT
DTSTART:20240310T080000
END:DAYLIGHT
BEGIN:STANDARD
TZOFFSETFROM:-0500
TZOFFSETTO:-0600
TZNAME:CST
DTSTART:20241103T070000
END:STANDARD
BEGIN:DAYLIGHT
TZOFFSETFROM:-0600
TZOFFSETTO:-0500
TZNAME:CDT
DTSTART:20250309T080000
END:DAYLIGHT
BEGIN:STANDARD
TZOFFSETFROM:-0500
TZOFFSETTO:-0600
TZNAME:CST
DTSTART:20251102T070000
END:STANDARD
BEGIN:DAYLIGHT
TZOFFSETFROM:-0600
TZOFFSETTO:-0500
TZNAME:CDT
DTSTART:20260308T080000
END:DAYLIGHT
BEGIN:STANDARD
TZOFFSETFROM:-0500
TZOFFSETTO:-0600
TZNAME:CST
DTSTART:20261101T070000
END:STANDARD
END:VTIMEZONE
BEGIN:VEVENT
DTSTART;TZID=America/Chicago:20250214T150000
DTEND;TZID=America/Chicago:20250214T170000
DTSTAMP:20260424T125554
CREATED:20250121T135307Z
LAST-MODIFIED:20251229T193252Z
UID:12765-1739545200-1739552400@www.midsummersmusic.com
SUMMARY:88 Key Society Concert • Sister Bay
DESCRIPTION:The Griffon String Quartet’s cellist\, Jesse Nummelin\, performs with pianist (and his wife)\, Rie Tanaka\, for members of MM’s 88 Key Society. \nPolonaise Brillante in C Major\, Op. 3 • Frederic Chopin\n4 Pieces for Violin and Piano\, Op. 78 • Jean Sibelius\nSelections from Souvenirs\, Op. 28 • Samuel Barber\nSonata for Cello and Piano • Francis Poulenc \nMembers who cannot attend the performance will receive a special video of the performance by email.
URL:https://www.midsummersmusic.com/event/88-key-society-concert-sister-bay/
LOCATION:Snapcrackle Tabernacle\, 9821 Highway 57\, Baileys Harbor\, WI\, 54202\, United States
CATEGORIES:88 Key,Midsummer's Music
ATTACH;FMTTYPE=image/jpeg:https://www.midsummersmusic.com/wp-content/uploads/2025/01/midsummerslogo-wineglasses-scaled.jpg
END:VEVENT
END:VCALENDAR