BEGIN:VCALENDAR
VERSION:2.0
PRODID:-//Midsummer&#039;s Music and its affiliate, the Griffon String Quartet - ECPv6.15.20//NONSGML v1.0//EN
CALSCALE:GREGORIAN
METHOD:PUBLISH
X-WR-CALNAME:Midsummer&#039;s Music and its affiliate, the Griffon String Quartet
X-ORIGINAL-URL:https://www.midsummersmusic.com
X-WR-CALDESC:Events for Midsummer&#039;s Music and its affiliate, the Griffon String Quartet
REFRESH-INTERVAL;VALUE=DURATION:PT1H
X-Robots-Tag:noindex
X-PUBLISHED-TTL:PT1H
BEGIN:VTIMEZONE
TZID:America/Chicago
BEGIN:DAYLIGHT
TZOFFSETFROM:-0600
TZOFFSETTO:-0500
TZNAME:CDT
DTSTART:20220313T080000
END:DAYLIGHT
BEGIN:STANDARD
TZOFFSETFROM:-0500
TZOFFSETTO:-0600
TZNAME:CST
DTSTART:20221106T070000
END:STANDARD
BEGIN:DAYLIGHT
TZOFFSETFROM:-0600
TZOFFSETTO:-0500
TZNAME:CDT
DTSTART:20230312T080000
END:DAYLIGHT
BEGIN:STANDARD
TZOFFSETFROM:-0500
TZOFFSETTO:-0600
TZNAME:CST
DTSTART:20231105T070000
END:STANDARD
BEGIN:DAYLIGHT
TZOFFSETFROM:-0600
TZOFFSETTO:-0500
TZNAME:CDT
DTSTART:20240310T080000
END:DAYLIGHT
BEGIN:STANDARD
TZOFFSETFROM:-0500
TZOFFSETTO:-0600
TZNAME:CST
DTSTART:20241103T070000
END:STANDARD
END:VTIMEZONE
BEGIN:VEVENT
DTSTART;TZID=America/Chicago:20231119T130000
DTEND;TZID=America/Chicago:20231119T140000
DTSTAMP:20260425T124304
CREATED:20231115T154057Z
LAST-MODIFIED:20251229T194527Z
UID:11085-1700398800-1700402400@www.midsummersmusic.com
SUMMARY:Wisconsin Classical Memorial Tribute to Jean Berkenstock
DESCRIPTION:On her Wisconsin Classical program\, Lori Skelton pays tribute to MM co-founder Jean Berkenstock\, who passed away in early October. Tune in on November 19 to hear Christoph Willibald Gluck’s “Dance of the Blessed Spirits\,” Gaetano Donizetti’s Trio in F Major\, and Josef Rheinberger’s Nonet\, Op. 139. \nWisconsin Classical airs on Sunday from 1:00 to 2:00pm CT. Visit Wisconsin Public Radio to find your local station\, or stream the program live here. \nThe pieces by Gluck and Donizetti are on MM’s A Bel Canto Summer CD (released in 2017)\, and the Rheinberger piece is on MM’s Bursting with Passion CD (released 2014). Both CDs are available to purchase or download as digital files at Bandcamp. \nOur board and staff thank Lori Skelton for her unwavering dedication to MM and for graciously creating and scheduling Jean’s tribute.
URL:https://www.midsummersmusic.com/event/wisconsin-classical-memorial-tribute/
CATEGORIES:Midsummer's Music
ATTACH;FMTTYPE=image/jpeg:https://www.midsummersmusic.com/wp-content/uploads/2023/11/arketype-008a-small.jpg
END:VEVENT
END:VCALENDAR