BEGIN:VCALENDAR
VERSION:2.0
PRODID:-//Midsummer&#039;s Music and its affiliate, the Griffon String Quartet - ECPv6.15.20//NONSGML v1.0//EN
CALSCALE:GREGORIAN
METHOD:PUBLISH
X-ORIGINAL-URL:https://www.midsummersmusic.com
X-WR-CALDESC:Events for Midsummer&#039;s Music and its affiliate, the Griffon String Quartet
REFRESH-INTERVAL;VALUE=DURATION:PT1H
X-Robots-Tag:noindex
X-PUBLISHED-TTL:PT1H
BEGIN:VTIMEZONE
TZID:America/Chicago
BEGIN:DAYLIGHT
TZOFFSETFROM:-0600
TZOFFSETTO:-0500
TZNAME:CDT
DTSTART:20170312T080000
END:DAYLIGHT
BEGIN:STANDARD
TZOFFSETFROM:-0500
TZOFFSETTO:-0600
TZNAME:CST
DTSTART:20171105T070000
END:STANDARD
BEGIN:DAYLIGHT
TZOFFSETFROM:-0600
TZOFFSETTO:-0500
TZNAME:CDT
DTSTART:20180311T080000
END:DAYLIGHT
BEGIN:STANDARD
TZOFFSETFROM:-0500
TZOFFSETTO:-0600
TZNAME:CST
DTSTART:20181104T070000
END:STANDARD
BEGIN:DAYLIGHT
TZOFFSETFROM:-0600
TZOFFSETTO:-0500
TZNAME:CDT
DTSTART:20190310T080000
END:DAYLIGHT
BEGIN:STANDARD
TZOFFSETFROM:-0500
TZOFFSETTO:-0600
TZNAME:CST
DTSTART:20191103T070000
END:STANDARD
END:VTIMEZONE
BEGIN:VEVENT
DTSTART;TZID=America/Chicago:20181215T150000
DTEND;TZID=America/Chicago:20181215T170000
DTSTAMP:20260425T141311
CREATED:20181212T140011Z
LAST-MODIFIED:20251229T201836Z
UID:4219-1544886000-1544893200@www.midsummersmusic.com
SUMMARY:Holiday Community Concert December 15
DESCRIPTION:Midsummer’s Music presents two community holiday concerts featuring our resident string quartet. \nFriday\, December 14\, 6:00 pm\nHope United Church of Christ\, Sturgeon Bay \nSaturday\, December 15\, 3:00 pm\nKress Pavilion\, Egg Harbor \nString Quartet No. 20 in D\, K. 499\, “Hoffmeister” • Mozart\nString Quartet No. 3 in F Major\, Op. 73 • Shostakovich\nPlus a selection of holiday favorites \nThese concerts are free and open to the public.\nDonations accepted at the door. Suggested $10. \nSupported and sponsored by Door County Medical Center\, the Foxglove Inn\, Innovative Printing\, and OneTouchPoint.
URL:https://www.midsummersmusic.com/event/holiday-community-concert-12-15/
LOCATION:Donald and Carol Kress Pavilion\, 7845 Church St.\, Egg Harbor\, WI\, 54209
CATEGORIES:Community-Embedded,Griffon String Quartet
END:VEVENT
BEGIN:VEVENT
DTSTART;TZID=America/Chicago:20181214T180000
DTEND;TZID=America/Chicago:20181214T200000
DTSTAMP:20260425T141311
CREATED:20181212T135922Z
LAST-MODIFIED:20251229T201831Z
UID:4217-1544810400-1544817600@www.midsummersmusic.com
SUMMARY:Holiday Community Concert December 14
DESCRIPTION:Midsummer’s Music presents two community holiday concerts featuring our resident string quartet. \nFriday\, December 14\, 6:00 pm\nHope United Church of Christ\, Sturgeon Bay \nSaturday\, December 15\, 3:00 pm\nKress Pavilion\, Egg Harbor \nString Quartet No. 20 in D\, K. 499\, “Hoffmeister” • Mozart\nString Quartet No. 3 in F Major\, Op. 73 • Shostakovich\nPlus a selection of holiday favorites \nThese concerts are free and open to the public.\nDonations accepted at the door. Suggested $10. \nSupported and sponsored by Door County Medical Center\, the Foxglove Inn\, Innovative Printing\, and OneTouchPoint.
URL:https://www.midsummersmusic.com/event/holiday-community-concert-12-14/
LOCATION:Hope United Church of Christ\, 141 S 12th Ave.\, Sturgeon Bay\, WI\, 54235\, United States
CATEGORIES:Community-Embedded,Griffon String Quartet
END:VEVENT
BEGIN:VEVENT
DTSTART;TZID=America/Chicago:20181013T130000
DTEND;TZID=America/Chicago:20181013T150000
DTSTAMP:20260425T141311
CREATED:20180925T125232Z
LAST-MODIFIED:20251229T201827Z
UID:4167-1539435600-1539442800@www.midsummersmusic.com
SUMMARY:String Quartet Residency - Premiere Concert - Free
DESCRIPTION:String Quartet\, Op. 20 – Joseph Haydn\nBlueprint – Caroline Shaw\nString Quartet No. 2\, Op. 13 – Felix Mendelssohn \nSaturday\, October 13\, 1:00 pm\nMiller Art Museum\, Sturgeon Bay \nSponsored by George & Julie Fiedler and Nicolet Bank\nFree concert open to the public
URL:https://www.midsummersmusic.com/event/string-quartet-residency-premiere/
LOCATION:Miller Art Museum\, 107 S 4th Ave.\, Sturgeon Bay\, WI\, 54235
CATEGORIES:Community-Embedded,Griffon String Quartet
END:VEVENT
END:VCALENDAR