BEGIN:VCALENDAR
VERSION:2.0
PRODID:-//Midsummer&#039;s Music and its affiliate, the Griffon String Quartet - ECPv6.15.20//NONSGML v1.0//EN
CALSCALE:GREGORIAN
METHOD:PUBLISH
X-ORIGINAL-URL:https://www.midsummersmusic.com
X-WR-CALDESC:Events for Midsummer&#039;s Music and its affiliate, the Griffon String Quartet
REFRESH-INTERVAL;VALUE=DURATION:PT1H
X-Robots-Tag:noindex
X-PUBLISHED-TTL:PT1H
BEGIN:VTIMEZONE
TZID:America/Chicago
BEGIN:DAYLIGHT
TZOFFSETFROM:-0600
TZOFFSETTO:-0500
TZNAME:CDT
DTSTART:20210314T080000
END:DAYLIGHT
BEGIN:STANDARD
TZOFFSETFROM:-0500
TZOFFSETTO:-0600
TZNAME:CST
DTSTART:20211107T070000
END:STANDARD
BEGIN:DAYLIGHT
TZOFFSETFROM:-0600
TZOFFSETTO:-0500
TZNAME:CDT
DTSTART:20220313T080000
END:DAYLIGHT
BEGIN:STANDARD
TZOFFSETFROM:-0500
TZOFFSETTO:-0600
TZNAME:CST
DTSTART:20221106T070000
END:STANDARD
BEGIN:DAYLIGHT
TZOFFSETFROM:-0600
TZOFFSETTO:-0500
TZNAME:CDT
DTSTART:20230312T080000
END:DAYLIGHT
BEGIN:STANDARD
TZOFFSETFROM:-0500
TZOFFSETTO:-0600
TZNAME:CST
DTSTART:20231105T070000
END:STANDARD
END:VTIMEZONE
BEGIN:VEVENT
DTSTART;TZID=America/Chicago:20221213T100000
DTEND;TZID=America/Chicago:20221213T130000
DTSTAMP:20260424T220418
CREATED:20221123T154712Z
LAST-MODIFIED:20251229T195502Z
UID:9626-1670925600-1670936400@www.midsummersmusic.com
SUMMARY:Griffon Pop-Up Caroling
DESCRIPTION:Northern Door County Locations Only \n10:00 Scandia\, Sister Bay\n10:20 Midsummer’s Music Office Building\, Sister Bay\n10:40 Piggly Wiggly\, Sister Bay\n11:00 Nicolet Bank\, Sister Bay\n11:30 YMCA\, Fish Creek\n11:50 White Gull Inn\, Fish Creek\n12:15 Kress Library\, Egg Harbor\n12:45 Main Street Market\, Egg Harbor\n1:15 Peninsula Publishing\, Baileys Harbor \nSubject to change
URL:https://www.midsummersmusic.com/event/griffon-pop-up-caroling/
LOCATION:WI
CATEGORIES:Community-Embedded,Griffon String Quartet
END:VEVENT
BEGIN:VEVENT
DTSTART;TZID=America/Chicago:20221211T150000
DTEND;TZID=America/Chicago:20221211T163000
DTSTAMP:20260424T220418
CREATED:20221104T170052Z
LAST-MODIFIED:20251229T195508Z
UID:9582-1670770800-1670776200@www.midsummersmusic.com
SUMMARY:Griffon Performance • Christ the King Episcopal Church
DESCRIPTION:An all-Bach concert features solo violinist Roy Meyer \nThis is not a ticketed event.
URL:https://www.midsummersmusic.com/event/griffon-performance-christ/
LOCATION:Christ the King Episcopal Church\, 512 Michigan St.\, Sturgeon Bay\, WI\, 54235
CATEGORIES:Community-Embedded,Griffon String Quartet
END:VEVENT
BEGIN:VEVENT
DTSTART;TZID=America/Chicago:20221211T100000
DTEND;TZID=America/Chicago:20221211T110000
DTSTAMP:20260424T220418
CREATED:20221104T165848Z
LAST-MODIFIED:20251229T195513Z
UID:9580-1670752800-1670756400@www.midsummersmusic.com
SUMMARY:Griffon Performance • UUF\, Ephraim
DESCRIPTION:Originally scheduled for 11:00am\, this concert time has changed to 10:00am. We apologize for any inconvenience. If you miss this concert\, it will play again at 3:00pm at Christ the King Episcopal Church in Sturgeon Bay. \nAn all-Bach concert features solo violinist Roy Meyer \nThis is not a ticketed event.
URL:https://www.midsummersmusic.com/event/griffon-performance-uuf-____________/
LOCATION:Unitarian Universalist Fellowship of Door County\, 10341 Water Street HWY 42\, Ephraim\, WI\, 54211
CATEGORIES:Community-Embedded,Griffon String Quartet
END:VEVENT
BEGIN:VEVENT
DTSTART;TZID=America/Chicago:20221112T133000
DTEND;TZID=America/Chicago:20221112T143000
DTSTAMP:20260424T220418
CREATED:20221012T112227Z
LAST-MODIFIED:20251229T195539Z
UID:9529-1668259800-1668263400@www.midsummersmusic.com
SUMMARY:Children's Concert • Green Bay
DESCRIPTION:The Griffon String Quartet presents a children’s concert based on the book Because\, which explores the ideas behind what inspires kids to learn music and audiences to attend concerts. \n“Mo Willems\, a number-one New York Times best-selling author and illustrator\, composes a powerful symphony of chance\, discovery\, persistence\, and magic in this moving tale of a young girl’s journey to center stage.” \nThis is not a ticketed event.
URL:https://www.midsummersmusic.com/event/childrens-concert-green/
LOCATION:Brown Co. Library\, 515 Pine St.\, Green Bay\, WI\, 54301\, United States
CATEGORIES:Einstein Series,Griffon String Quartet
END:VEVENT
BEGIN:VEVENT
DTSTART;TZID=America/Chicago:20221112T110000
DTEND;TZID=America/Chicago:20221112T120000
DTSTAMP:20260424T220418
CREATED:20221021T130629Z
LAST-MODIFIED:20251229T195545Z
UID:9560-1668250800-1668254400@www.midsummersmusic.com
SUMMARY:Children's Concert • Sturgeon Bay
DESCRIPTION:The Griffon String Quartet presents a children’s concert based on the picture book Because\, which explores the ideas behind what inspires kids to learn music and audiences to attend concerts. \n“Mo Willems\, a number-one New York Times best-selling author and illustrator\, composes a powerful symphony of chance\, discovery\, persistence\, and magic in this moving tale of a young girl’s journey to center stage.” \nThis is not a ticketed event.
URL:https://www.midsummersmusic.com/event/childrens-concert-sturgeon/
LOCATION:Door County Library\, Sturgeon Bay\, 107 S 4th Ave.\, Sturgeon Bay\, WI\, 54235
CATEGORIES:Einstein Series,Griffon String Quartet
END:VEVENT
BEGIN:VEVENT
DTSTART;TZID=America/Chicago:20221111T133000
DTEND;TZID=America/Chicago:20221111T143000
DTSTAMP:20260424T220418
CREATED:20221106T120216Z
LAST-MODIFIED:20251229T195550Z
UID:9593-1668173400-1668177000@www.midsummersmusic.com
SUMMARY:Griffon String Quartet • Webster Elementary
DESCRIPTION:The Griffon String Quartet presents its Because program to students at Webster Elementary.
URL:https://www.midsummersmusic.com/event/griffon-string-quartet-webster/
LOCATION:WI
CATEGORIES:Einstein Series,Griffon String Quartet
END:VEVENT
BEGIN:VEVENT
DTSTART;TZID=America/Chicago:20221008T190000
DTEND;TZID=America/Chicago:20221008T210000
DTSTAMP:20260424T220418
CREATED:20220820T155845Z
LAST-MODIFIED:20251229T195626Z
UID:9386-1665255600-1665262800@www.midsummersmusic.com
SUMMARY:Civic Symphony of Green Bay and the Griffon String Quartet • St. Norbert College
DESCRIPTION:The Civic Symphony of Green Bay’s opening night concert will take listeners on a journey from classical orchestral works to contemporary music from a living composer. The Griffon String Quartet will make a special appearance\, first performing a traditional Haydn string quartet\, and later joining alongside CSGB on a newer work by Utar Artun featuring soaring lyrical melodies and exciting jazz rhythms. \nHabanera • Emmanuel Chabrier\nL’Arlésienne Suite No. 1 • Georges Bizet\nString Quartet in D Minor\, Op. 9\, No. 4\, Hob. III:22 • Joseph Haydn\n“Nemeth” String Quartet Concerto • Utar Artun \nMusicians\nRoy Meyer\, Violin • Peter Miliczky\, Violin • Madlen Breckbill\, Viola • Sarah Hansen\, Cello \n$18 adult\n$15 senior\n$10 student\n$18 livestream (plus fees) \nFor more information or to purchase tickets\, visit https://gbcivic.org/events/october-classical-to-contemporary/
URL:https://www.midsummersmusic.com/event/civic-symphony-green-bay-griffon/
LOCATION:St. Norbert College\, 315 Third St.\, De Pere\, WI\, 54115
CATEGORIES:Community-Embedded,Griffon String Quartet
END:VEVENT
BEGIN:VEVENT
DTSTART;TZID=America/Chicago:20221007T120000
DTEND;TZID=America/Chicago:20221007T130000
DTSTAMP:20260424T220418
CREATED:20220928T102729Z
LAST-MODIFIED:20251229T192929Z
UID:9502-1665144000-1665147600@www.midsummersmusic.com
SUMMARY:Gather with the Griffon • Brown County
DESCRIPTION:“Gather with the Griffon” miniconcerts are designed for midday audiences. B Double Sharp programs engage the mind and spirit through music and conversation.\n\nFunded in part by grant from the Green Bay Packers Foundation\n\n\nThis is not a ticketed event.
URL:https://www.midsummersmusic.com/event/gather-griffon-brown-county/
LOCATION:Brown Co. Library\, 515 Pine St.\, Green Bay\, WI\, 54301\, United States
CATEGORIES:B Double Sharp,Griffon String Quartet
END:VEVENT
BEGIN:VEVENT
DTSTART;TZID=America/Chicago:20221006T100000
DTEND;TZID=America/Chicago:20221006T130000
DTSTAMP:20260424T220418
CREATED:20220929T112536Z
LAST-MODIFIED:20251229T192658Z
UID:9514-1665050400-1665061200@www.midsummersmusic.com
SUMMARY:Griffon String Quartet • Sawyer Elementary
DESCRIPTION:The Griffon String Quartet will visit Sawyer Elementary School in Sturgeon Bay to play for the children as part of the ensemble’s Einstein Series programming.
URL:https://www.midsummersmusic.com/event/griffon-string-quartet-sawyer/
LOCATION:WI
CATEGORIES:Einstein Series,Griffon String Quartet
END:VEVENT
BEGIN:VEVENT
DTSTART;TZID=America/Chicago:20220917T193000
DTEND;TZID=America/Chicago:20220917T220000
DTSTAMP:20260424T220418
CREATED:20220701T134040Z
LAST-MODIFIED:20251230T191858Z
UID:9216-1663443000-1663452000@www.midsummersmusic.com
SUMMARY:Eric Lewis and the Griffon String Quartet • Trueblood Performing Arts Center
DESCRIPTION:Tickets – $20 plus fees – are available from the Trueblood Performing Arts Center here.\nEric Lewis is known for his consummate skill on a plethora of stringed instruments\, playing and singing and more. A recipient of the Premier String Player Award from the Memphis chapter of the National Academy of Recording Arts and Sciences\, he is known for his impeccable musical taste as much as for his hot guitar licks. Founded in 1990\, Midsummer’s Music has been bringing chamber music to Door County\, Wisconsin\, audiences for more than three decades. The resident string quartet\, the Griffon String Quartet\, enriches the lives of children and adults throughout northeast Wisconsin through concerts\, workshops\, and music education. Collaborations involve poets and artists who create original works based on the music that inspired them.
URL:https://www.midsummersmusic.com/event/eric-lewis-griffon-string-quartet-2/
LOCATION:Trueblood Performing Arts Center\, 870 Main Rd.\, Washington Island\, WI\, 54246
CATEGORIES:Community-Embedded,Griffon String Quartet
END:VEVENT
BEGIN:VEVENT
DTSTART;TZID=America/Chicago:20220916T190000
DTEND;TZID=America/Chicago:20220916T223000
DTSTAMP:20260424T220418
CREATED:20251230T181351Z
LAST-MODIFIED:20251230T181352Z
UID:14394-1663354800-1663367400@www.midsummersmusic.com
SUMMARY:Eric Lewis and the Griffon String Quartet • Woodwalk Gallery
DESCRIPTION:Thursday\, September 15 and Friday\, September 16 | 7pm  –  $32\, purchase tickets by calling 920-629-4877\nWoodwalk Gallery\, concert under the barn roof with plenty of fresh and flowing air\, advance purchase required.\nMemphis musician\, Eric Lewis\, returns to Door County for his first show since December of 2019. Eric Lewis is a multi-instrumentalist who performs and records with some of the top Memphis artists including Tommy Burroughs\, Earl the Pearl and legendary Hi Rhythm. Lewis is also well known in Door County for his association with Buckets of Rain – The Songs of Bob Dylan\, Northern Sky Theater and local songwriter\, Katie Dahl. In 2003\, Eric received the Premier Player Award for Strings by the Memphis Chapter of the National Academy of Recording Arts and Sciences. And in 2008\, was named Best Male Musician in Door County Magazine’s readers poll. In 2017\, Eric released 2 new CD’s\, his solo effort\, “Before The Last Time” and “Solid Ground: The Songs of Fred Alley” with Katie Dahl and Rich Higdon. \nJoining Lewis will be special guests\, The Griffon String Quartet. One of the most vibrant and engaging quartets of their generation\, the Griffon String Quartet—Midsummer’s Music’s resident ensemble—was formed in 2018 to enrich the lives of children and adults throughout northeast Wisconsin through concerts\, workshops\, and music education outreach.
URL:https://www.midsummersmusic.com/event/eric-lewis-griffon-string-quartet-3/
LOCATION:Woodwalk Gallery\, 6746 County Rd. G\, Egg Harbor\, WI\, 54209
CATEGORIES:Community-Embedded,Griffon String Quartet
END:VEVENT
BEGIN:VEVENT
DTSTART;TZID=America/Chicago:20220915T190000
DTEND;TZID=America/Chicago:20220915T223000
DTSTAMP:20260424T220418
CREATED:20251230T181501Z
LAST-MODIFIED:20251230T181508Z
UID:14396-1663268400-1663281000@www.midsummersmusic.com
SUMMARY:Eric Lewis and the Griffon String Quartet • Woodwalk Gallery
DESCRIPTION:Thursday\, September 15 and Friday\, September 16 | 7pm  –  $32\, purchase tickets by calling 920-629-4877\nWoodwalk Gallery\, concert under the barn roof with plenty of fresh and flowing air\, advance purchase required.\nMemphis musician\, Eric Lewis\, returns to Door County for his first show since December of 2019. Eric Lewis is a multi-instrumentalist who performs and records with some of the top Memphis artists including Tommy Burroughs\, Earl the Pearl and legendary Hi Rhythm. Lewis is also well known in Door County for his association with Buckets of Rain – The Songs of Bob Dylan\, Northern Sky Theater and local songwriter\, Katie Dahl. In 2003\, Eric received the Premier Player Award for Strings by the Memphis Chapter of the National Academy of Recording Arts and Sciences. And in 2008\, was named Best Male Musician in Door County Magazine’s readers poll. In 2017\, Eric released 2 new CD’s\, his solo effort\, “Before The Last Time” and “Solid Ground: The Songs of Fred Alley” with Katie Dahl and Rich Higdon. \nJoining Lewis will be special guests\, The Griffon String Quartet. One of the most vibrant and engaging quartets of their generation\, the Griffon String Quartet—Midsummer’s Music’s resident ensemble—was formed in 2018 to enrich the lives of children and adults throughout northeast Wisconsin through concerts\, workshops\, and music education outreach.
URL:https://www.midsummersmusic.com/event/eric-lewis-griffon-string-quartet-4/
LOCATION:Woodwalk Gallery\, 6746 County Rd. G\, Egg Harbor\, WI\, 54209
CATEGORIES:Community-Embedded,Griffon String Quartet
END:VEVENT
BEGIN:VEVENT
DTSTART;TZID=America/Chicago:20220630T190000
DTEND;TZID=America/Chicago:20220630T213000
DTSTAMP:20260424T220418
CREATED:20220427T110045Z
LAST-MODIFIED:20251229T195955Z
UID:8904-1656615600-1656624600@www.midsummersmusic.com
SUMMARY:Griffon String Quartet • Kress Pavilion
DESCRIPTION:Quartet No. 8 in C Minor • Dmitri Shostakovich\nString Quartet \nQuartet No. 2 in A Minor\, Op. 13 • Felix Mendelssohn\nString Quartet
URL:https://www.midsummersmusic.com/event/griffon-string-quartet-kress/
LOCATION:Donald and Carol Kress Pavilion\, 7845 Church St.\, Egg Harbor\, WI\, 54209
CATEGORIES:Community-Embedded,Griffon String Quartet
END:VEVENT
BEGIN:VEVENT
DTSTART;TZID=America/Chicago:20220626T150000
DTEND;TZID=America/Chicago:20220626T173000
DTSTAMP:20260424T220418
CREATED:20220427T110057Z
LAST-MODIFIED:20251229T200010Z
UID:8902-1656255600-1656264600@www.midsummersmusic.com
SUMMARY:Griffon String Quartet • Sister Bay Moravian Church
DESCRIPTION:Quartet No. 8 in C Minor • Dmitri Shostakovich\nString Quartet \nQuartet No. 2 in A Minor\, Op. 13 • Felix Mendelssohn\nString Quartet
URL:https://www.midsummersmusic.com/event/griffon-string-quartet-sister-2/
LOCATION:Sister Bay Moravian Church\, 10924 Old Stage Rd\, Sister Bay\, WI\, 54234
CATEGORIES:Community-Embedded,Griffon String Quartet
END:VEVENT
BEGIN:VEVENT
DTSTART;TZID=America/Chicago:20220625T190000
DTEND;TZID=America/Chicago:20220625T213000
DTSTAMP:20260424T220418
CREATED:20220427T110027Z
LAST-MODIFIED:20251229T200015Z
UID:8900-1656183600-1656192600@www.midsummersmusic.com
SUMMARY:Griffon String Quartet • Hope United Church of Christ
DESCRIPTION:Quartet No. 8 in C Minor • Dmitri Shostakovich\nString Quartet \nQuartet No. 2 in A Minor\, Op. 13 • Felix Mendelssohn\nString Quartet
URL:https://www.midsummersmusic.com/event/griffon-string-quartet-hope/
LOCATION:Hope United Church of Christ\, 141 S 12th Ave.\, Sturgeon Bay\, WI\, 54235\, United States
CATEGORIES:Community-Embedded,Griffon String Quartet
END:VEVENT
BEGIN:VEVENT
DTSTART;TZID=America/Chicago:20220624T190000
DTEND;TZID=America/Chicago:20220624T213000
DTSTAMP:20260424T220418
CREATED:20220427T110027Z
LAST-MODIFIED:20251229T200020Z
UID:8896-1656097200-1656106200@www.midsummersmusic.com
SUMMARY:Griffon String Quartet • St. Luke's Episcopal Church
DESCRIPTION:Quartet No. 8 in C Minor • Dmitri Shostakovich\nString Quartet \nQuartet No. 2 in A Minor\, Op. 13 • Felix Mendelssohn\nString Quartet
URL:https://www.midsummersmusic.com/event/griffon-string-quartet-st-4/
LOCATION:St. Luke’s Episcopal Church\, 2336 Canterbury Ln\, Sister Bay\, WI\, 54234
CATEGORIES:Community-Embedded,Griffon String Quartet
END:VEVENT
BEGIN:VEVENT
DTSTART;TZID=America/Chicago:20220530T150000
DTEND;TZID=America/Chicago:20220530T170000
DTSTAMP:20260424T220418
CREATED:20220124T140311Z
LAST-MODIFIED:20251229T200211Z
UID:8655-1653922800-1653930000@www.midsummersmusic.com
SUMMARY:Griffon String Quartet • Woodwalk Gallery
DESCRIPTION:The Griffon String Quartet plays for Woodwalk Gallery’s 2022 season opening. \nHaydn: String Quartet in E-flat Major\, Op. 33/2 “the Joke”\nWebern: Langsamer Satz\nBeethoven: String Quartet No.10 in E-flat Major\, Op. 74 “Harp” \nPay What You Can: Donations at the door\, via MM website\, phone or on DC Tickets MM organizer’s page.\nAll donations support the Griffon String Quartet. \n 
URL:https://www.midsummersmusic.com/event/griffon-string-quartet-woodwalk/
LOCATION:Woodwalk Gallery\, 6746 County Rd. G\, Egg Harbor\, WI\, 54209
CATEGORIES:Community-Embedded,Griffon String Quartet
END:VEVENT
BEGIN:VEVENT
DTSTART;TZID=America/Chicago:20220529T150000
DTEND;TZID=America/Chicago:20220529T170000
DTSTAMP:20260424T220418
CREATED:20211208T170503Z
LAST-MODIFIED:20251229T200211Z
UID:8555-1653836400-1653843600@www.midsummersmusic.com
SUMMARY:Griffon String Quartet Fundraiser Gala • Egg Harbor
DESCRIPTION:Please join us for a special\, one-of-a-kind event! \nThe Griffon String Quartet and its strings students will perform at the ensemble’s inaugural Gala at the Kress Pavilion in Egg Harbor at 3:00pm\, Sunday\, May 29. The program includes a favorite piece from the Quartet’s past season: Beethoven’s String Quartet No. 12 in E-flat Major\, Op. 127. In addition\, seven students will perform solo pieces\, and a student string quartet will play a special selection. \nFundraising Items include Lesson Scholarships\, Instruments\, Music\, Private Griffon Performance\, Concert Sponsorships\, Green Bay Chamber Music Society Memberships\, and two Griffon String Quartet Autographed Posters. \nTo sponsor this event\, please contact Midsummer’s Music at 920-854-7088 or email office@midsummersmusic.com for details and perks. \nAll proceeds benefit the Griffon String Quartet’s residency and programs. \nGOLD SPONSOR: NEW Music \nKim Jensen/Mojo Enterprises III will cater the event with heavy hors d’oeuvres\, desserts\, and beverages.
URL:https://www.midsummersmusic.com/event/griffon-string-quartet-concert-9/
LOCATION:Donald and Carol Kress Pavilion\, 7845 Church St.\, Egg Harbor\, WI\, 54209
CATEGORIES:Community-Embedded,Griffon String Quartet
END:VEVENT
BEGIN:VEVENT
DTSTART;TZID=America/Chicago:20220528T140000
DTEND;TZID=America/Chicago:20220528T170000
DTSTAMP:20260424T220418
CREATED:20220211T153229Z
LAST-MODIFIED:20251229T200211Z
UID:8694-1653746400-1653757200@www.midsummersmusic.com
SUMMARY:Griffon String Quartet Concert • Green Bay
DESCRIPTION:Haydn: String Quartet in E-flat Major\, Op. 33/2 “the Joke”\nWebern: Langsamer Satz\nBeethoven: String Quartet No.10 in E-flat Major\, Op. 74 “Harp” \nPay What You Can: Donations at the door\, via MM website\, phone or on DC Tickets MM organizer’s page.\nAll donations support the Griffon String Quartet.
URL:https://www.midsummersmusic.com/event/griffon-string-quartet-concert-11/
LOCATION:Brown Co. Library\, 515 Pine St.\, Green Bay\, WI\, 54301\, United States
CATEGORIES:Community-Embedded,Griffon String Quartet
END:VEVENT
BEGIN:VEVENT
DTSTART;TZID=America/Chicago:20220527T190000
DTEND;TZID=America/Chicago:20220527T210000
DTSTAMP:20260424T220418
CREATED:20211208T170204Z
LAST-MODIFIED:20251229T200211Z
UID:8553-1653678000-1653685200@www.midsummersmusic.com
SUMMARY:Griffon String Quartet Concert • Sister Bay
DESCRIPTION:Haydn: String Quartet in E-flat Major\, Op. 33/2 “the Joke”\nWebern: Langsamer Satz\nBeethoven: String Quartet No.10 in E-flat Major\, Op. 74 “Harp” \nPay What You Can: Donations at the door\, via MM website\, phone or on DC Tickets MM organizer’s page.\nAll donations support the Griffon String Quartet.
URL:https://www.midsummersmusic.com/event/griffon-string-quartet-concert-8/
LOCATION:St. Luke’s Episcopal Church\, 2336 Canterbury Ln\, Sister Bay\, WI\, 54234
CATEGORIES:Community-Embedded,Griffon String Quartet
END:VEVENT
BEGIN:VEVENT
DTSTART;TZID=America/Chicago:20220516T173000
DTEND;TZID=America/Chicago:20220516T210000
DTSTAMP:20260424T220418
CREATED:20220128T154912Z
LAST-MODIFIED:20251229T200144Z
UID:8668-1652722200-1652734800@www.midsummersmusic.com
SUMMARY:Griffon String Quartet • Green Bay Rotary Banquet
DESCRIPTION:The Green Bay Rotary “Free Enterprise Banquet” is in its 35th year where they honor a local business or community leader. \nThe Griffon String Quartet will perform from 5:30 – 6:30pm.
URL:https://www.midsummersmusic.com/event/griffon-string-quartet-green-2/
LOCATION:Green Bay Radisson Hotel and Conference Center\, 3050 Airport Dr.\, Green Bay\, Wisconsin\, 54313
CATEGORIES:Griffon String Quartet,Private
END:VEVENT
BEGIN:VEVENT
DTSTART;TZID=America/Chicago:20220515T150000
DTEND;TZID=America/Chicago:20220515T170000
DTSTAMP:20260424T220418
CREATED:20211214T160038Z
LAST-MODIFIED:20251229T200211Z
UID:8583-1652626800-1652634000@www.midsummersmusic.com
SUMMARY:Griffon String Quartet • Florence Price Program
DESCRIPTION:The Griffon String Quartet plays music by African American composer Florence Price. \nFlorence Price • Five Folksongs in Counterpoint\nCalvary\nClementine\nDrink to me only with thine eyes\nShortnin’ Bread\nSwing Low\, Sweet Chariot \nFlorence Price • String Quartet No. 2\nModerato\nAndante Cantabile\nJuba\nFinale \nIntermission \nAntonín Dvořák • String Quartet No. 10\nAllegro ma non troppo\nDumka (Elegia) – Andante con moto\nRomanza – Andante con moto\nFinale – Allegro assai
URL:https://www.midsummersmusic.com/event/griffon-string-quartet-florence-2/
LOCATION:SWY231\, 231 N 3rd Ave.\, Sturgeon Bay\, WI\, 54235\, United States
CATEGORIES:Community-Embedded,Griffon String Quartet
END:VEVENT
BEGIN:VEVENT
DTSTART;TZID=America/Chicago:20220513T190000
DTEND;TZID=America/Chicago:20220513T210000
DTSTAMP:20260424T220418
CREATED:20211214T155909Z
LAST-MODIFIED:20251229T200211Z
UID:8581-1652468400-1652475600@www.midsummersmusic.com
SUMMARY:Griffon String Quartet • Florence Price Program • SOLD OUT
DESCRIPTION:Tickets are available for the Sunday concert.\nThe Griffon String Quartet plays music by African American composer Florence Price. \nString Quartet No. 2\nModerato\nAndante Cantabile\nJuba\nFinale \nIntermission \nFive Folksongs in Counterpoint\nCalvary\nClementine\nDrink to me only with thine eyes\nShortnin’ Bread\nSwing Low\, Sweet Chariot \nSuite No. 1*\nFantasy\nFughetta\nAir\nToccato\n* with Colin Welford\, organist
URL:https://www.midsummersmusic.com/event/griffon-string-quartet-florence/
LOCATION:Ephraim Moravian Church\, 9970 Moravia St\, Ephraim\, WI\, 54211
CATEGORIES:Community-Embedded,Griffon String Quartet
END:VEVENT
BEGIN:VEVENT
DTSTART;TZID=America/Chicago:20220511T113000
DTEND;TZID=America/Chicago:20220511T123000
DTSTAMP:20260424T220418
CREATED:20211005T100004Z
LAST-MODIFIED:20251229T192952Z
UID:8371-1652268600-1652272200@www.midsummersmusic.com
SUMMARY:Gather with the Griffon • Green Bay
DESCRIPTION:Intended for the senior members of our community\, these sessions are designed to engage the mind and spirit through music and conversation.\n\nA generous grant from the Greater Green Bay Community Foundation funds a portion of the Griffon’s B Double Sharp programming to present mini concerts for the aging or disabled\, as well as their caregivers.
URL:https://www.midsummersmusic.com/event/griffon-string-quartet-wellness-8/
LOCATION:First Presbyterian Church of Green Bay\, 200 S Ashland Ave.\, Green Bay\, WI\, 54303\, United States
CATEGORIES:B Double Sharp,Griffon String Quartet
END:VEVENT
BEGIN:VEVENT
DTSTART;TZID=America/Chicago:20220501T150000
DTEND;TZID=America/Chicago:20220501T170000
DTSTAMP:20260424T220418
CREATED:20220128T164612Z
LAST-MODIFIED:20251229T200218Z
UID:8674-1651417200-1651424400@www.midsummersmusic.com
SUMMARY:Griffon String Quartet • Private Event
DESCRIPTION:Eine Kleine Nachtmusik • Wolfgang Amadeus Mozart\nAllegro \nString Quartet in D Major\, Op. 64\, No. 5\, “The Lark” • Joseph Haydn\nAllegro Moderato\nAdagio: Cantabile\nMenuet: Allegretto – Trio\nFinale: Vivace \nIntermission \nString Quartet No. 10 in E-flat Major\, Op. 51 • Antonín Dvořák\nAllegro ma non troppo\nDumka: Andante con moto – Vivace\nRomanza: Andante con moto\nFinale: Allegro assai
URL:https://www.midsummersmusic.com/event/griffon-string-quartet-private-3/
LOCATION:WI
CATEGORIES:Griffon String Quartet,Private
END:VEVENT
BEGIN:VEVENT
DTSTART;TZID=America/Chicago:20220430T140000
DTEND;TZID=America/Chicago:20220430T160000
DTSTAMP:20260424T220418
CREATED:20220107T181326Z
LAST-MODIFIED:20251229T200224Z
UID:8623-1651327200-1651334400@www.midsummersmusic.com
SUMMARY:Griffon String Quartet • St. John's on the Lake\, Milwaukee
DESCRIPTION:The Griffon String Quartet presents a special performance at St. John’s on the Lake in Milwaukee. \nSponsored by Dick & Annie Egan \nFlorence Price • Five Folksongs in Counterpoint\nCalvary\nOh My Darlin’ Clementine\nDrink to Me Only with Thine Eyes\nShortnin’ Bread\nSwing Low Sweet Chariot \nPaul Hindemith • String Quartet No. 1 in C Major\, Op. 2\nSehr Lebhaft\nAdagio: Im Anfang dann allmählich schneller werden\nScherzo: Sehr lebhaft\nZiemlich lebhaft
URL:https://www.midsummersmusic.com/event/griffon-string-quartet-st-3/
LOCATION:St. John’s on the Lake\, 1800 N Prospect Ave.\, Milwaukee\, WI\, 53202
CATEGORIES:Griffon String Quartet,Private
END:VEVENT
BEGIN:VEVENT
DTSTART;TZID=America/Chicago:20220424T143000
DTEND;TZID=America/Chicago:20220424T170000
DTSTAMP:20260424T220418
CREATED:20211214T155629Z
LAST-MODIFIED:20251229T200231Z
UID:8579-1650810600-1650819600@www.midsummersmusic.com
SUMMARY:Griffon String Quartet • Private Event
DESCRIPTION:The Griffon String Quartet plays a private event.
URL:https://www.midsummersmusic.com/event/griffon-string-quartet-private-2/
LOCATION:WI
CATEGORIES:Griffon String Quartet,Private
END:VEVENT
BEGIN:VEVENT
DTSTART;TZID=America/Chicago:20220413T113000
DTEND;TZID=America/Chicago:20220413T123000
DTSTAMP:20260424T220418
CREATED:20211005T095811Z
LAST-MODIFIED:20251229T192952Z
UID:8369-1649849400-1649853000@www.midsummersmusic.com
SUMMARY:Gather with the Griffon • Green Bay
DESCRIPTION:Intended for the senior members of our community\, these sessions are designed to engage the mind and spirit through music and conversation.\n\nA generous grant from the Greater Green Bay Community Foundation funds a portion of the Griffon’s B Double Sharp programming to present mini concerts for the aging or disabled\, as well as their caregivers.
URL:https://www.midsummersmusic.com/event/griffon-string-quartet-wellness-7/
LOCATION:First Presbyterian Church of Green Bay\, 200 S Ashland Ave.\, Green Bay\, WI\, 54303\, United States
CATEGORIES:B Double Sharp,Griffon String Quartet
END:VEVENT
BEGIN:VEVENT
DTSTART;TZID=America/Chicago:20220320T150000
DTEND;TZID=America/Chicago:20220320T170000
DTSTAMP:20260424T220418
CREATED:20211208T170039Z
LAST-MODIFIED:20251229T200346Z
UID:8551-1647788400-1647795600@www.midsummersmusic.com
SUMMARY:Griffon String Quartet Spring Concert • Egg Harbor
DESCRIPTION:Mozart • String Quartet No.19 in C Major\, K. 464\nAdagio-Allegro\nAndante Cantabile\nMenuetto. Allegro\nAllegro Molto \nHindemith • String Quartet No.1 in C Major\, Op. 2\nSehr Lebhaft\nAdagio: Im Anfang dann allmählich schneller werden\nScherzo: Sehr lebhaft\nZiemlich lebhaft \nPay What You Can: Donations at the door\, via MM website\, phone or on DC Tickets MM organizer’s page.\nAll donations support the Griffon String Quartet.
URL:https://www.midsummersmusic.com/event/griffon-string-quartet-spring-3/
LOCATION:Donald and Carol Kress Pavilion\, 7845 Church St.\, Egg Harbor\, WI\, 54209
CATEGORIES:Community-Embedded,Griffon String Quartet
END:VEVENT
BEGIN:VEVENT
DTSTART;TZID=America/Chicago:20220319T140000
DTEND;TZID=America/Chicago:20220319T153000
DTSTAMP:20260424T220418
CREATED:20220127T180626Z
LAST-MODIFIED:20251229T200342Z
UID:8666-1647698400-1647703800@www.midsummersmusic.com
SUMMARY:Griffon String Quartet Spring Concert • Green Bay
DESCRIPTION:Mozart • String Quartet No.19 in C Major\, K. 464\nAdagio-Allegro\nAndante Cantabile\nMenuetto. Allegro\nAllegro Molto \nHindemith • String Quartet No.1 in C Major\, Op. 2\nSehr Lebhaft\nAdagio: Im Anfang dann allmählich schneller werden\nScherzo: Sehr lebhaft\nZiemlich lebhaft \nPay What You Can: Donations at the door\, via MM website\, phone or on DC Tickets MM organizer’s page.\nAll donations support the Griffon String Quartet.
URL:https://www.midsummersmusic.com/event/griffon-string-quartet-spring-4/
LOCATION:Brown Co. Library\, 515 Pine St.\, Green Bay\, WI\, 54301\, United States
CATEGORIES:Community-Embedded,Griffon String Quartet
END:VEVENT
END:VCALENDAR