BEGIN:VCALENDAR
VERSION:2.0
PRODID:-//Midsummer&#039;s Music and its affiliate, the Griffon String Quartet - ECPv6.15.20//NONSGML v1.0//EN
CALSCALE:GREGORIAN
METHOD:PUBLISH
X-ORIGINAL-URL:https://www.midsummersmusic.com
X-WR-CALDESC:Events for Midsummer&#039;s Music and its affiliate, the Griffon String Quartet
REFRESH-INTERVAL;VALUE=DURATION:PT1H
X-Robots-Tag:noindex
X-PUBLISHED-TTL:PT1H
BEGIN:VTIMEZONE
TZID:America/Chicago
BEGIN:DAYLIGHT
TZOFFSETFROM:-0600
TZOFFSETTO:-0500
TZNAME:CDT
DTSTART:20210314T080000
END:DAYLIGHT
BEGIN:STANDARD
TZOFFSETFROM:-0500
TZOFFSETTO:-0600
TZNAME:CST
DTSTART:20211107T070000
END:STANDARD
BEGIN:DAYLIGHT
TZOFFSETFROM:-0600
TZOFFSETTO:-0500
TZNAME:CDT
DTSTART:20220313T080000
END:DAYLIGHT
BEGIN:STANDARD
TZOFFSETFROM:-0500
TZOFFSETTO:-0600
TZNAME:CST
DTSTART:20221106T070000
END:STANDARD
BEGIN:DAYLIGHT
TZOFFSETFROM:-0600
TZOFFSETTO:-0500
TZNAME:CDT
DTSTART:20230312T080000
END:DAYLIGHT
BEGIN:STANDARD
TZOFFSETFROM:-0500
TZOFFSETTO:-0600
TZNAME:CST
DTSTART:20231105T070000
END:STANDARD
BEGIN:DAYLIGHT
TZOFFSETFROM:-0600
TZOFFSETTO:-0500
TZNAME:CDT
DTSTART:20240310T080000
END:DAYLIGHT
BEGIN:STANDARD
TZOFFSETFROM:-0500
TZOFFSETTO:-0600
TZNAME:CST
DTSTART:20241103T070000
END:STANDARD
END:VTIMEZONE
BEGIN:VEVENT
DTSTART;TZID=America/Chicago:20230413T183000
DTEND;TZID=America/Chicago:20230413T200000
DTSTAMP:20260424T185254
CREATED:20230330T120902Z
LAST-MODIFIED:20251229T195213Z
UID:10103-1681410600-1681416000@www.midsummersmusic.com
SUMMARY:Group Lesson for Students • SWY231
DESCRIPTION:This is not open to the public. \nGriffon String Quartet members work with students in a group lesson in preparation for the May 20 recital program.
URL:https://www.midsummersmusic.com/event/group-lesson-students-swy231/
LOCATION:SWY231\, 231 N 3rd Ave.\, Sturgeon Bay\, WI\, 54235\, United States
CATEGORIES:Einstein Series,Griffon String Quartet
END:VEVENT
BEGIN:VEVENT
DTSTART;TZID=America/Chicago:20230413T143000
DTEND;TZID=America/Chicago:20230413T153000
DTSTAMP:20260424T185254
CREATED:20230213T181341Z
LAST-MODIFIED:20251229T192804Z
UID:9837-1681396200-1681399800@www.midsummersmusic.com
SUMMARY:B Double Sharp • DCMC Nursing Home Facility
DESCRIPTION:Griffon String Quartet members perform for residents at the DCMC Nursing Home Facility. \nTime TBD
URL:https://www.midsummersmusic.com/event/double-sharp-dcmc-nursing-2/
LOCATION:Door County Medical Center
CATEGORIES:B Double Sharp,Griffon String Quartet
END:VEVENT
BEGIN:VEVENT
DTSTART;TZID=America/Chicago:20230413T120000
DTEND;TZID=America/Chicago:20230413T130000
DTSTAMP:20260424T185254
CREATED:20230127T131536Z
LAST-MODIFIED:20251229T192929Z
UID:9761-1681387200-1681390800@www.midsummersmusic.com
SUMMARY:Gather with the Griffon
DESCRIPTION:“Gather with the Griffon” miniconcerts are designed for midday audiences. B Double Sharp programs engage the mind and spirit through music and conversation.\n\n\n\nViolinist Taylor Giorgio from St. Norbert’s College and Pianist Michael Rector from UW–Green Bay will join Roy on the Bach Double Violin Concerto.\nAllyson Fleck will join Roy for the Mozart Violin and Viola Duo in G Major.\n\n\n\n\nThis is not a ticketed event.
URL:https://www.midsummersmusic.com/event/gather-griffon-3/
LOCATION:First Presbyterian Church of Green Bay\, 200 S Ashland Ave.\, Green Bay\, WI\, 54303\, United States
CATEGORIES:B Double Sharp,Griffon String Quartet
END:VEVENT
BEGIN:VEVENT
DTSTART;TZID=America/Chicago:20230412T120000
DTEND;TZID=America/Chicago:20230412T130000
DTSTAMP:20260424T185254
CREATED:20230302T180810Z
LAST-MODIFIED:20251229T195224Z
UID:9962-1681300800-1681304400@www.midsummersmusic.com
SUMMARY:Griffon Outreach • ADRC\, Sturgeon Bay
DESCRIPTION:The Griffon String Quartet performs for seniors at ADRC
URL:https://www.midsummersmusic.com/event/griffon-outreach-adrc/
LOCATION:Aging and Disability Resource Center\, 916 N 14th Ave.\, Sturgeon Bay\, WI\, 54235\, United States
CATEGORIES:B Double Sharp,Griffon String Quartet
END:VEVENT
BEGIN:VEVENT
DTSTART;TZID=America/Chicago:20230401T133000
DTEND;TZID=America/Chicago:20230401T143000
DTSTAMP:20260424T185254
CREATED:20230202T131237Z
LAST-MODIFIED:20251229T195232Z
UID:9797-1680355800-1680359400@www.midsummersmusic.com
SUMMARY:Griffon String Quartet Outreach • Children's Library
DESCRIPTION:Open to the public. No ticketing.
URL:https://www.midsummersmusic.com/event/griffon-string-quartet-outreach-5/
LOCATION:Brown Co. Library\, 515 Pine St.\, Green Bay\, WI\, 54301\, United States
CATEGORIES:Einstein Series,Griffon String Quartet
END:VEVENT
BEGIN:VEVENT
DTSTART;TZID=America/Chicago:20230319T150000
DTEND;TZID=America/Chicago:20230319T170000
DTSTAMP:20260424T185254
CREATED:20230211T060019Z
LAST-MODIFIED:20251229T195307Z
UID:9822-1679238000-1679245200@www.midsummersmusic.com
SUMMARY:Griffon String Quartet Plays Price\, Marsalis\, and Mendelssohn • Kress Pavilion
DESCRIPTION:The Griffon String Quartet will perform works by African American composer Florence Price\, African American trumpeter/composer Wynton Marsalis\, and German composer Felix Mendelssohn. \nString Quartet in G Major • Florence Price\nAllegro\nAndante Moderato \nString Quartet No. 1\, “At the Octoroon Balls” • Wynton Marsalis\nSelected movements \nIntermission \nString Quartet in D Major\, Op. 44\, No. 1 • Felix Mendelssohn\nMolto Allegro Vivace\nMenuetto\nAndante espressivo con moto\nPresto con brio \nAdmission is free for this event\, and donations will be collected at the door. \nClick here to reserve your tickets today!
URL:https://www.midsummersmusic.com/event/griffon-string-quartet-plays-price/
LOCATION:Donald and Carol Kress Pavilion\, 7845 Church St.\, Egg Harbor\, WI\, 54209
CATEGORIES:Community-Embedded,Griffon String Quartet
END:VEVENT
BEGIN:VEVENT
DTSTART;TZID=America/Chicago:20230318T150000
DTEND;TZID=America/Chicago:20230318T170000
DTSTAMP:20260424T185254
CREATED:20230223T180823Z
LAST-MODIFIED:20251229T195313Z
UID:9937-1679151600-1679158800@www.midsummersmusic.com
SUMMARY:GRIFFON STRING QUARTET PLAYS PRICE\, MARSALIS\, AND MENDELSSOHN • UUF Green Bay
DESCRIPTION:The Griffon String Quartet will perform works by African American composer Florence Price\, African American trumpeter/composer Wynton Marsalis\, and German composer Felix Mendelssohn. \n\nString Quartet in G Major • Florence Price\nAllegro\nAndante Moderato \nString Quartet No. 1\, “At the Octoroon Balls” • Wynton Marsalis\nSelected movements \nIntermission \nString Quartet in D Major\, Op. 44\, No. 1 • Felix Mendelssohn\nMolto Allegro Vivace\nMenuetto\nAndante espressivo con moto\nPresto con brio \n\nAdmission is free for this event\, and donations will be collected at the door. \nClick here to reserve your tickets today!
URL:https://www.midsummersmusic.com/event/griffon-string-quartet-plays-price-2/
LOCATION:Green Bay Area Unitarian Universalist Fellowship\, 1313 Main St.\, Green Bay\, WI\, 54302
CATEGORIES:Community-Embedded,Griffon String Quartet
END:VEVENT
BEGIN:VEVENT
DTSTART;TZID=America/Chicago:20230317T073000
DTEND;TZID=America/Chicago:20230317T213000
DTSTAMP:20260424T185254
CREATED:20230223T180257Z
LAST-MODIFIED:20251229T192658Z
UID:9935-1679038200-1679088600@www.midsummersmusic.com
SUMMARY:Griffon String Quartet • Preble High School
DESCRIPTION:The Griffon String Quartet presents an Einstein Series program for students at Preble High School in Green Bay.
URL:https://www.midsummersmusic.com/event/griffon-string-quartet-preble/
LOCATION:WI
CATEGORIES:Einstein Series,Griffon String Quartet
END:VEVENT
BEGIN:VEVENT
DTSTART;TZID=America/Chicago:20230316T143000
DTEND;TZID=America/Chicago:20230316T153000
DTSTAMP:20260424T185254
CREATED:20230213T181235Z
LAST-MODIFIED:20251229T192804Z
UID:9835-1678977000-1678980600@www.midsummersmusic.com
SUMMARY:B Double Sharp • DCMC Nursing Home Facility
DESCRIPTION:Griffon String Quartet members perform for residents at the DCMC Nursing Home Facility. \nTime TBD
URL:https://www.midsummersmusic.com/event/double-sharp-dcmc-nursing/
LOCATION:Door County Medical Center
CATEGORIES:B Double Sharp,Griffon String Quartet
END:VEVENT
BEGIN:VEVENT
DTSTART;TZID=America/Chicago:20230316T120000
DTEND;TZID=America/Chicago:20230316T130000
DTSTAMP:20260424T185254
CREATED:20230127T131441Z
LAST-MODIFIED:20251229T192929Z
UID:9759-1678968000-1678971600@www.midsummersmusic.com
SUMMARY:Gather with the Griffon
DESCRIPTION:“Gather with the Griffon” miniconcerts are designed for midday audiences. B Double Sharp programs engage the mind and spirit through music and conversation.\n\nThis is not a ticketed event.
URL:https://www.midsummersmusic.com/event/gather-griffon-2/
LOCATION:First Presbyterian Church of Green Bay\, 200 S Ashland Ave.\, Green Bay\, WI\, 54303\, United States
CATEGORIES:B Double Sharp,Griffon String Quartet
END:VEVENT
BEGIN:VEVENT
DTSTART;TZID=America/Chicago:20230315T163000
DTEND;TZID=America/Chicago:20230315T173000
DTSTAMP:20260424T185254
CREATED:20230202T130750Z
LAST-MODIFIED:20251229T195323Z
UID:9793-1678897800-1678901400@www.midsummersmusic.com
SUMMARY:Griffon String Quartet Outreach • Brain Center
DESCRIPTION:Celebrating Brain Awareness Week
URL:https://www.midsummersmusic.com/event/griffon-string-quartet-outreach-3/
LOCATION:Green Bay Botanical Gardens\, 2600 Larsen Rd.\, Green Bay\, WI\, 54303\, United States
CATEGORIES:B Double Sharp,Griffon String Quartet
END:VEVENT
BEGIN:VEVENT
DTSTART;TZID=America/Chicago:20230224T080000
DTEND;TZID=America/Chicago:20230224T110000
DTSTAMP:20260424T185254
CREATED:20230217T130239Z
LAST-MODIFIED:20251229T195329Z
UID:9850-1677225600-1677236400@www.midsummersmusic.com
SUMMARY:Griffon String Quartet • We Are Green Bay
DESCRIPTION:The Griffon String Quartet performs on the morning show of We Are Green Bay.
URL:https://www.midsummersmusic.com/event/griffon-string-quartet-green-3/
LOCATION:WI
CATEGORIES:Community-Embedded,Griffon String Quartet
END:VEVENT
BEGIN:VEVENT
DTSTART;TZID=America/Chicago:20230223T120000
DTEND;TZID=America/Chicago:20230223T130000
DTSTAMP:20260424T185254
CREATED:20230127T131338Z
LAST-MODIFIED:20251229T192929Z
UID:9757-1677153600-1677157200@www.midsummersmusic.com
SUMMARY:Gather with the Griffon
DESCRIPTION:“Gather with the Griffon” miniconcerts are designed for midday audiences. B Double Sharp programs engage the mind and spirit through music and conversation.\n\nThis is not a ticketed event.
URL:https://www.midsummersmusic.com/event/gather-griffon/
LOCATION:First Presbyterian Church of Green Bay\, 200 S Ashland Ave.\, Green Bay\, WI\, 54303\, United States
CATEGORIES:B Double Sharp,Griffon String Quartet
END:VEVENT
BEGIN:VEVENT
DTSTART;TZID=America/Chicago:20230217T124500
DTEND;TZID=America/Chicago:20230217T133000
DTSTAMP:20260424T185254
CREATED:20230202T130152Z
LAST-MODIFIED:20251229T195341Z
UID:9787-1676637900-1676640600@www.midsummersmusic.com
SUMMARY:Griffon String Quartet Outreach • Sunshine Resources
DESCRIPTION:This event is for Sunshine Resources employees.
URL:https://www.midsummersmusic.com/event/griffon-string-quartet-outreach/
LOCATION:Sunshine House\, 55 W Yew St.\, Sturgeon Bay\, WI\, 54235
CATEGORIES:B Double Sharp,Griffon String Quartet
END:VEVENT
BEGIN:VEVENT
DTSTART;TZID=America/Chicago:20230216T103000
DTEND;TZID=America/Chicago:20230216T113000
DTSTAMP:20260424T185254
CREATED:20251230T185324Z
LAST-MODIFIED:20251230T185324Z
UID:14406-1676543400-1676547000@www.midsummersmusic.com
SUMMARY:Griffon String Quartet Outreach • Brain Center
DESCRIPTION:Mind Mover’s Program at Curative Connections \nLaReina Tipping Program Manager\, Brain Center of Green Bay
URL:https://www.midsummersmusic.com/event/griffon-string-quartet-outreach-brain-center/
LOCATION:Curative Connections\, 2900 Curry Lane\, Green Bay\, WI\, 54308\, United States
CATEGORIES:B Double Sharp,Griffon String Quartet
END:VEVENT
BEGIN:VEVENT
DTSTART;TZID=America/Chicago:20230215T103000
DTEND;TZID=America/Chicago:20230215T113000
DTSTAMP:20260424T185254
CREATED:20230202T130513Z
LAST-MODIFIED:20251230T185142Z
UID:9789-1676457000-1676460600@www.midsummersmusic.com
SUMMARY:Griffon String Quartet Outreach • Brain Center
DESCRIPTION:Mind Mover’s Program at Curative Connections \nLaReina Tipping Program Manager\, Brain Center of Green Bay
URL:https://www.midsummersmusic.com/event/griffon-string-quartet-outreach-2/
LOCATION:Curative Connections\, 2900 Curry Lane\, Green Bay\, WI\, 54308\, United States
CATEGORIES:B Double Sharp,Griffon String Quartet
END:VEVENT
BEGIN:VEVENT
DTSTART;TZID=America/Chicago:20230212T140000
DTEND;TZID=America/Chicago:20230212T160000
DTSTAMP:20260424T185254
CREATED:20221020T163505Z
LAST-MODIFIED:20251229T195351Z
UID:9553-1676210400-1676217600@www.midsummersmusic.com
SUMMARY:Griffon String Quartet • Franciscan Music Center\, Manitowoc
DESCRIPTION:The Griffon String Quartet plays a “Sunday Selection” concert at the Franciscan Music Center in Manitowoc. \nAdmission is $5 and can be paid at the door. \n\nThree Madrigals for Viola and Violin\, H. 313            Bohuslav Martinu \nI. Poco Allegro\nII. Poco Andante\nIII. Allegro\n\nSerenade.   Op. 12                              Zoltan Kodaly\nI. Allegramente\n\nBrief intermission\n\nTerzetto in C for two violins and viola.  Op. 74            Antonin Dvorak\nI. Introduzione\nII. Larghetto\nIII. Scherzo\nIV. Tema con Variazioni\n\n\n\nMusicians are:\nRoy Meyer\, violin\nAlex Norris\, violin\nErin Rafferty\, viola
URL:https://www.midsummersmusic.com/event/griffon-string-quartet-franciscan/
LOCATION:Franciscan Center for Music Education and Performance\, 6751 Calumet Ave.\, Manitowoc\, WI\, 54220
CATEGORIES:B Double Sharp,Griffon String Quartet
END:VEVENT
BEGIN:VEVENT
DTSTART;TZID=America/Chicago:20230107T093000
DTEND;TZID=America/Chicago:20230107T120000
DTSTAMP:20260424T185254
CREATED:20221208T151027Z
LAST-MODIFIED:20251229T195400Z
UID:9669-1673083800-1673092800@www.midsummersmusic.com
SUMMARY:Griffon Winter Retreat
DESCRIPTION:9:30am–12:00pm • Shepherd of the Bay            Open to the public\n11836 WI-42\, Ellison Bay\nExperience:\n9:30–10:30am Performance classes for students\n11:00am-12:00pm Student performances\nBoth events are open to\nthe public.\nPianist Sara Bong accompanies the performers. \nWould you like to participate in or attend these free events? Call us at 920-854-7088.\nAre you interested in learning a string instrument? Visit midsummersmusic.com/strings-lessons for information.
URL:https://www.midsummersmusic.com/event/griffon-winter-retreat-2/
LOCATION:Shepherd of the Bay Lutheran Church\, 11836 WI-42\, Ellison Bay\, WI\, 54210
CATEGORIES:Einstein Series,Griffon String Quartet
END:VEVENT
BEGIN:VEVENT
DTSTART;TZID=America/Chicago:20230106T093000
DTEND;TZID=America/Chicago:20230106T190000
DTSTAMP:20260424T185254
CREATED:20221208T150802Z
LAST-MODIFIED:20251229T195405Z
UID:9667-1672997400-1673031600@www.midsummersmusic.com
SUMMARY:Griffon Winter Retreat
DESCRIPTION:9:45–11:45am • Gibraltar School            (Not open to the public)\n3924 WI-42\, Fish Creek\nExperience:\nThe first hour is a concert by Suzuki Strings of Madison for 3rd–6th grades (140+ students).\nThe second hour is a workshop for the 5th grade\n(33 students).\nPerformances by Roy Meyer\, Griffon violinist\, and solo Suzuki Strings of Madison students.\nAn instrument petting zoo will be offered. \n4:00–7:00pm • Shepherd of the Bay            Open to the public\n11836 WI-42\, Ellison Bay\nExperience:\nThere will be music games and a play-in for all strings students and community members\n*The students will be provided a pizza dinner. We ask that students RSVP in advance. \nWould you like to participate in or attend these free events? Call us at 920-854-7088.\nAre you interested in learning a string instrument? Visit midsummersmusic.com/strings-lessons for information.
URL:https://www.midsummersmusic.com/event/griffon-winter-retreat/
LOCATION:WI
CATEGORIES:Einstein Series,Griffon String Quartet
END:VEVENT
BEGIN:VEVENT
DTSTART;TZID=America/Chicago:20221218T150000
DTEND;TZID=America/Chicago:20221218T170000
DTSTAMP:20260424T185254
CREATED:20221026T165131Z
LAST-MODIFIED:20251229T195417Z
UID:9496-1671375600-1671382800@www.midsummersmusic.com
SUMMARY:Holiday Concert • Egg Harbor
DESCRIPTION:Program: \nHoliday Favorites\nString Quartet No. 1 • Heitor Villa-Lobos \nIntermission \nString Quartet in E Minor\, Op. 59\, No. 2 • Ludwig van Beethoven\nPlus a selection of holiday favorites! \nTickets for this concert are free but can be reserved by clicking the link below or by calling 920-854-7088 during business hours. We ask that you pay what you can. \nThanks to the following sponsors: OneTouchPoint\, Wisconsin Arts Board\, Innovative Printing \nClick here to reserve tickets.
URL:https://www.midsummersmusic.com/event/holiday-concert-egg-harbor/
LOCATION:Donald and Carol Kress Pavilion\, 7845 Church St.\, Egg Harbor\, WI\, 54209
CATEGORIES:Community-Embedded,Griffon String Quartet
END:VEVENT
BEGIN:VEVENT
DTSTART;TZID=America/Chicago:20221217T140000
DTEND;TZID=America/Chicago:20221217T160000
DTSTAMP:20260424T185254
CREATED:20221026T165406Z
LAST-MODIFIED:20251229T195417Z
UID:9500-1671285600-1671292800@www.midsummersmusic.com
SUMMARY:Holiday Concert • Green Bay
DESCRIPTION:Program: \nHoliday Favorites\nString Quartet No. 1 • Heitor Villa-Lobos \nIntermission \nString Quartet in E Minor\, Op. 59\, No. 2 • Ludwig van Beethoven\nPlus a selection of holiday favorites! \nTickets for this concert are free but can be reserved by clicking the link below or by calling 920-854-7088 during business hours. We ask that you pay what you can. \nThanks to the following sponsors: OneTouchPoint\, Wisconsin Arts Board\, Innovative Printing \nClick here to reserve tickets.
URL:https://www.midsummersmusic.com/event/holiday-concert-green-bay/
LOCATION:First Presbyterian Church of Green Bay\, 200 S Ashland Ave.\, Green Bay\, WI\, 54303\, United States
CATEGORIES:Community-Embedded,Griffon String Quartet
END:VEVENT
BEGIN:VEVENT
DTSTART;TZID=America/Chicago:20221216T170000
DTEND;TZID=America/Chicago:20221216T190000
DTSTAMP:20260424T185254
CREATED:20221020T104603Z
LAST-MODIFIED:20251229T195439Z
UID:9498-1671210000-1671217200@www.midsummersmusic.com
SUMMARY:Music for Food Holiday Concert • Sturgeon Bay
DESCRIPTION:Please bring a nonperishable food donation or a monetary donation to support the Feed My People/Clothe My People pantry. \nProgram: \nHoliday Favorites\nString Quartet No. 1 • Heitor Villa-Lobos \nIntermission \nString Quartet in E Minor\, Op. 59\, No. 2 • Ludwig van Beethoven\nPlus a selection of holiday favorites! \nTickets for this concert are free but can be reserved by clicking the link below or by calling 920-854-7088 during business hours. \nThanks to the following sponsors: OneTouchPoint\, Wisconsin Arts Board\, Innovative Printing \nClick here to reserve tickets.
URL:https://www.midsummersmusic.com/event/holiday-concert-sturgeon-bay/
LOCATION:Hope United Church of Christ\, 141 S 12th Ave.\, Sturgeon Bay\, WI\, 54235\, United States
CATEGORIES:Community-Embedded,Griffon String Quartet
END:VEVENT
BEGIN:VEVENT
DTSTART;TZID=America/Chicago:20221215T120000
DTEND;TZID=America/Chicago:20221215T170000
DTSTAMP:20260424T185254
CREATED:20221123T154922Z
LAST-MODIFIED:20251229T195417Z
UID:9630-1671105600-1671123600@www.midsummersmusic.com
SUMMARY:Griffon Pop-up Caroling
DESCRIPTION:Sturgeon Bay Locations Only \n11:50 Sunshine Resources\n12:15 Rotary Club\n1:00 NEW Radio\n1:40 YMCA\n2:10 Young Automotive\n2:40 Door County Medical Center\n3:10 Nicolet Bank (N. 4th Ave. branch)\n3:30 Door County Library\n4:00 Boys & Girls Club \nSubject to change
URL:https://www.midsummersmusic.com/event/griffon-pop-up-caroling-3/
LOCATION:WI
CATEGORIES:Community-Embedded,Griffon String Quartet
END:VEVENT
BEGIN:VEVENT
DTSTART;TZID=America/Chicago:20221214T110000
DTEND;TZID=America/Chicago:20221214T140000
DTSTAMP:20260424T185254
CREATED:20221123T154808Z
LAST-MODIFIED:20251229T195417Z
UID:9628-1671015600-1671026400@www.midsummersmusic.com
SUMMARY:Griffon Pop-Up Caroling
DESCRIPTION:Green Bay Locations Only \n11:00 Wisconsin Public Radio\n11:30 ADRC\n12:00 Brown County Library (Pine St. Branch)\n12:30 The Press Times\n1:00 Lambeau Field\n1:30 Fortifi Bank\n2:00 Art Garage \nSubject to change.
URL:https://www.midsummersmusic.com/event/griffon-pop-up-caroling-2/
LOCATION:WI
CATEGORIES:Community-Embedded,Griffon String Quartet
END:VEVENT
BEGIN:VEVENT
DTSTART;TZID=America/Chicago:20221213T100000
DTEND;TZID=America/Chicago:20221213T130000
DTSTAMP:20260424T185254
CREATED:20221123T154712Z
LAST-MODIFIED:20251229T195502Z
UID:9626-1670925600-1670936400@www.midsummersmusic.com
SUMMARY:Griffon Pop-Up Caroling
DESCRIPTION:Northern Door County Locations Only \n10:00 Scandia\, Sister Bay\n10:20 Midsummer’s Music Office Building\, Sister Bay\n10:40 Piggly Wiggly\, Sister Bay\n11:00 Nicolet Bank\, Sister Bay\n11:30 YMCA\, Fish Creek\n11:50 White Gull Inn\, Fish Creek\n12:15 Kress Library\, Egg Harbor\n12:45 Main Street Market\, Egg Harbor\n1:15 Peninsula Publishing\, Baileys Harbor \nSubject to change
URL:https://www.midsummersmusic.com/event/griffon-pop-up-caroling/
LOCATION:WI
CATEGORIES:Community-Embedded,Griffon String Quartet
END:VEVENT
BEGIN:VEVENT
DTSTART;TZID=America/Chicago:20221211T150000
DTEND;TZID=America/Chicago:20221211T163000
DTSTAMP:20260424T185254
CREATED:20221104T170052Z
LAST-MODIFIED:20251229T195508Z
UID:9582-1670770800-1670776200@www.midsummersmusic.com
SUMMARY:Griffon Performance • Christ the King Episcopal Church
DESCRIPTION:An all-Bach concert features solo violinist Roy Meyer \nThis is not a ticketed event.
URL:https://www.midsummersmusic.com/event/griffon-performance-christ/
LOCATION:Christ the King Episcopal Church\, 512 Michigan St.\, Sturgeon Bay\, WI\, 54235
CATEGORIES:Community-Embedded,Griffon String Quartet
END:VEVENT
BEGIN:VEVENT
DTSTART;TZID=America/Chicago:20221211T100000
DTEND;TZID=America/Chicago:20221211T110000
DTSTAMP:20260424T185254
CREATED:20221104T165848Z
LAST-MODIFIED:20251229T195513Z
UID:9580-1670752800-1670756400@www.midsummersmusic.com
SUMMARY:Griffon Performance • UUF\, Ephraim
DESCRIPTION:Originally scheduled for 11:00am\, this concert time has changed to 10:00am. We apologize for any inconvenience. If you miss this concert\, it will play again at 3:00pm at Christ the King Episcopal Church in Sturgeon Bay. \nAn all-Bach concert features solo violinist Roy Meyer \nThis is not a ticketed event.
URL:https://www.midsummersmusic.com/event/griffon-performance-uuf-____________/
LOCATION:Unitarian Universalist Fellowship of Door County\, 10341 Water Street HWY 42\, Ephraim\, WI\, 54211
CATEGORIES:Community-Embedded,Griffon String Quartet
END:VEVENT
BEGIN:VEVENT
DTSTART;TZID=America/Chicago:20221112T133000
DTEND;TZID=America/Chicago:20221112T143000
DTSTAMP:20260424T185254
CREATED:20221012T112227Z
LAST-MODIFIED:20251229T195539Z
UID:9529-1668259800-1668263400@www.midsummersmusic.com
SUMMARY:Children's Concert • Green Bay
DESCRIPTION:The Griffon String Quartet presents a children’s concert based on the book Because\, which explores the ideas behind what inspires kids to learn music and audiences to attend concerts. \n“Mo Willems\, a number-one New York Times best-selling author and illustrator\, composes a powerful symphony of chance\, discovery\, persistence\, and magic in this moving tale of a young girl’s journey to center stage.” \nThis is not a ticketed event.
URL:https://www.midsummersmusic.com/event/childrens-concert-green/
LOCATION:Brown Co. Library\, 515 Pine St.\, Green Bay\, WI\, 54301\, United States
CATEGORIES:Einstein Series,Griffon String Quartet
END:VEVENT
BEGIN:VEVENT
DTSTART;TZID=America/Chicago:20221112T110000
DTEND;TZID=America/Chicago:20221112T120000
DTSTAMP:20260424T185254
CREATED:20221021T130629Z
LAST-MODIFIED:20251229T195545Z
UID:9560-1668250800-1668254400@www.midsummersmusic.com
SUMMARY:Children's Concert • Sturgeon Bay
DESCRIPTION:The Griffon String Quartet presents a children’s concert based on the picture book Because\, which explores the ideas behind what inspires kids to learn music and audiences to attend concerts. \n“Mo Willems\, a number-one New York Times best-selling author and illustrator\, composes a powerful symphony of chance\, discovery\, persistence\, and magic in this moving tale of a young girl’s journey to center stage.” \nThis is not a ticketed event.
URL:https://www.midsummersmusic.com/event/childrens-concert-sturgeon/
LOCATION:Door County Library\, Sturgeon Bay\, 107 S 4th Ave.\, Sturgeon Bay\, WI\, 54235
CATEGORIES:Einstein Series,Griffon String Quartet
END:VEVENT
BEGIN:VEVENT
DTSTART;TZID=America/Chicago:20221111T133000
DTEND;TZID=America/Chicago:20221111T143000
DTSTAMP:20260424T185254
CREATED:20221106T120216Z
LAST-MODIFIED:20251229T195550Z
UID:9593-1668173400-1668177000@www.midsummersmusic.com
SUMMARY:Griffon String Quartet • Webster Elementary
DESCRIPTION:The Griffon String Quartet presents its Because program to students at Webster Elementary.
URL:https://www.midsummersmusic.com/event/griffon-string-quartet-webster/
LOCATION:WI
CATEGORIES:Einstein Series,Griffon String Quartet
END:VEVENT
END:VCALENDAR