BEGIN:VCALENDAR
VERSION:2.0
PRODID:-//Midsummer&#039;s Music and its affiliate, the Griffon String Quartet - ECPv6.15.20//NONSGML v1.0//EN
CALSCALE:GREGORIAN
METHOD:PUBLISH
X-WR-CALNAME:Midsummer&#039;s Music and its affiliate, the Griffon String Quartet
X-ORIGINAL-URL:https://www.midsummersmusic.com
X-WR-CALDESC:Events for Midsummer&#039;s Music and its affiliate, the Griffon String Quartet
REFRESH-INTERVAL;VALUE=DURATION:PT1H
X-Robots-Tag:noindex
X-PUBLISHED-TTL:PT1H
BEGIN:VTIMEZONE
TZID:America/Chicago
BEGIN:DAYLIGHT
TZOFFSETFROM:-0600
TZOFFSETTO:-0500
TZNAME:CDT
DTSTART:20180311T080000
END:DAYLIGHT
BEGIN:STANDARD
TZOFFSETFROM:-0500
TZOFFSETTO:-0600
TZNAME:CST
DTSTART:20181104T070000
END:STANDARD
BEGIN:DAYLIGHT
TZOFFSETFROM:-0600
TZOFFSETTO:-0500
TZNAME:CDT
DTSTART:20190310T080000
END:DAYLIGHT
BEGIN:STANDARD
TZOFFSETFROM:-0500
TZOFFSETTO:-0600
TZNAME:CST
DTSTART:20191103T070000
END:STANDARD
BEGIN:DAYLIGHT
TZOFFSETFROM:-0600
TZOFFSETTO:-0500
TZNAME:CDT
DTSTART:20200308T080000
END:DAYLIGHT
BEGIN:STANDARD
TZOFFSETFROM:-0500
TZOFFSETTO:-0600
TZNAME:CST
DTSTART:20201101T070000
END:STANDARD
BEGIN:DAYLIGHT
TZOFFSETFROM:-0600
TZOFFSETTO:-0500
TZNAME:CDT
DTSTART:20210314T080000
END:DAYLIGHT
BEGIN:STANDARD
TZOFFSETFROM:-0500
TZOFFSETTO:-0600
TZNAME:CST
DTSTART:20211107T070000
END:STANDARD
BEGIN:DAYLIGHT
TZOFFSETFROM:-0600
TZOFFSETTO:-0500
TZNAME:CDT
DTSTART:20220313T080000
END:DAYLIGHT
BEGIN:STANDARD
TZOFFSETFROM:-0500
TZOFFSETTO:-0600
TZNAME:CST
DTSTART:20221106T070000
END:STANDARD
BEGIN:DAYLIGHT
TZOFFSETFROM:-0600
TZOFFSETTO:-0500
TZNAME:CDT
DTSTART:20230312T080000
END:DAYLIGHT
BEGIN:STANDARD
TZOFFSETFROM:-0500
TZOFFSETTO:-0600
TZNAME:CST
DTSTART:20231105T070000
END:STANDARD
BEGIN:DAYLIGHT
TZOFFSETFROM:-0600
TZOFFSETTO:-0500
TZNAME:CDT
DTSTART:20240310T080000
END:DAYLIGHT
BEGIN:STANDARD
TZOFFSETFROM:-0500
TZOFFSETTO:-0600
TZNAME:CST
DTSTART:20241103T070000
END:STANDARD
BEGIN:DAYLIGHT
TZOFFSETFROM:-0600
TZOFFSETTO:-0500
TZNAME:CDT
DTSTART:20250309T080000
END:DAYLIGHT
BEGIN:STANDARD
TZOFFSETFROM:-0500
TZOFFSETTO:-0600
TZNAME:CST
DTSTART:20251102T070000
END:STANDARD
BEGIN:DAYLIGHT
TZOFFSETFROM:-0600
TZOFFSETTO:-0500
TZNAME:CDT
DTSTART:20260308T080000
END:DAYLIGHT
BEGIN:STANDARD
TZOFFSETFROM:-0500
TZOFFSETTO:-0600
TZNAME:CST
DTSTART:20261101T070000
END:STANDARD
BEGIN:DAYLIGHT
TZOFFSETFROM:-0600
TZOFFSETTO:-0500
TZNAME:CDT
DTSTART:20270314T080000
END:DAYLIGHT
BEGIN:STANDARD
TZOFFSETFROM:-0500
TZOFFSETTO:-0600
TZNAME:CST
DTSTART:20271107T070000
END:STANDARD
END:VTIMEZONE
BEGIN:VEVENT
DTSTART;TZID=America/Chicago:20260422T134500
DTEND;TZID=America/Chicago:20260422T144500
DTSTAMP:20260423T141855
CREATED:20260409T152723Z
LAST-MODIFIED:20260409T153451Z
UID:14778-1776865500-1776869100@www.midsummersmusic.com
SUMMARY:Strings and Stories • Baird Elementary
DESCRIPTION:Music Comes to Life—One Story at a Time! \nStudents at Baird will experience a magical musical adventure with the Griffon String Quartet! This special program weaves live chamber music together with beloved storybooks\, transforming the page into sound and imagination. As the story unfolds\, the quartet’s music brings characters\, moods\, and moments vividly to life—inviting kids to listen\, laugh\, and wonder. Perfect for curious young listeners\, this interactive\, engaging concert is designed to spark creativity\, encourage listening\, and make classical music feel fun\, friendly\, and unforgettable.
URL:https://www.midsummersmusic.com/event/strings-and-stories-baird/
CATEGORIES:Einstein Series,Griffon String Quartet,Private
ATTACH;FMTTYPE=image/png:https://www.midsummersmusic.com/wp-content/uploads/2024/10/einstein-calendar-featured-image-scaled.png
END:VEVENT
BEGIN:VEVENT
DTSTART;TZID=America/Chicago:20260417T103000
DTEND;TZID=America/Chicago:20260417T113000
DTSTAMP:20260423T141855
CREATED:20260409T152309Z
LAST-MODIFIED:20260409T153334Z
UID:14776-1776421800-1776425400@www.midsummersmusic.com
SUMMARY:Griffon String Quartet • Private event
DESCRIPTION:Brookview Meadows performance
URL:https://www.midsummersmusic.com/event/griffon-string-quartet-private-event-brookview/
CATEGORIES:B Double Sharp,Griffon String Quartet,Private
ATTACH;FMTTYPE=image/png:https://www.midsummersmusic.com/wp-content/uploads/2024/10/b-double-sharp-calendar-featured-image-scaled.png
END:VEVENT
BEGIN:VEVENT
DTSTART;TZID=America/Chicago:20251211T120000
DTEND;TZID=America/Chicago:20251211T130000
DTSTAMP:20260423T141855
CREATED:20250912T152109Z
LAST-MODIFIED:20251229T191316Z
UID:13887-1765454400-1765458000@www.midsummersmusic.com
SUMMARY:Rotary Luncheon with the Griffon String Quartet • Sturgeon Bay
DESCRIPTION:Celebrate the season in style as the Griffon String Quartet brings festive cheer to the Sturgeon Bay Rotary’s holiday luncheon with a captivating performance of carols and classical favorites. This special musical program will add warmth and elegance to the gathering\, offering Rotary members a joyful blend of tradition and artistry. Let the spirit of the holidays come alive through the rich harmonies and virtuosity of this acclaimed ensemble.
URL:https://www.midsummersmusic.com/event/rotary-luncheon-with-the-griffon-string-quartet-sturgeon-bay-2/
LOCATION:Sturgeon Bay Yacht Club\, 600 Nautical Dr.\, Sturgeon Bay\, WI\, 54234
CATEGORIES:Griffon String Quartet,Private
ATTACH;FMTTYPE=image/png:https://www.midsummersmusic.com/wp-content/uploads/2024/09/griffon-string-quartet-holiday-concert-calendar-image-scaled.png
END:VEVENT
BEGIN:VEVENT
DTSTART;TZID=America/Chicago:20250427T150000
DTEND;TZID=America/Chicago:20250427T180000
DTSTAMP:20260423T141855
CREATED:20250129T175102Z
LAST-MODIFIED:20251229T192251Z
UID:12785-1745766000-1745776800@www.midsummersmusic.com
SUMMARY:Griffon String Quartet Private Concert • Pewaukee
DESCRIPTION:The Griffon String Quartet is featured in a private concert hosted by a fan. \nRoy Meyer & Alex Norris\, Violins\nOryann Tsaig\, Viola\nJesse Nummelin\, Cello
URL:https://www.midsummersmusic.com/event/griffon-string-quartet-private-concert-pewaukee/
CATEGORIES:Griffon String Quartet,Private
END:VEVENT
BEGIN:VEVENT
DTSTART;TZID=America/Chicago:20241212T113000
DTEND;TZID=America/Chicago:20241212T130000
DTSTAMP:20260423T141855
CREATED:20241009T150659Z
LAST-MODIFIED:20251229T193429Z
UID:12399-1734003000-1734008400@www.midsummersmusic.com
SUMMARY:Rotary Luncheon with the Griffon String Quartet • Sturgeon Bay
DESCRIPTION:The Griffon String Quartet will perform for the Sturgeon Bay Rotary during its members’ holiday luncheon.
URL:https://www.midsummersmusic.com/event/rotary-luncheon-with-the-griffon-string-quartet-sturgeon-bay/
LOCATION:Sturgeon Bay Yacht Club\, 600 Nautical Dr.\, Sturgeon Bay\, WI\, 54234
CATEGORIES:Griffon String Quartet,Private
ATTACH;FMTTYPE=image/png:https://www.midsummersmusic.com/wp-content/uploads/2024/09/griffon-string-quartet-scaled.png
END:VEVENT
BEGIN:VEVENT
DTSTART;TZID=America/Chicago:20240511T150000
DTEND;TZID=America/Chicago:20240511T170000
DTSTAMP:20260423T141855
CREATED:20240109T181657Z
LAST-MODIFIED:20251229T194052Z
UID:11206-1715439600-1715446800@www.midsummersmusic.com
SUMMARY:Griffon Concert • Private Home
DESCRIPTION:The Griffon String Quartet performs for a private home concert. \nRoy Meyer and Alex Norris\, Violins\nJulia Kirk\, Viola\nJesse Nummelin\, Cello
URL:https://www.midsummersmusic.com/event/griffon-concert-private-home/
CATEGORIES:Griffon String Quartet,Private
END:VEVENT
BEGIN:VEVENT
DTSTART;TZID=America/Chicago:20240209T190000
DTEND;TZID=America/Chicago:20240209T210000
DTSTAMP:20260423T141855
CREATED:20231019T161807Z
LAST-MODIFIED:20251229T194346Z
UID:10896-1707505200-1707512400@www.midsummersmusic.com
SUMMARY:Griffon String Quartet Concert • Milwaukee
DESCRIPTION:The Griffon String Quartet performs at St. John’s on the Lake. \nThis concert is open only to residents of St. John’s on the Lake. \nCommemorating Black History Month\nMusic by Franz Schubert: Rosamunde\nWynton Marsalis: Selections from At the Octoroon Balls\nWilliam Grant Still: Lyric Quartet \nRoy Meyer and Alex Norris\, Violins\nLarissa Mapua\, Viola\nJesse Nummelin\, Cello \nSponsored by Dick & Annie Egan
URL:https://www.midsummersmusic.com/event/griffon-string-quartet-concert-12/
LOCATION:St. John’s on the Lake\, 1800 N Prospect Ave.\, Milwaukee\, WI\, 53202
CATEGORIES:Griffon String Quartet,Private
END:VEVENT
BEGIN:VEVENT
DTSTART;TZID=America/Chicago:20230509T074500
DTEND;TZID=America/Chicago:20230509T090000
DTSTAMP:20260423T141855
CREATED:20230310T163750Z
LAST-MODIFIED:20251229T195132Z
UID:9983-1683618300-1683622800@www.midsummersmusic.com
SUMMARY:Griffon String Quartet • Destination Door County Breakfast
DESCRIPTION:The Griffon plays for attendees at the Destination Door County breakfast.
URL:https://www.midsummersmusic.com/event/griffon-string-quartet-destination/
LOCATION:Stone Harbor Resort\, 107 N 1st Ave\, Sturgeon Bay\, WI\, 54235
CATEGORIES:Griffon String Quartet,Private
END:VEVENT
BEGIN:VEVENT
DTSTART;TZID=America/Chicago:20220516T173000
DTEND;TZID=America/Chicago:20220516T210000
DTSTAMP:20260423T141855
CREATED:20220128T154912Z
LAST-MODIFIED:20251229T200144Z
UID:8668-1652722200-1652734800@www.midsummersmusic.com
SUMMARY:Griffon String Quartet • Green Bay Rotary Banquet
DESCRIPTION:The Green Bay Rotary “Free Enterprise Banquet” is in its 35th year where they honor a local business or community leader. \nThe Griffon String Quartet will perform from 5:30 – 6:30pm.
URL:https://www.midsummersmusic.com/event/griffon-string-quartet-green-2/
LOCATION:Green Bay Radisson Hotel and Conference Center\, 3050 Airport Dr.\, Green Bay\, Wisconsin\, 54313
CATEGORIES:Griffon String Quartet,Private
END:VEVENT
BEGIN:VEVENT
DTSTART;TZID=America/Chicago:20220501T150000
DTEND;TZID=America/Chicago:20220501T170000
DTSTAMP:20260423T141855
CREATED:20220128T164612Z
LAST-MODIFIED:20251229T200218Z
UID:8674-1651417200-1651424400@www.midsummersmusic.com
SUMMARY:Griffon String Quartet • Private Event
DESCRIPTION:Eine Kleine Nachtmusik • Wolfgang Amadeus Mozart\nAllegro \nString Quartet in D Major\, Op. 64\, No. 5\, “The Lark” • Joseph Haydn\nAllegro Moderato\nAdagio: Cantabile\nMenuet: Allegretto – Trio\nFinale: Vivace \nIntermission \nString Quartet No. 10 in E-flat Major\, Op. 51 • Antonín Dvořák\nAllegro ma non troppo\nDumka: Andante con moto – Vivace\nRomanza: Andante con moto\nFinale: Allegro assai
URL:https://www.midsummersmusic.com/event/griffon-string-quartet-private-3/
CATEGORIES:Griffon String Quartet,Private
END:VEVENT
BEGIN:VEVENT
DTSTART;TZID=America/Chicago:20220430T140000
DTEND;TZID=America/Chicago:20220430T160000
DTSTAMP:20260423T141855
CREATED:20220107T181326Z
LAST-MODIFIED:20251229T200224Z
UID:8623-1651327200-1651334400@www.midsummersmusic.com
SUMMARY:Griffon String Quartet • St. John's on the Lake\, Milwaukee
DESCRIPTION:The Griffon String Quartet presents a special performance at St. John’s on the Lake in Milwaukee. \nSponsored by Dick & Annie Egan \nFlorence Price • Five Folksongs in Counterpoint\nCalvary\nOh My Darlin’ Clementine\nDrink to Me Only with Thine Eyes\nShortnin’ Bread\nSwing Low Sweet Chariot \nPaul Hindemith • String Quartet No. 1 in C Major\, Op. 2\nSehr Lebhaft\nAdagio: Im Anfang dann allmählich schneller werden\nScherzo: Sehr lebhaft\nZiemlich lebhaft
URL:https://www.midsummersmusic.com/event/griffon-string-quartet-st-3/
LOCATION:St. John’s on the Lake\, 1800 N Prospect Ave.\, Milwaukee\, WI\, 53202
CATEGORIES:Griffon String Quartet,Private
END:VEVENT
BEGIN:VEVENT
DTSTART;TZID=America/Chicago:20220424T143000
DTEND;TZID=America/Chicago:20220424T170000
DTSTAMP:20260423T141855
CREATED:20211214T155629Z
LAST-MODIFIED:20251229T200231Z
UID:8579-1650810600-1650819600@www.midsummersmusic.com
SUMMARY:Griffon String Quartet • Private Event
DESCRIPTION:The Griffon String Quartet plays a private event.
URL:https://www.midsummersmusic.com/event/griffon-string-quartet-private-2/
CATEGORIES:Griffon String Quartet,Private
END:VEVENT
BEGIN:VEVENT
DTSTART;VALUE=DATE:20220310
DTEND;VALUE=DATE:20220311
DTSTAMP:20260423T141855
CREATED:20220310T162854Z
LAST-MODIFIED:20251229T200316Z
UID:8757-1646870400-1646956799@www.midsummersmusic.com
SUMMARY:Griffon String Quartet • Private Event
DESCRIPTION:The Griffon String Quartet plays for a private event.
URL:https://www.midsummersmusic.com/event/griffon-string-quartet-private-4/
CATEGORIES:Griffon String Quartet,Private
END:VEVENT
BEGIN:VEVENT
DTSTART;TZID=America/Chicago:20191013T180000
DTEND;TZID=America/Chicago:20191013T200000
DTSTAMP:20260423T141855
CREATED:20191006T115005Z
LAST-MODIFIED:20251229T201434Z
UID:5039-1570989600-1570996800@www.midsummersmusic.com
SUMMARY:The Griffon String Quartet - Private Concert
DESCRIPTION:October 13\, 6:00\nPresented by the Green Bay Chamber Music Society\nString Quartet No. 8 in C Minor\, Op. 110 – Dmitri Shostakovich\nString Quartet No. 14 in D Minor\, D.810\, “Death and the Maiden” – Franz Schubert\nOpen to GBCMS subscribers \nCall 920-854-7088 for GBCMS membership information.
URL:https://www.midsummersmusic.com/event/griffon-string-quartet-private/
CATEGORIES:Griffon String Quartet,Private
END:VEVENT
BEGIN:VEVENT
DTSTART;TZID=America/Chicago:20190414T140000
DTEND;TZID=America/Chicago:20190414T150000
DTSTAMP:20260423T141855
CREATED:20190403T234412Z
LAST-MODIFIED:20251229T201931Z
UID:4502-1555250400-1555254000@www.midsummersmusic.com
SUMMARY:Griffon String Quartet in MKE
DESCRIPTION:Join the Griffon String Quartet in concert at St. John’s Chapel in Milwaukee! \nThe repertoire consists of selections from the following: \nHaydn String Quartet Op. 33\, No. 3\, “The Bird”\nPhilip Glass String Quartet No. 3\, “Mishima”\nBrahms String Quartet No. 2 in A Minor\, Op. 51\, No. 2 \nDonations accepted at the door.
URL:https://www.midsummersmusic.com/event/griffon-string-quartet-mke-2/
LOCATION:St. John’s on the Lake\, 1800 N Prospect Ave.\, Milwaukee\, WI\, 53202
CATEGORIES:Griffon String Quartet,Private
END:VEVENT
END:VCALENDAR