BEGIN:VCALENDAR
VERSION:2.0
PRODID:-//Midsummer&#039;s Music and its affiliate, the Griffon String Quartet - ECPv6.15.20//NONSGML v1.0//EN
CALSCALE:GREGORIAN
METHOD:PUBLISH
X-WR-CALNAME:Midsummer&#039;s Music and its affiliate, the Griffon String Quartet
X-ORIGINAL-URL:https://www.midsummersmusic.com
X-WR-CALDESC:Events for Midsummer&#039;s Music and its affiliate, the Griffon String Quartet
REFRESH-INTERVAL;VALUE=DURATION:PT1H
X-Robots-Tag:noindex
X-PUBLISHED-TTL:PT1H
BEGIN:VTIMEZONE
TZID:America/Chicago
BEGIN:DAYLIGHT
TZOFFSETFROM:-0600
TZOFFSETTO:-0500
TZNAME:CDT
DTSTART:20250309T080000
END:DAYLIGHT
BEGIN:STANDARD
TZOFFSETFROM:-0500
TZOFFSETTO:-0600
TZNAME:CST
DTSTART:20251102T070000
END:STANDARD
BEGIN:DAYLIGHT
TZOFFSETFROM:-0600
TZOFFSETTO:-0500
TZNAME:CDT
DTSTART:20260308T080000
END:DAYLIGHT
BEGIN:STANDARD
TZOFFSETFROM:-0500
TZOFFSETTO:-0600
TZNAME:CST
DTSTART:20261101T070000
END:STANDARD
BEGIN:DAYLIGHT
TZOFFSETFROM:-0600
TZOFFSETTO:-0500
TZNAME:CDT
DTSTART:20270314T080000
END:DAYLIGHT
BEGIN:STANDARD
TZOFFSETFROM:-0500
TZOFFSETTO:-0600
TZNAME:CST
DTSTART:20271107T070000
END:STANDARD
END:VTIMEZONE
BEGIN:VEVENT
DTSTART;TZID=America/Chicago:20260425T150000
DTEND;TZID=America/Chicago:20260425T180000
DTSTAMP:20260423T110441
CREATED:20260115T163249Z
LAST-MODIFIED:20260115T163249Z
UID:14476-1777129200-1777140000@www.midsummersmusic.com
SUMMARY:Griffon String Quartet Private Concert • Pewaukee
DESCRIPTION:An afternoon of exceptional chamber music awaits at an intimate private concert featuring the Griffon String Quartet\, graciously hosted by a devoted fan. Known for their expressive artistry and refined ensemble sound\, the quartet brings classical music to life in a setting where every nuance can be felt and every moment shared. \nFeaturingRoy Meyer & Alex Norris\, violinsOryann Tsaig\, violaJesse Nummelin\, cello \nThis exclusive performance offers a rare opportunity to experience world-class musicianship up close—where passion\, precision\, and personal connection converge. In the warmth of a private setting\, the Griffon String Quartet invites guests into the heart of the music for an unforgettable evening of elegance and inspiration.
URL:https://www.midsummersmusic.com/event/griffon-string-quartet-private-concert-pewaukee-2/
CATEGORIES:Griffon String Quartet,Private
ATTACH;FMTTYPE=image/jpeg:https://www.midsummersmusic.com/wp-content/uploads/2025/03/2024-griffon-logo-scaled.jpg
END:VEVENT
BEGIN:VEVENT
DTSTART;TZID=America/Chicago:20260509T130000
DTEND;TZID=America/Chicago:20260509T140000
DTSTAMP:20260423T110441
CREATED:20260218T160150Z
LAST-MODIFIED:20260218T160501Z
UID:14581-1778331600-1778335200@www.midsummersmusic.com
SUMMARY:Griffon String Quartet • Private event
DESCRIPTION:Private Event
URL:https://www.midsummersmusic.com/event/private-event/
CATEGORIES:Griffon String Quartet,Private
ATTACH;FMTTYPE=image/jpeg:https://www.midsummersmusic.com/wp-content/uploads/2026/02/2024-griffon-logo-scaled.jpg
END:VEVENT
END:VCALENDAR