BEGIN:VCALENDAR
VERSION:2.0
PRODID:-//Midsummer&#039;s Music and its affiliate, the Griffon String Quartet - ECPv6.15.20//NONSGML v1.0//EN
CALSCALE:GREGORIAN
METHOD:PUBLISH
X-ORIGINAL-URL:https://www.midsummersmusic.com
X-WR-CALDESC:Events for Midsummer&#039;s Music and its affiliate, the Griffon String Quartet
REFRESH-INTERVAL;VALUE=DURATION:PT1H
X-Robots-Tag:noindex
X-PUBLISHED-TTL:PT1H
BEGIN:VTIMEZONE
TZID:America/Chicago
BEGIN:DAYLIGHT
TZOFFSETFROM:-0600
TZOFFSETTO:-0500
TZNAME:CDT
DTSTART:20240310T080000
END:DAYLIGHT
BEGIN:STANDARD
TZOFFSETFROM:-0500
TZOFFSETTO:-0600
TZNAME:CST
DTSTART:20241103T070000
END:STANDARD
BEGIN:DAYLIGHT
TZOFFSETFROM:-0600
TZOFFSETTO:-0500
TZNAME:CDT
DTSTART:20250309T080000
END:DAYLIGHT
BEGIN:STANDARD
TZOFFSETFROM:-0500
TZOFFSETTO:-0600
TZNAME:CST
DTSTART:20251102T070000
END:STANDARD
BEGIN:DAYLIGHT
TZOFFSETFROM:-0600
TZOFFSETTO:-0500
TZNAME:CDT
DTSTART:20260308T080000
END:DAYLIGHT
BEGIN:STANDARD
TZOFFSETFROM:-0500
TZOFFSETTO:-0600
TZNAME:CST
DTSTART:20261101T070000
END:STANDARD
END:VTIMEZONE
BEGIN:VEVENT
DTSTART;TZID=America/Chicago:20250510T180000
DTEND;TZID=America/Chicago:20250510T220000
DTSTAMP:20260424T075545
CREATED:20240909T135210Z
LAST-MODIFIED:20251229T192229Z
UID:12264-1746900000-1746914400@www.midsummersmusic.com
SUMMARY:Green Bay Chamber Music Society
DESCRIPTION:Season Finale and Fireworks \nThe Griffon String Quartet performs\nTBD \nHosted by Ken Strmiska and Sabina Singh \nThis concert is for Green Bay Chamber Music Society members. \nFor information about the Green Bay Chamber Music Society\, visit this webpage.
URL:https://www.midsummersmusic.com/event/green-bay-chamber-music-society-4/
CATEGORIES:Green Bay Chamber Music Society,Griffon String Quartet
ATTACH;FMTTYPE=image/png:https://www.midsummersmusic.com/wp-content/uploads/2024/09/2024-gbcms-griffon-logo.png
END:VEVENT
END:VCALENDAR