BEGIN:VCALENDAR
VERSION:2.0
PRODID:-//Midsummer&#039;s Music and its affiliate, the Griffon String Quartet - ECPv6.15.20//NONSGML v1.0//EN
CALSCALE:GREGORIAN
METHOD:PUBLISH
X-ORIGINAL-URL:https://www.midsummersmusic.com
X-WR-CALDESC:Events for Midsummer&#039;s Music and its affiliate, the Griffon String Quartet
REFRESH-INTERVAL;VALUE=DURATION:PT1H
X-Robots-Tag:noindex
X-PUBLISHED-TTL:PT1H
BEGIN:VTIMEZONE
TZID:America/Chicago
BEGIN:DAYLIGHT
TZOFFSETFROM:-0600
TZOFFSETTO:-0500
TZNAME:CDT
DTSTART:20200308T080000
END:DAYLIGHT
BEGIN:STANDARD
TZOFFSETFROM:-0500
TZOFFSETTO:-0600
TZNAME:CST
DTSTART:20201101T070000
END:STANDARD
BEGIN:DAYLIGHT
TZOFFSETFROM:-0600
TZOFFSETTO:-0500
TZNAME:CDT
DTSTART:20210314T080000
END:DAYLIGHT
BEGIN:STANDARD
TZOFFSETFROM:-0500
TZOFFSETTO:-0600
TZNAME:CST
DTSTART:20211107T070000
END:STANDARD
BEGIN:DAYLIGHT
TZOFFSETFROM:-0600
TZOFFSETTO:-0500
TZNAME:CDT
DTSTART:20220313T080000
END:DAYLIGHT
BEGIN:STANDARD
TZOFFSETFROM:-0500
TZOFFSETTO:-0600
TZNAME:CST
DTSTART:20221106T070000
END:STANDARD
BEGIN:DAYLIGHT
TZOFFSETFROM:-0600
TZOFFSETTO:-0500
TZNAME:CDT
DTSTART:20230312T080000
END:DAYLIGHT
BEGIN:STANDARD
TZOFFSETFROM:-0500
TZOFFSETTO:-0600
TZNAME:CST
DTSTART:20231105T070000
END:STANDARD
BEGIN:DAYLIGHT
TZOFFSETFROM:-0600
TZOFFSETTO:-0500
TZNAME:CDT
DTSTART:20240310T080000
END:DAYLIGHT
BEGIN:STANDARD
TZOFFSETFROM:-0500
TZOFFSETTO:-0600
TZNAME:CST
DTSTART:20241103T070000
END:STANDARD
BEGIN:DAYLIGHT
TZOFFSETFROM:-0600
TZOFFSETTO:-0500
TZNAME:CDT
DTSTART:20250309T080000
END:DAYLIGHT
BEGIN:STANDARD
TZOFFSETFROM:-0500
TZOFFSETTO:-0600
TZNAME:CST
DTSTART:20251102T070000
END:STANDARD
END:VTIMEZONE
BEGIN:VEVENT
DTSTART;TZID=America/Chicago:20240412T093000
DTEND;TZID=America/Chicago:20240412T100000
DTSTAMP:20260423T230635
CREATED:20240312T154801Z
LAST-MODIFIED:20251229T194135Z
UID:11534-1712914200-1712916000@www.midsummersmusic.com
SUMMARY:Griffon String Quartet Outreach • Door Community Child Development Center
DESCRIPTION:The Griffon String Quartet performs for very young children at the Door Community Child Development Center.
URL:https://www.midsummersmusic.com/event/griffon-outreach-door-community-child-development-center/
LOCATION:Door Community Child Development Center\, 5617 Gordon Rd.\, Sturgeon Bay\, WI\, 54235
CATEGORIES:Einstein Series,Griffon String Quartet
END:VEVENT
BEGIN:VEVENT
DTSTART;TZID=America/Chicago:20240308T093000
DTEND;TZID=America/Chicago:20240308T230000
DTSTAMP:20260423T230635
CREATED:20240214T150352Z
LAST-MODIFIED:20251229T192658Z
UID:11283-1709890200-1709938800@www.midsummersmusic.com
SUMMARY:Griffon String Quartet • Sturgeon Bay High School
DESCRIPTION:The Griffon String Quartet presents an Einstein Series program for students at Sturgeon Bay High School.
URL:https://www.midsummersmusic.com/event/griffon-string-quartet-sturgeon-2/
LOCATION:Sturgeon Bay High School Auditorium
CATEGORIES:Einstein Series,Griffon String Quartet
END:VEVENT
BEGIN:VEVENT
DTSTART;TZID=America/Chicago:20240306T080000
DTEND;TZID=America/Chicago:20240306T100000
DTSTAMP:20260423T230635
CREATED:20240129T154507Z
LAST-MODIFIED:20251229T194339Z
UID:11242-1709712000-1709719200@www.midsummersmusic.com
SUMMARY:Griffon String Quartet Outreach • Bay Port High School
DESCRIPTION:The Griffon String Quartet performs for students at Bay Port High School in Green Bay.
URL:https://www.midsummersmusic.com/event/griffon-string-quartet-outreach-11/
LOCATION:Bay Port High School
CATEGORIES:Einstein Series,Griffon String Quartet
END:VEVENT
BEGIN:VEVENT
DTSTART;TZID=America/Chicago:20240209T123000
DTEND;TZID=America/Chicago:20240209T133000
DTSTAMP:20260423T230635
CREATED:20231019T162555Z
LAST-MODIFIED:20251229T192658Z
UID:10902-1707481800-1707485400@www.midsummersmusic.com
SUMMARY:Griffon Outreach • Sturgeon Bay
DESCRIPTION:The Griffon String Quartet presents an Einstein Series program for students at Sawyer Elementary. \nThis is not open to the public. \nCommemorating Black History Month\nMusic by Franz Schubert: Rosamunde\nWynton Marsalis: Selections from At the Octoroon Balls\nWilliam Grant Still: Lyric Quartet \nRoy Meyer and Alex Norris\, Violins\nLarissa Mapua\, Viola\nJesse Nummelin\, Cello \nPrograms are funded in part by grants from Bader Philanthropies\, the Door County Community Foundation\, the National Endowment for the Arts\, and the Wisconsin Arts Board. Programs in Green Bay are funded in part by grants from the Green Bay Packers Foundation and the Greater Green Bay Community Foundation.
URL:https://www.midsummersmusic.com/event/griffon-outreach-sturgeon-4/
LOCATION:Sawyer Elementary\, 60 Willow Dr.\, Sturgeon Bay\, WI\, 54234
CATEGORIES:Einstein Series,Griffon String Quartet
END:VEVENT
BEGIN:VEVENT
DTSTART;TZID=America/Chicago:20240209T090000
DTEND;TZID=America/Chicago:20240209T100000
DTSTAMP:20260423T230635
CREATED:20231019T162342Z
LAST-MODIFIED:20251229T192658Z
UID:10900-1707469200-1707472800@www.midsummersmusic.com
SUMMARY:Griffon Outreach • Sturgeon Bay
DESCRIPTION:The Griffon String Quartet presents an Einstein Series program for students at Sunrise Elementary School. \nThis is not open to the public. \nCommemorating Black History Month\nMusic by Franz Schubert: Rosamunde\nWynton Marsalis: Selections from At the Octoroon Balls\nWilliam Grant Still: Lyric Quartet \nRoy Meyer and Alex Norris\, Violins\nLarissa Mapua\, Viola\nJesse Nummelin\, Cello \nPrograms are funded in part by grants from Bader Philanthropies\, the Door County Community Foundation\, the National Endowment for the Arts\, and the Wisconsin Arts Board. Programs in Green Bay are funded in part by grants from the Green Bay Packers Foundation and the Greater Green Bay Community Foundation.
URL:https://www.midsummersmusic.com/event/griffon-outreach-sturgeon-3/
LOCATION:Sunrise Elementary School\, 1414 Rhode Island St.\, Sturgeon Bay\, WI\, 54235\, United States
CATEGORIES:Einstein Series,Griffon String Quartet
END:VEVENT
BEGIN:VEVENT
DTSTART;TZID=America/Chicago:20240113T140000
DTEND;TZID=America/Chicago:20240113T150000
DTSTAMP:20260423T230635
CREATED:20231116T114914Z
LAST-MODIFIED:20251229T194401Z
UID:11095-1705154400-1705158000@www.midsummersmusic.com
SUMMARY:Griffon String Quartet Children's Concert • Sturgeon Bay
DESCRIPTION:The Griffon String Quartet will perform a children’s concert at the Brown County Library in Green Bay based on the Robert Frost poem/book “Stopping by Woods on a Snowy Evening” with illustrations by P.J. Lynch. The concert includes an “instrument petting zoo\,” where children can touch and hold string instruments. \nLynch illustrates Robert Frost’s classic poem with moody\, snow-filled watercolor and gouache landscapes. . . . Rendered in a palette of blues and greens\, Lynch’s illustrations artfully match the quiet\, building depth of Frost’s work.\n—Publishers Weekly \nLynch has done a marvelous job slowing the pace of the poem down by spreading its text out in small pieces and augmenting the rich language with illustrations\, which will make it easier to absorb the sensory details so quietly evoked by the words. . . . a gorgeous rendering that will bring the poem to life for a new generation and even encourage young poets to stop and notice their world with a lyrical\, illustrative lens.\n—School Library Journal \nThe illustrations bring the poem to life.\n—School Library Connection \nThe value of a book like this is that it introduces young children to a poem they will almost certainly encounter again\, inculcating a fondness that should later feel like warm recognition.\n—The Wall Street Journal \nPrograms are funded in part by grants from Bader Philanthropies\, the Door County Community Foundation\, the National Endowment for the Arts\, and the Wisconsin Arts Board. Programs in Green Bay are funded in part by grants from the Green Bay Packers Foundation and the Greater Green Bay Community Foundation. \nRoy Meyer and Alex Norris\, Violins\nLucas Blekeberg\, Viola\nJesse Nummelin\, Cello
URL:https://www.midsummersmusic.com/event/griffon-string-quartet-childrens/
LOCATION:Door County Library\, Sturgeon Bay\, 107 S 4th Ave.\, Sturgeon Bay\, WI\, 54235
CATEGORIES:Einstein Series,Griffon String Quartet
ATTACH;FMTTYPE=image/jpeg:https://www.midsummersmusic.com/wp-content/uploads/2023/10/stopping-by-woods-on-a-snowy-evening-book.jpg
END:VEVENT
BEGIN:VEVENT
DTSTART;TZID=America/Chicago:20240111T180000
DTEND;TZID=America/Chicago:20240111T193000
DTSTAMP:20260423T230635
CREATED:20231023T144351Z
LAST-MODIFIED:20251229T194407Z
UID:10942-1704996000-1705001400@www.midsummersmusic.com
SUMMARY:Griffon String Quartet Children's Concert • Brown County Library\, Green Bay
DESCRIPTION:The Griffon String Quartet will perform a children’s concert at the Brown County Library in Green Bay based on the Robert Frost poem/book “Stopping by Woods on a Snowy Evening” with illustrations by P.J. Lynch. The concert includes an “instrument petting zoo\,” where children can touch and hold string instruments. \nLynch illustrates Robert Frost’s classic poem with moody\, snow-filled watercolor and gouache landscapes. . . . Rendered in a palette of blues and greens\, Lynch’s illustrations artfully match the quiet\, building depth of Frost’s work.\n—Publishers Weekly \nLynch has done a marvelous job slowing the pace of the poem down by spreading its text out in small pieces and augmenting the rich language with illustrations\, which will make it easier to absorb the sensory details so quietly evoked by the words. . . . a gorgeous rendering that will bring the poem to life for a new generation and even encourage young poets to stop and notice their world with a lyrical\, illustrative lens.\n—School Library Journal \nThe illustrations bring the poem to life.\n—School Library Connection \nThe value of a book like this is that it introduces young children to a poem they will almost certainly encounter again\, inculcating a fondness that should later feel like warm recognition.\n—The Wall Street Journal \nPrograms are funded in part by grants from Bader Philanthropies\, the Door County Community Foundation\, the National Endowment for the Arts\, and the Wisconsin Arts Board. Programs in Green Bay are funded in part by grants from the Green Bay Packers Foundation and the Greater Green Bay Community Foundation. \nRoy Meyer and Alex Norris\, Violins\nLucas Blekeberg\, Viola\nJesse Nummelin\, Cello
URL:https://www.midsummersmusic.com/event/griffon-string-quartet-brown/
LOCATION:Brown Co. Library\, 515 Pine St.\, Green Bay\, WI\, 54301\, United States
CATEGORIES:Einstein Series,Griffon String Quartet
ATTACH;FMTTYPE=image/jpeg:https://www.midsummersmusic.com/wp-content/uploads/2023/10/stopping-by-woods-on-a-snowy-evening-book.jpg
END:VEVENT
BEGIN:VEVENT
DTSTART;VALUE=DATE:20240105
DTEND;VALUE=DATE:20240107
DTSTAMP:20260423T230635
CREATED:20231023T144052Z
LAST-MODIFIED:20251229T194425Z
UID:10940-1704412800-1704585599@www.midsummersmusic.com
SUMMARY:Griffon Winter Retreat • Door County
DESCRIPTION:The Griffon String Quartet welcomes Sonora Suzuki Strings of Madison for its second annual Winter Retreat\, with exhibitions for local students\, practice sessions\, a pizza party\, and a public concert. \nSuzuki Strings of Madison will perform for students at Gibraltar School in Fish Creek on the morning of January 5. A stimulating instrumental workshop follows\, including performances by Griffon string quartet musicians and students from Suzuki Strings of Madison. A captivating instrument petting zoo will allow the Gibraltar students an excellent opportunity to touch and experiment with violins\, violas\, and cellos under the supervision and guidance of professional musicians. \nLater the same day\, Suzuki Strings of Madison students\, Griffon students\, and community members will gather at Hope United Church of Christ in Sturgeon Bay\, WI\, for music games and a play-in\, plus a pizza dinner party for the students. \nOn the morning of January 6\, 2024\, at Hope Church\, the retreat will feature instructive performance classes for students\, followed by a community concert at 1:00pm with Suzuki Strings of Madison and Griffon string student. Both events will be open to the public. \nPrograms are funded in part by grants from Bader Philanthropies\, the Door County Community Foundation\, the National Endowment for the Arts\, and the Wisconsin Arts Board. Programs in Green Bay are funded in part by grants from the Green Bay Packers Foundation and the Greater Green Bay Community Foundation.
URL:https://www.midsummersmusic.com/event/griffon-winter-retreat-door/
CATEGORIES:Einstein Series,Griffon String Quartet
ATTACH;FMTTYPE=image/png:https://www.midsummersmusic.com/wp-content/uploads/2023/10/winter-retreat-calendar-featured-image-scaled.png
END:VEVENT
BEGIN:VEVENT
DTSTART;TZID=America/Chicago:20231024T083000
DTEND;TZID=America/Chicago:20231024T120000
DTSTAMP:20260423T230635
CREATED:20231012T171618Z
LAST-MODIFIED:20251229T194536Z
UID:10876-1698136200-1698148800@www.midsummersmusic.com
SUMMARY:Griffon Outreach—YMCA • Sturgeon Bay
DESCRIPTION:The Griffon String Quartet participates in the YMCA’s Community Healthy Living Fair. \nClick for information about the Fair.
URL:https://www.midsummersmusic.com/event/griffon-outreach-ymca-sturgeon/
LOCATION:YMCA Sturgeon Bay\, 1900 Michigan St\,\, Sturgeon Bay\, WI\, 54234
CATEGORIES:Einstein Series,Griffon String Quartet
END:VEVENT
BEGIN:VEVENT
DTSTART;TZID=America/Chicago:20230912T180000
DTEND;TZID=America/Chicago:20230912T190000
DTSTAMP:20260423T230635
CREATED:20230823T115503Z
LAST-MODIFIED:20251229T194644Z
UID:10694-1694541600-1694545200@www.midsummersmusic.com
SUMMARY:Griffon String Quartet • Fine Arts Institute
DESCRIPTION:Members of the Griffon String Quartet will meet the strings lessons students from the Fine Arts Institute at East High School in Green Bay. \nThis event is not open to the public.
URL:https://www.midsummersmusic.com/event/griffon-string-quartet-fine/
LOCATION:East High School\, 1415 E Walnut St.\, Green Bay\, WI\, 54301\, United States
CATEGORIES:Einstein Series,Griffon String Quartet
END:VEVENT
BEGIN:VEVENT
DTSTART;TZID=America/Chicago:20230520T140000
DTEND;TZID=America/Chicago:20230520T160000
DTSTAMP:20260423T230635
CREATED:20230223T183724Z
LAST-MODIFIED:20251229T195050Z
UID:9943-1684591200-1684598400@www.midsummersmusic.com
SUMMARY:Griffon Students' Recital • Hope UCC\, Sturgeon Bay
DESCRIPTION:Griffon Students from the 2022/2023 season perform recital pieces to demonstrate their remarkable achievements with Griffon strings lessons. \nThe event is free and open to the public. Donations supporting the Strings Lessons Program will be accepted at the door.
URL:https://www.midsummersmusic.com/event/griffon-students-recital/
LOCATION:Hope United Church of Christ\, 141 S 12th Ave.\, Sturgeon Bay\, WI\, 54235\, United States
CATEGORIES:Einstein Series,Griffon String Quartet
END:VEVENT
BEGIN:VEVENT
DTSTART;TZID=America/Chicago:20230511T190000
DTEND;TZID=America/Chicago:20230511T210000
DTSTAMP:20260423T230635
CREATED:20230410T134415Z
LAST-MODIFIED:20251229T195113Z
UID:10124-1683831600-1683838800@www.midsummersmusic.com
SUMMARY:Griffon String Quartet Outreach • Southern Door High School
DESCRIPTION:The Griffon String Quartet participates in the Southern Door High School spring concert. \nGriffon String Quartet is funded by generous donors and the following grants: National Endowment for the Arts\, the Bader Foundation\, Greater Green Bay Community Foundation\, Door County Community Foundation\, and the Wisconsin Arts Board.
URL:https://www.midsummersmusic.com/event/griffon-string-quartet-outreach-6/
CATEGORIES:Einstein Series,Griffon String Quartet
END:VEVENT
BEGIN:VEVENT
DTSTART;TZID=America/Chicago:20230509T183000
DTEND;TZID=America/Chicago:20230509T193000
DTSTAMP:20260423T230635
CREATED:20230327T110623Z
LAST-MODIFIED:20251229T195124Z
UID:10092-1683657000-1683660600@www.midsummersmusic.com
SUMMARY:Griffon String Quartet Violist • Gibraltar Elementary
DESCRIPTION:The Griffon String Quartet violist will accompany the Gibraltar Elementary Spring Concert.
URL:https://www.midsummersmusic.com/event/griffon-string-quartet-violist/
LOCATION:Door Community Auditorium\, 3926 WI-42\, Fish Creek\, WI\, 54212\, United States
CATEGORIES:Einstein Series,Griffon String Quartet
END:VEVENT
BEGIN:VEVENT
DTSTART;TZID=America/Chicago:20230413T183000
DTEND;TZID=America/Chicago:20230413T200000
DTSTAMP:20260423T230635
CREATED:20230330T120902Z
LAST-MODIFIED:20251229T195213Z
UID:10103-1681410600-1681416000@www.midsummersmusic.com
SUMMARY:Group Lesson for Students • SWY231
DESCRIPTION:This is not open to the public. \nGriffon String Quartet members work with students in a group lesson in preparation for the May 20 recital program.
URL:https://www.midsummersmusic.com/event/group-lesson-students-swy231/
LOCATION:SWY231\, 231 N 3rd Ave.\, Sturgeon Bay\, WI\, 54235\, United States
CATEGORIES:Einstein Series,Griffon String Quartet
END:VEVENT
BEGIN:VEVENT
DTSTART;TZID=America/Chicago:20230401T133000
DTEND;TZID=America/Chicago:20230401T143000
DTSTAMP:20260423T230635
CREATED:20230202T131237Z
LAST-MODIFIED:20251229T195232Z
UID:9797-1680355800-1680359400@www.midsummersmusic.com
SUMMARY:Griffon String Quartet Outreach • Children's Library
DESCRIPTION:Open to the public. No ticketing.
URL:https://www.midsummersmusic.com/event/griffon-string-quartet-outreach-5/
LOCATION:Brown Co. Library\, 515 Pine St.\, Green Bay\, WI\, 54301\, United States
CATEGORIES:Einstein Series,Griffon String Quartet
END:VEVENT
BEGIN:VEVENT
DTSTART;TZID=America/Chicago:20230317T073000
DTEND;TZID=America/Chicago:20230317T213000
DTSTAMP:20260423T230635
CREATED:20230223T180257Z
LAST-MODIFIED:20251229T192658Z
UID:9935-1679038200-1679088600@www.midsummersmusic.com
SUMMARY:Griffon String Quartet • Preble High School
DESCRIPTION:The Griffon String Quartet presents an Einstein Series program for students at Preble High School in Green Bay.
URL:https://www.midsummersmusic.com/event/griffon-string-quartet-preble/
CATEGORIES:Einstein Series,Griffon String Quartet
END:VEVENT
BEGIN:VEVENT
DTSTART;TZID=America/Chicago:20230107T093000
DTEND;TZID=America/Chicago:20230107T120000
DTSTAMP:20260423T230635
CREATED:20221208T151027Z
LAST-MODIFIED:20251229T195400Z
UID:9669-1673083800-1673092800@www.midsummersmusic.com
SUMMARY:Griffon Winter Retreat
DESCRIPTION:9:30am–12:00pm • Shepherd of the Bay            Open to the public\n11836 WI-42\, Ellison Bay\nExperience:\n9:30–10:30am Performance classes for students\n11:00am-12:00pm Student performances\nBoth events are open to\nthe public.\nPianist Sara Bong accompanies the performers. \nWould you like to participate in or attend these free events? Call us at 920-854-7088.\nAre you interested in learning a string instrument? Visit midsummersmusic.com/strings-lessons for information.
URL:https://www.midsummersmusic.com/event/griffon-winter-retreat-2/
LOCATION:Shepherd of the Bay Lutheran Church\, 11836 WI-42\, Ellison Bay\, WI\, 54210
CATEGORIES:Einstein Series,Griffon String Quartet
END:VEVENT
BEGIN:VEVENT
DTSTART;TZID=America/Chicago:20230106T093000
DTEND;TZID=America/Chicago:20230106T190000
DTSTAMP:20260423T230635
CREATED:20221208T150802Z
LAST-MODIFIED:20251229T195405Z
UID:9667-1672997400-1673031600@www.midsummersmusic.com
SUMMARY:Griffon Winter Retreat
DESCRIPTION:9:45–11:45am • Gibraltar School            (Not open to the public)\n3924 WI-42\, Fish Creek\nExperience:\nThe first hour is a concert by Suzuki Strings of Madison for 3rd–6th grades (140+ students).\nThe second hour is a workshop for the 5th grade\n(33 students).\nPerformances by Roy Meyer\, Griffon violinist\, and solo Suzuki Strings of Madison students.\nAn instrument petting zoo will be offered. \n4:00–7:00pm • Shepherd of the Bay            Open to the public\n11836 WI-42\, Ellison Bay\nExperience:\nThere will be music games and a play-in for all strings students and community members\n*The students will be provided a pizza dinner. We ask that students RSVP in advance. \nWould you like to participate in or attend these free events? Call us at 920-854-7088.\nAre you interested in learning a string instrument? Visit midsummersmusic.com/strings-lessons for information.
URL:https://www.midsummersmusic.com/event/griffon-winter-retreat/
CATEGORIES:Einstein Series,Griffon String Quartet
END:VEVENT
BEGIN:VEVENT
DTSTART;TZID=America/Chicago:20221112T133000
DTEND;TZID=America/Chicago:20221112T143000
DTSTAMP:20260423T230635
CREATED:20221012T112227Z
LAST-MODIFIED:20251229T195539Z
UID:9529-1668259800-1668263400@www.midsummersmusic.com
SUMMARY:Children's Concert • Green Bay
DESCRIPTION:The Griffon String Quartet presents a children’s concert based on the book Because\, which explores the ideas behind what inspires kids to learn music and audiences to attend concerts. \n“Mo Willems\, a number-one New York Times best-selling author and illustrator\, composes a powerful symphony of chance\, discovery\, persistence\, and magic in this moving tale of a young girl’s journey to center stage.” \nThis is not a ticketed event.
URL:https://www.midsummersmusic.com/event/childrens-concert-green/
LOCATION:Brown Co. Library\, 515 Pine St.\, Green Bay\, WI\, 54301\, United States
CATEGORIES:Einstein Series,Griffon String Quartet
END:VEVENT
BEGIN:VEVENT
DTSTART;TZID=America/Chicago:20221112T110000
DTEND;TZID=America/Chicago:20221112T120000
DTSTAMP:20260423T230635
CREATED:20221021T130629Z
LAST-MODIFIED:20251229T195545Z
UID:9560-1668250800-1668254400@www.midsummersmusic.com
SUMMARY:Children's Concert • Sturgeon Bay
DESCRIPTION:The Griffon String Quartet presents a children’s concert based on the picture book Because\, which explores the ideas behind what inspires kids to learn music and audiences to attend concerts. \n“Mo Willems\, a number-one New York Times best-selling author and illustrator\, composes a powerful symphony of chance\, discovery\, persistence\, and magic in this moving tale of a young girl’s journey to center stage.” \nThis is not a ticketed event.
URL:https://www.midsummersmusic.com/event/childrens-concert-sturgeon/
LOCATION:Door County Library\, Sturgeon Bay\, 107 S 4th Ave.\, Sturgeon Bay\, WI\, 54235
CATEGORIES:Einstein Series,Griffon String Quartet
END:VEVENT
BEGIN:VEVENT
DTSTART;TZID=America/Chicago:20221111T133000
DTEND;TZID=America/Chicago:20221111T143000
DTSTAMP:20260423T230635
CREATED:20221106T120216Z
LAST-MODIFIED:20251229T195550Z
UID:9593-1668173400-1668177000@www.midsummersmusic.com
SUMMARY:Griffon String Quartet • Webster Elementary
DESCRIPTION:The Griffon String Quartet presents its Because program to students at Webster Elementary.
URL:https://www.midsummersmusic.com/event/griffon-string-quartet-webster/
CATEGORIES:Einstein Series,Griffon String Quartet
END:VEVENT
BEGIN:VEVENT
DTSTART;TZID=America/Chicago:20221006T100000
DTEND;TZID=America/Chicago:20221006T130000
DTSTAMP:20260423T230635
CREATED:20220929T112536Z
LAST-MODIFIED:20251229T192658Z
UID:9514-1665050400-1665061200@www.midsummersmusic.com
SUMMARY:Griffon String Quartet • Sawyer Elementary
DESCRIPTION:The Griffon String Quartet will visit Sawyer Elementary School in Sturgeon Bay to play for the children as part of the ensemble’s Einstein Series programming.
URL:https://www.midsummersmusic.com/event/griffon-string-quartet-sawyer/
CATEGORIES:Einstein Series,Griffon String Quartet
END:VEVENT
BEGIN:VEVENT
DTSTART;TZID=America/Chicago:20220316T130000
DTEND;TZID=America/Chicago:20220316T140000
DTSTAMP:20260423T230635
CREATED:20220307T142340Z
LAST-MODIFIED:20251229T200325Z
UID:8738-1647435600-1647439200@www.midsummersmusic.com
SUMMARY:Griffon String Quartet • Horizon High School\, Madison
DESCRIPTION:The Griffon String Quartet will be visit Horizon High School from 1-2 pm on March 16th. This is a small recovery school with about 15 students\, and they do not get many visitors or special events. This is a great opportunity for the quartet to demonstrate its skills and interactive school visits. \nHorizon High School provides students with an alcohol- and drug-free school environment\, supports students in recovery\, and offers support in mental health disorders. The school fosters emotional\, social\, and academic growth for youth who would benefit from a student-centered learning environment with a low student-to-teacher & counselor ratio of 5:1.
URL:https://www.midsummersmusic.com/event/griffon-string-quartet-horizon/
LOCATION:Horizon High School\, 659 N. Whitney Way\, #110\, Madison\, WI\, 53705\, United States
CATEGORIES:Einstein Series,Griffon String Quartet
END:VEVENT
BEGIN:VEVENT
DTSTART;TZID=America/Chicago:20220222T201500
DTEND;TZID=America/Chicago:20220222T210000
DTSTAMP:20260423T230635
CREATED:20220118T184125Z
LAST-MODIFIED:20251229T200302Z
UID:8647-1645560900-1645563600@www.midsummersmusic.com
SUMMARY:Griffon String Quartet • Gibraltar School
DESCRIPTION:The Griffon String Quartet presents an event with music appreciation/history topics and plays works by a contemporary composer and/or a woman/minority composer to assist with the school’s mission for diversity and inclusivity.
URL:https://www.midsummersmusic.com/event/griffon-string-quartet-gibraltar/
LOCATION:Gibraltar School\, 3924 WI-42\, Fish Creek\, Wisconsin\, 54212
CATEGORIES:Einstein Series,Griffon String Quartet
END:VEVENT
BEGIN:VEVENT
DTSTART;TZID=America/Chicago:20211216T190000
DTEND;TZID=America/Chicago:20211216T210000
DTSTAMP:20260423T230635
CREATED:20211210T164721Z
LAST-MODIFIED:20251229T200412Z
UID:8567-1639681200-1639688400@www.midsummersmusic.com
SUMMARY:Griffon String Quartet • Washington Middle School
DESCRIPTION:The Griffon String Quartet performs a concert at Washington Middle School in Green Bay. The event is a school concert that the Griffon is helping with for the Fine Arts Institute.
URL:https://www.midsummersmusic.com/event/griffon-string-quartet-washington-3/
LOCATION:Washington Middle School\, 314 S Baird St.\, Green Bay\, WI\, 54301\, United States
CATEGORIES:Einstein Series,Griffon String Quartet
END:VEVENT
BEGIN:VEVENT
DTSTART;TZID=America/Chicago:20211026T080000
DTEND;TZID=America/Chicago:20211026T090000
DTSTAMP:20260423T230635
CREATED:20211004T113639Z
LAST-MODIFIED:20251229T192658Z
UID:8333-1635235200-1635238800@www.midsummersmusic.com
SUMMARY:Griffon String Quartet • Watertown School
DESCRIPTION:The Griffon String Quartet’s Einstein Series program
URL:https://www.midsummersmusic.com/event/griffon-string-quartet-watertown/
CATEGORIES:Einstein Series,Griffon String Quartet
END:VEVENT
BEGIN:VEVENT
DTSTART;TZID=America/Chicago:20211006T090000
DTEND;TZID=America/Chicago:20211006T140000
DTSTAMP:20260423T230635
CREATED:20211005T094455Z
LAST-MODIFIED:20251229T192658Z
UID:8358-1633510800-1633528800@www.midsummersmusic.com
SUMMARY:Griffon String Quartet • Washington Middle School
DESCRIPTION:Griffon String Quartet visits Washington Middle School: Einstein Series program
URL:https://www.midsummersmusic.com/event/griffon-string-quartet-washington-2/
LOCATION:Washington Middle School\, 314 S Baird St.\, Green Bay\, WI\, 54301\, United States
CATEGORIES:Einstein Series,Griffon String Quartet
END:VEVENT
BEGIN:VEVENT
DTSTART;TZID=America/Chicago:20210929T120000
DTEND;TZID=America/Chicago:20210929T150000
DTSTAMP:20260423T230635
CREATED:20211005T094038Z
LAST-MODIFIED:20251229T192658Z
UID:8352-1632916800-1632927600@www.midsummersmusic.com
SUMMARY:Griffon String Quartet • Sunrise Elementary Visit
DESCRIPTION:Griffon String Quartet at Sunrise Elementary in Sturgeon Bay: Einstein Series program
URL:https://www.midsummersmusic.com/event/griffon-string-quartet-sunrise/
LOCATION:Sunrise Elementary School\, 1414 Rhode Island St.\, Sturgeon Bay\, WI\, 54235\, United States
CATEGORIES:Einstein Series,Griffon String Quartet
END:VEVENT
BEGIN:VEVENT
DTSTART;TZID=America/Chicago:20210928T160000
DTEND;TZID=America/Chicago:20210928T180000
DTSTAMP:20260423T230635
CREATED:20211005T093725Z
LAST-MODIFIED:20251229T192658Z
UID:8350-1632844800-1632852000@www.midsummersmusic.com
SUMMARY:Griffon String Quartet • Boys & Girls Club
DESCRIPTION:Meet-and-greet Einstein Series program
URL:https://www.midsummersmusic.com/event/griffon-string-quartet-boys/
LOCATION:Boys & Girls Club of Door County
CATEGORIES:Einstein Series,Griffon String Quartet
END:VEVENT
BEGIN:VEVENT
DTSTART;TZID=America/Chicago:20210922T090000
DTEND;TZID=America/Chicago:20210922T100000
DTSTAMP:20260423T230635
CREATED:20211005T094317Z
LAST-MODIFIED:20251229T192658Z
UID:8355-1632301200-1632304800@www.midsummersmusic.com
SUMMARY:Griffon String Quartet • Washington Middle School
DESCRIPTION:Griffon String Quartet visits Washington Middle School: Einstein Series program
URL:https://www.midsummersmusic.com/event/griffon-string-quartet-washington/
LOCATION:Washington Middle School\, 314 S Baird St.\, Green Bay\, WI\, 54301\, United States
CATEGORIES:Einstein Series,Griffon String Quartet
END:VEVENT
END:VCALENDAR