BEGIN:VCALENDAR
VERSION:2.0
PRODID:-//Midsummer&#039;s Music and its affiliate, the Griffon String Quartet - ECPv6.15.20//NONSGML v1.0//EN
CALSCALE:GREGORIAN
METHOD:PUBLISH
X-WR-CALNAME:Midsummer&#039;s Music and its affiliate, the Griffon String Quartet
X-ORIGINAL-URL:https://www.midsummersmusic.com
X-WR-CALDESC:Events for Midsummer&#039;s Music and its affiliate, the Griffon String Quartet
REFRESH-INTERVAL;VALUE=DURATION:PT1H
X-Robots-Tag:noindex
X-PUBLISHED-TTL:PT1H
BEGIN:VTIMEZONE
TZID:America/Chicago
BEGIN:DAYLIGHT
TZOFFSETFROM:-0600
TZOFFSETTO:-0500
TZNAME:CDT
DTSTART:20250309T080000
END:DAYLIGHT
BEGIN:STANDARD
TZOFFSETFROM:-0500
TZOFFSETTO:-0600
TZNAME:CST
DTSTART:20251102T070000
END:STANDARD
BEGIN:DAYLIGHT
TZOFFSETFROM:-0600
TZOFFSETTO:-0500
TZNAME:CDT
DTSTART:20260308T080000
END:DAYLIGHT
BEGIN:STANDARD
TZOFFSETFROM:-0500
TZOFFSETTO:-0600
TZNAME:CST
DTSTART:20261101T070000
END:STANDARD
BEGIN:DAYLIGHT
TZOFFSETFROM:-0600
TZOFFSETTO:-0500
TZNAME:CDT
DTSTART:20270314T080000
END:DAYLIGHT
BEGIN:STANDARD
TZOFFSETFROM:-0500
TZOFFSETTO:-0600
TZNAME:CST
DTSTART:20271107T070000
END:STANDARD
END:VTIMEZONE
BEGIN:VEVENT
DTSTART;TZID=America/Chicago:20260425T100000
DTEND;TZID=America/Chicago:20260425T130000
DTSTAMP:20260423T160729
CREATED:20260409T153904Z
LAST-MODIFIED:20260409T153904Z
UID:14782-1777111200-1777122000@www.midsummersmusic.com
SUMMARY:YMCA Healthy Kids Day
DESCRIPTION:Families across Door County are invited to celebrate healthy living and active lifestyles during YMCA Healthy Kids Day 2026\, a free\, nationwide\, annual event set for Saturday\, April 25th. Join the Griffon String Quartet and their students for an interactive petting zoo.
URL:https://www.midsummersmusic.com/event/ymca-healthy-kids-day/
LOCATION:YMCA Sturgeon Bay\, 1900 Michigan St\,\, Sturgeon Bay\, WI\, 54234
CATEGORIES:Einstein Series,Griffon String Quartet
ATTACH;FMTTYPE=image/png:https://www.midsummersmusic.com/wp-content/uploads/2024/10/einstein-calendar-featured-image-scaled.png
END:VEVENT
BEGIN:VEVENT
DTSTART;TZID=America/Chicago:20260510T140000
DTEND;TZID=America/Chicago:20260510T160000
DTSTAMP:20260423T160729
CREATED:20260318T151519Z
LAST-MODIFIED:20260324T153000Z
UID:14641-1778421600-1778428800@www.midsummersmusic.com
SUMMARY:Griffon String Quartet Student Recital • Sturgeon Bay
DESCRIPTION:The Griffon String Quartet’s string students perform their annual recital.\nThe recital is open to the public.
URL:https://www.midsummersmusic.com/event/2026-griffon-string-quartet-student-recital-sturgeon-bay/
LOCATION:MUSE Sturgeon Bay\, 330 Jefferson St.\, Sturgeon Bay\, WI\, 54235
CATEGORIES:Einstein Series,Griffon String Quartet
ATTACH;FMTTYPE=image/jpeg:https://www.midsummersmusic.com/wp-content/uploads/2026/02/2024-griffon-logo-scaled.jpg
END:VEVENT
END:VCALENDAR