BEGIN:VCALENDAR
VERSION:2.0
PRODID:-//Midsummer&#039;s Music and its affiliate, the Griffon String Quartet - ECPv6.15.20//NONSGML v1.0//EN
CALSCALE:GREGORIAN
METHOD:PUBLISH
X-WR-CALNAME:Midsummer&#039;s Music and its affiliate, the Griffon String Quartet
X-ORIGINAL-URL:https://www.midsummersmusic.com
X-WR-CALDESC:Events for Midsummer&#039;s Music and its affiliate, the Griffon String Quartet
REFRESH-INTERVAL;VALUE=DURATION:PT1H
X-Robots-Tag:noindex
X-PUBLISHED-TTL:PT1H
BEGIN:VTIMEZONE
TZID:America/Chicago
BEGIN:DAYLIGHT
TZOFFSETFROM:-0600
TZOFFSETTO:-0500
TZNAME:CDT
DTSTART:20250309T080000
END:DAYLIGHT
BEGIN:STANDARD
TZOFFSETFROM:-0500
TZOFFSETTO:-0600
TZNAME:CST
DTSTART:20251102T070000
END:STANDARD
BEGIN:DAYLIGHT
TZOFFSETFROM:-0600
TZOFFSETTO:-0500
TZNAME:CDT
DTSTART:20260308T080000
END:DAYLIGHT
BEGIN:STANDARD
TZOFFSETFROM:-0500
TZOFFSETTO:-0600
TZNAME:CST
DTSTART:20261101T070000
END:STANDARD
BEGIN:DAYLIGHT
TZOFFSETFROM:-0600
TZOFFSETTO:-0500
TZNAME:CDT
DTSTART:20270314T080000
END:DAYLIGHT
BEGIN:STANDARD
TZOFFSETFROM:-0500
TZOFFSETTO:-0600
TZNAME:CST
DTSTART:20271107T070000
END:STANDARD
END:VTIMEZONE
BEGIN:VEVENT
DTSTART;TZID=America/Chicago:20260321T150000
DTEND;TZID=America/Chicago:20260321T160000
DTSTAMP:20260423T193836
CREATED:20260204T115159Z
LAST-MODIFIED:20260210T175507Z
UID:14525-1774105200-1774108800@www.midsummersmusic.com
SUMMARY:Strings and Stories • Sturgeon Bay
DESCRIPTION:Music Comes to Life—One Story at a Time! \nBring the whole family for a magical musical adventure with the Griffon String Quartet! This special\, family-centered program weaves live chamber music together with beloved storybooks\, transforming the page into sound and imagination. As the story unfolds\, the quartet’s music brings characters\, moods\, and moments vividly to life—inviting kids to listen\, laugh\, and wonder\, while grown-ups rediscover the joy of storytelling through music. \nPerfect for curious young listeners and the adults who love them\, this interactive\, engaging concert is designed to spark creativity\, encourage listening\, and make classical music feel fun\, friendly\, and unforgettable. \nA story you can hear. Music you can feel. An experience your family will share. \nThis is not a ticketed event.
URL:https://www.midsummersmusic.com/event/strings-and-stories/
LOCATION:Door County Library\, Sturgeon Bay\, 107 S 4th Ave.\, Sturgeon Bay\, WI\, 54235
CATEGORIES:Einstein Series,Griffon String Quartet
ATTACH;FMTTYPE=image/png:https://www.midsummersmusic.com/wp-content/uploads/2024/10/einstein-calendar-featured-image-scaled.png
ORGANIZER;CN="Midsummer's Music":MAILTO:office@midsummersmusic.com
END:VEVENT
BEGIN:VEVENT
DTSTART;TZID=America/Chicago:20260326T160000
DTEND;TZID=America/Chicago:20260326T170000
DTSTAMP:20260423T193836
CREATED:20260210T175357Z
LAST-MODIFIED:20260210T175444Z
UID:14544-1774540800-1774544400@www.midsummersmusic.com
SUMMARY:Strings and Stories • Juddville
DESCRIPTION:Music Comes to Life—One Story at a Time! \nBring the whole family for a magical musical adventure with the Griffon String Quartet! This special\, family-centered program weaves live chamber music together with beloved storybooks\, transforming the page into sound and imagination. As the story unfolds\, the quartet’s music brings characters\, moods\, and moments vividly to life—inviting kids to listen\, laugh\, and wonder\, while grown-ups rediscover the joy of storytelling through music. \nPerfect for curious young listeners and the adults who love them\, this interactive\, engaging concert is designed to spark creativity\, encourage listening\, and make classical music feel fun\, friendly\, and unforgettable. \nA story you can hear. Music you can feel. An experience your family will share. \nThis is not a ticketed event.
URL:https://www.midsummersmusic.com/event/strings-and-stories-juddville/
LOCATION:Write On\, Door County\, 4210 Juddville Rd.\, Fish Creek\, WI\, 54212
CATEGORIES:Einstein Series,Griffon String Quartet
ATTACH;FMTTYPE=image/png:https://www.midsummersmusic.com/wp-content/uploads/2024/10/einstein-calendar-featured-image-scaled.png
ORGANIZER;CN="Midsummer's Music":MAILTO:office@midsummersmusic.com
END:VEVENT
BEGIN:VEVENT
DTSTART;TZID=America/Chicago:20260327T163000
DTEND;TZID=America/Chicago:20260327T173000
DTSTAMP:20260423T193836
CREATED:20260302T173610Z
LAST-MODIFIED:20260302T173610Z
UID:14607-1774629000-1774632600@www.midsummersmusic.com
SUMMARY:Strings and Stories • Green Bay
DESCRIPTION:Music Comes to Life—One Story at a Time! \nBring the whole family for a magical musical adventure with the Griffon String Quartet! This special\, family-centered program weaves live chamber music together with beloved storybooks\, transforming the page into sound and imagination. As the story unfolds\, the quartet’s music brings characters\, moods\, and moments vividly to life—inviting kids to listen\, laugh\, and wonder\, while grown-ups rediscover the joy of storytelling through music. \nPerfect for curious young listeners and the adults who love them\, this interactive\, engaging concert is designed to spark creativity\, encourage listening\, and make classical music feel fun\, friendly\, and unforgettable. \nA story you can hear. Music you can feel. An experience your family will share. \nThis is not a ticketed event.
URL:https://www.midsummersmusic.com/event/strings-and-stories-green-bay/
LOCATION:The Children’s Museum of Green Bay\, 1230 Bay Beach Road\, Green Bay\, WI\, 54302
CATEGORIES:Einstein Series,Griffon String Quartet
ATTACH;FMTTYPE=image/png:https://www.midsummersmusic.com/wp-content/uploads/2024/10/einstein-calendar-featured-image-scaled.png
END:VEVENT
END:VCALENDAR