BEGIN:VCALENDAR
VERSION:2.0
PRODID:-//Midsummer&#039;s Music and its affiliate, the Griffon String Quartet - ECPv6.15.20//NONSGML v1.0//EN
CALSCALE:GREGORIAN
METHOD:PUBLISH
X-WR-CALNAME:Midsummer&#039;s Music and its affiliate, the Griffon String Quartet
X-ORIGINAL-URL:https://www.midsummersmusic.com
X-WR-CALDESC:Events for Midsummer&#039;s Music and its affiliate, the Griffon String Quartet
REFRESH-INTERVAL;VALUE=DURATION:PT1H
X-Robots-Tag:noindex
X-PUBLISHED-TTL:PT1H
BEGIN:VTIMEZONE
TZID:America/Chicago
BEGIN:DAYLIGHT
TZOFFSETFROM:-0600
TZOFFSETTO:-0500
TZNAME:CDT
DTSTART:20250309T080000
END:DAYLIGHT
BEGIN:STANDARD
TZOFFSETFROM:-0500
TZOFFSETTO:-0600
TZNAME:CST
DTSTART:20251102T070000
END:STANDARD
BEGIN:DAYLIGHT
TZOFFSETFROM:-0600
TZOFFSETTO:-0500
TZNAME:CDT
DTSTART:20260308T080000
END:DAYLIGHT
BEGIN:STANDARD
TZOFFSETFROM:-0500
TZOFFSETTO:-0600
TZNAME:CST
DTSTART:20261101T070000
END:STANDARD
BEGIN:DAYLIGHT
TZOFFSETFROM:-0600
TZOFFSETTO:-0500
TZNAME:CDT
DTSTART:20270314T080000
END:DAYLIGHT
BEGIN:STANDARD
TZOFFSETFROM:-0500
TZOFFSETTO:-0600
TZNAME:CST
DTSTART:20271107T070000
END:STANDARD
END:VTIMEZONE
BEGIN:VEVENT
DTSTART;TZID=America/Chicago:20260226T080000
DTEND;TZID=America/Chicago:20260226T103000
DTSTAMP:20260423T213916
CREATED:20260115T161251Z
LAST-MODIFIED:20260115T161251Z
UID:14464-1772092800-1772101800@www.midsummersmusic.com
SUMMARY:Griffon String Quartet Youth Outreach • Sturgeon Bay
DESCRIPTION:Get ready for an exciting musical adventure! The Griffon String Quartet is coming to the Arts and Music Showcase at Sunrise Elementary School in Sturgeon Bay\, bringing classical music to life for young learners. Through engaging performances and interactive demonstrations\, students will discover how classical music works—and why it still matters today. \nThe highlight for many will be the Instrument Petting Zoo\, where students can touch\, hold\, and explore violins\, violas\, and cellos\, getting hands-on experience with the very instruments they hear on stage. This fun\, educational event is designed to spark curiosity\, creativity\, and a lifelong love of music.
URL:https://www.midsummersmusic.com/event/griffon-string-quartet-youth-outreach-sturgeon-bay/
LOCATION:Sunrise Elementary School\, 1414 Rhode Island St.\, Sturgeon Bay\, WI\, 54235\, United States
CATEGORIES:Einstein Series,Griffon String Quartet
ATTACH;FMTTYPE=image/png:https://www.midsummersmusic.com/wp-content/uploads/2024/10/einstein-calendar-featured-image-scaled.png
END:VEVENT
END:VCALENDAR