BEGIN:VCALENDAR
VERSION:2.0
PRODID:-//Midsummer&#039;s Music and its affiliate, the Griffon String Quartet - ECPv6.15.20//NONSGML v1.0//EN
CALSCALE:GREGORIAN
METHOD:PUBLISH
X-ORIGINAL-URL:https://www.midsummersmusic.com
X-WR-CALDESC:Events for Midsummer&#039;s Music and its affiliate, the Griffon String Quartet
REFRESH-INTERVAL;VALUE=DURATION:PT1H
X-Robots-Tag:noindex
X-PUBLISHED-TTL:PT1H
BEGIN:VTIMEZONE
TZID:America/Chicago
BEGIN:DAYLIGHT
TZOFFSETFROM:-0600
TZOFFSETTO:-0500
TZNAME:CDT
DTSTART:20250309T080000
END:DAYLIGHT
BEGIN:STANDARD
TZOFFSETFROM:-0500
TZOFFSETTO:-0600
TZNAME:CST
DTSTART:20251102T070000
END:STANDARD
BEGIN:DAYLIGHT
TZOFFSETFROM:-0600
TZOFFSETTO:-0500
TZNAME:CDT
DTSTART:20260308T080000
END:DAYLIGHT
BEGIN:STANDARD
TZOFFSETFROM:-0500
TZOFFSETTO:-0600
TZNAME:CST
DTSTART:20261101T070000
END:STANDARD
BEGIN:DAYLIGHT
TZOFFSETFROM:-0600
TZOFFSETTO:-0500
TZNAME:CDT
DTSTART:20270314T080000
END:DAYLIGHT
BEGIN:STANDARD
TZOFFSETFROM:-0500
TZOFFSETTO:-0600
TZNAME:CST
DTSTART:20271107T070000
END:STANDARD
END:VTIMEZONE
BEGIN:VEVENT
DTSTART;TZID=America/Chicago:20260116T163000
DTEND;TZID=America/Chicago:20260116T200000
DTSTAMP:20260423T231330
CREATED:20251229T190350Z
LAST-MODIFIED:20260107T160511Z
UID:14325-1768581000-1768593600@www.midsummersmusic.com
SUMMARY:Griffon String Quartet Student Retreat • Sturgeon Bay
DESCRIPTION:Griffon String Quartet Student Retreat – 2026\nFriday\, January 16 4:30-8:00 pm & Saturday January 17 11:30 AM-6:00 pm \nThis two-day retreat designed especially for school-age string players offers a fantastic opportunity to refine skills\, connect with fellow musicians\, and share in the joy of making music together. Get ready for an exciting weekend filled with learning\, creativity\, and fun! \nThroughout the retreat\, participants will: \n\nRehearse and perform in small chamber groups\nStrengthen their playing through guided coachings and interactive workshops\nLearn from the professional musicians of the Griffon String Quartet\nEnjoy team-building games and musical activities\nCelebrate together with a pizza party and ice cream social\nShare their accomplishments in a final recital for family and friends\n\nMake music\, friends\, and memories! \n\nCost\n$40 per student (includes all instruction\, pizza party\, snacks\, ice cream social\, activities\, and a commemorative T-shirt) \n\nLocation\nPrince of Peace Church\n1756 Michigan Street\nSturgeon Bay\, WI 54235 \nRegister \nPlease register by January 10\, 2026.
URL:https://www.midsummersmusic.com/event/griffon-string-quartet-student-retreat-sturgeon-bay/
LOCATION:Prince of Peace Church\, 1756 Michigan St\, Sturgeon Bay\, WI\, 54235\, United States
CATEGORIES:Einstein Series,Griffon String Quartet
ATTACH;FMTTYPE=image/jpeg:https://www.midsummersmusic.com/wp-content/uploads/2025/03/2024-griffon-logo-scaled.jpg
END:VEVENT
BEGIN:VEVENT
DTSTART;TZID=America/Chicago:20260117T113000
DTEND;TZID=America/Chicago:20260117T180000
DTSTAMP:20260423T231330
CREATED:20251229T190357Z
LAST-MODIFIED:20260107T160535Z
UID:14326-1768649400-1768672800@www.midsummersmusic.com
SUMMARY:Griffon String Quartet Student Retreat • Sturgeon Bay
DESCRIPTION:Griffon String Quartet Student Retreat – 2026\nFriday\, January 16 4:30-8:00 pm & Saturday January 17 11:30 AM-6:00 pm \nThis two-day retreat designed especially for school-age string players offers a fantastic opportunity to refine skills\, connect with fellow musicians\, and share in the joy of making music together. Get ready for an exciting weekend filled with learning\, creativity\, and fun! \nThroughout the retreat\, participants will: \n\nRehearse and perform in small chamber groups\nStrengthen their playing through guided coachings and interactive workshops\nLearn from the professional musicians of the Griffon String Quartet\nEnjoy team-building games and musical activities\nCelebrate together with a pizza party and ice cream social\nShare their accomplishments in a final recital for family and friends\n\nMake music\, friends\, and memories! \n\nCost\n$40 per student (includes all instruction\, pizza party\, snacks\, ice cream social\, activities\, and a commemorative T-shirt) \n\nLocation\nPrince of Peace Church\n1756 Michigan Street\nSturgeon Bay\, WI 54235 \nRegister \nPlease register by January 10\, 2026.
URL:https://www.midsummersmusic.com/event/griffon-string-quartet-student-retreat-sturgeon-bay-2/
LOCATION:Prince of Peace Church\, 1756 Michigan St\, Sturgeon Bay\, WI\, 54235\, United States
CATEGORIES:Einstein Series,Griffon String Quartet
ATTACH;FMTTYPE=image/jpeg:https://www.midsummersmusic.com/wp-content/uploads/2025/03/2024-griffon-logo-scaled.jpg
END:VEVENT
END:VCALENDAR