BEGIN:VCALENDAR
VERSION:2.0
PRODID:-//Midsummer&#039;s Music and its affiliate, the Griffon String Quartet - ECPv6.15.20//NONSGML v1.0//EN
CALSCALE:GREGORIAN
METHOD:PUBLISH
X-WR-CALNAME:Midsummer&#039;s Music and its affiliate, the Griffon String Quartet
X-ORIGINAL-URL:https://www.midsummersmusic.com
X-WR-CALDESC:Events for Midsummer&#039;s Music and its affiliate, the Griffon String Quartet
REFRESH-INTERVAL;VALUE=DURATION:PT1H
X-Robots-Tag:noindex
X-PUBLISHED-TTL:PT1H
BEGIN:VTIMEZONE
TZID:America/Chicago
BEGIN:DAYLIGHT
TZOFFSETFROM:-0600
TZOFFSETTO:-0500
TZNAME:CDT
DTSTART:20240310T080000
END:DAYLIGHT
BEGIN:STANDARD
TZOFFSETFROM:-0500
TZOFFSETTO:-0600
TZNAME:CST
DTSTART:20241103T070000
END:STANDARD
BEGIN:DAYLIGHT
TZOFFSETFROM:-0600
TZOFFSETTO:-0500
TZNAME:CDT
DTSTART:20250309T080000
END:DAYLIGHT
BEGIN:STANDARD
TZOFFSETFROM:-0500
TZOFFSETTO:-0600
TZNAME:CST
DTSTART:20251102T070000
END:STANDARD
BEGIN:DAYLIGHT
TZOFFSETFROM:-0600
TZOFFSETTO:-0500
TZNAME:CDT
DTSTART:20260308T080000
END:DAYLIGHT
BEGIN:STANDARD
TZOFFSETFROM:-0500
TZOFFSETTO:-0600
TZNAME:CST
DTSTART:20261101T070000
END:STANDARD
END:VTIMEZONE
BEGIN:VEVENT
DTSTART;TZID=America/Chicago:20250925T131500
DTEND;TZID=America/Chicago:20250925T140000
DTSTAMP:20260424T054717
CREATED:20250912T150216Z
LAST-MODIFIED:20251229T191553Z
UID:13876-1758806100-1758808800@www.midsummersmusic.com
SUMMARY:Griffon String Quartet • Washington Middle School
DESCRIPTION:Students will experience the magic of live chamber music as the renowned Griffon String Quartet and Pro Arte Quartet cellist Parry Karp visit Washington Middle School in Green Bay for a special event! This inspiring performance is exclusively for the school’s string students\, offering them a unique opportunity to hear world-class musicians up close. After the concert\, students will meet the quartet members\, ask questions\, and gain insights into the life of professional performers—an unforgettable encounter designed to ignite musical passion and curiosity.
URL:https://www.midsummersmusic.com/event/griffon-string-quartet-washington-middle-school/
LOCATION:Washington Middle School\, 314 S Baird St.\, Green Bay\, WI\, 54301\, United States
CATEGORIES:Einstein Series,Griffon String Quartet
ATTACH;FMTTYPE=image/png:https://www.midsummersmusic.com/wp-content/uploads/2024/10/einstein-calendar-featured-image-scaled.png
END:VEVENT
END:VCALENDAR