BEGIN:VCALENDAR
VERSION:2.0
PRODID:-//Midsummer&#039;s Music and its affiliate, the Griffon String Quartet - ECPv6.15.20//NONSGML v1.0//EN
CALSCALE:GREGORIAN
METHOD:PUBLISH
X-ORIGINAL-URL:https://www.midsummersmusic.com
X-WR-CALDESC:Events for Midsummer&#039;s Music and its affiliate, the Griffon String Quartet
REFRESH-INTERVAL;VALUE=DURATION:PT1H
X-Robots-Tag:noindex
X-PUBLISHED-TTL:PT1H
BEGIN:VTIMEZONE
TZID:America/Chicago
BEGIN:DAYLIGHT
TZOFFSETFROM:-0600
TZOFFSETTO:-0500
TZNAME:CDT
DTSTART:20170312T080000
END:DAYLIGHT
BEGIN:STANDARD
TZOFFSETFROM:-0500
TZOFFSETTO:-0600
TZNAME:CST
DTSTART:20171105T070000
END:STANDARD
BEGIN:DAYLIGHT
TZOFFSETFROM:-0600
TZOFFSETTO:-0500
TZNAME:CDT
DTSTART:20180311T080000
END:DAYLIGHT
BEGIN:STANDARD
TZOFFSETFROM:-0500
TZOFFSETTO:-0600
TZNAME:CST
DTSTART:20181104T070000
END:STANDARD
BEGIN:DAYLIGHT
TZOFFSETFROM:-0600
TZOFFSETTO:-0500
TZNAME:CDT
DTSTART:20190310T080000
END:DAYLIGHT
BEGIN:STANDARD
TZOFFSETFROM:-0500
TZOFFSETTO:-0600
TZNAME:CST
DTSTART:20191103T070000
END:STANDARD
BEGIN:DAYLIGHT
TZOFFSETFROM:-0600
TZOFFSETTO:-0500
TZNAME:CDT
DTSTART:20200308T080000
END:DAYLIGHT
BEGIN:STANDARD
TZOFFSETFROM:-0500
TZOFFSETTO:-0600
TZNAME:CST
DTSTART:20201101T070000
END:STANDARD
BEGIN:DAYLIGHT
TZOFFSETFROM:-0600
TZOFFSETTO:-0500
TZNAME:CDT
DTSTART:20210314T080000
END:DAYLIGHT
BEGIN:STANDARD
TZOFFSETFROM:-0500
TZOFFSETTO:-0600
TZNAME:CST
DTSTART:20211107T070000
END:STANDARD
END:VTIMEZONE
BEGIN:VEVENT
DTSTART;TZID=America/Chicago:20200314T190000
DTEND;TZID=America/Chicago:20200314T210000
DTSTAMP:20260424T090913
CREATED:20191007T104543Z
LAST-MODIFIED:20251229T201410Z
UID:5079-1584212400-1584219600@www.midsummersmusic.com
SUMMARY:The Griffon String Quartet in Concert
DESCRIPTION:First Presbyterian Church\, Green Bay\nConcert – March 14\, 7:00\nWorks by Montgomery\, Hindemith\, and Schumann \nDonations accepted
URL:https://www.midsummersmusic.com/event/griffon-string-quartet-concert-6/
LOCATION:First Presbyterian Church of Green Bay\, 200 S Ashland Ave.\, Green Bay\, WI\, 54303\, United States
CATEGORIES:Community-Embedded,Griffon String Quartet
END:VEVENT
BEGIN:VEVENT
DTSTART;TZID=America/Chicago:20200313T193000
DTEND;TZID=America/Chicago:20200313T213000
DTSTAMP:20260424T090913
CREATED:20191007T104418Z
LAST-MODIFIED:20251229T201410Z
UID:5077-1584127800-1584135000@www.midsummersmusic.com
SUMMARY:The Griffon String Quartet in Concert
DESCRIPTION:St. Norbert College\nConcert – March 13\, 7:30\nWorks by Montgomery\, Hindemith\, and Schumann \nTickets available from St. Norbert College – $12\nhttps://www.snc.edu/tickets/
URL:https://www.midsummersmusic.com/event/griffon-string-quartet-concert-5/
LOCATION:St. Norbert College\, 315 Third St.\, De Pere\, WI\, 54115
CATEGORIES:Community-Embedded,Griffon String Quartet
END:VEVENT
BEGIN:VEVENT
DTSTART;TZID=America/Chicago:20191215T150000
DTEND;TZID=America/Chicago:20191215T170000
DTSTAMP:20260424T090915
CREATED:20191006T120248Z
LAST-MODIFIED:20251229T201410Z
UID:5053-1576422000-1576429200@www.midsummersmusic.com
SUMMARY:Winter Concert - the Griffon String Quartet
DESCRIPTION:Quartet No. 7 in F Major – Beethoven\nQuartet No. 1 in E Minor\, “From My Life” – Smetana\nPlus a sing-along and a selection of holiday favorites \nDonations accepted at the door (suggested $10).
URL:https://www.midsummersmusic.com/event/winter-concert-griffon-string-2/
LOCATION:Donald and Carol Kress Pavilion\, 7845 Church St.\, Egg Harbor\, WI\, 54209
CATEGORIES:Community-Embedded,Griffon String Quartet
END:VEVENT
BEGIN:VEVENT
DTSTART;TZID=America/Chicago:20191214T190000
DTEND;TZID=America/Chicago:20191214T210000
DTSTAMP:20260424T090915
CREATED:20191006T120847Z
LAST-MODIFIED:20251229T201410Z
UID:5057-1576350000-1576357200@www.midsummersmusic.com
SUMMARY:The Griffon String Quartet in Concert
DESCRIPTION:December 14\, 7:00 \nQuartet No. 7 in F Major – Beethoven\nQuartet No. 1 in E Minor\, “From My Life” – Smetana\nPlus a sing-along and a selection of holiday favorites \nDonations accepted (suggested $30)
URL:https://www.midsummersmusic.com/event/griffon-string-quartet-concert-4/
LOCATION:First Presbyterian Church of Green Bay\, 200 S Ashland Ave.\, Green Bay\, WI\, 54303\, United States
CATEGORIES:Community-Embedded,Griffon String Quartet
END:VEVENT
BEGIN:VEVENT
DTSTART;TZID=America/Chicago:20191214T130000
DTEND;TZID=America/Chicago:20191214T140000
DTSTAMP:20260424T090915
CREATED:20191006T120529Z
LAST-MODIFIED:20251229T201410Z
UID:5055-1576328400-1576332000@www.midsummersmusic.com
SUMMARY:Library Live Presentation - Griffon String Quartet
DESCRIPTION:December 14\, 1:00 \nQuartet No. 7 in F Major – Beethoven\nQuartet No. 1 in E Minor\, “From My Life” – Smetana\nPlus a sing-along and a selection of holiday favorites \nPresented by the Door County/Sturgeon Bay Library
URL:https://www.midsummersmusic.com/event/library-live-presentation-griffon-2/
LOCATION:Miller Art Museum\, 107 S 4th Ave.\, Sturgeon Bay\, WI\, 54235
CATEGORIES:Community-Embedded,Griffon String Quartet
END:VEVENT
BEGIN:VEVENT
DTSTART;TZID=America/Chicago:20191213T170000
DTEND;TZID=America/Chicago:20191213T190000
DTSTAMP:20260424T090915
CREATED:20191006T120140Z
LAST-MODIFIED:20251229T201410Z
UID:5051-1576256400-1576263600@www.midsummersmusic.com
SUMMARY:Winter Concert - the Griffon String Quartet
DESCRIPTION:Quartet No. 7 in F Major – Beethoven\nQuartet No. 1 in E Minor\, “From My Life” – Smetana\nPlus a sing-along and a selection of holiday favorites \nDonations accepted at the door (suggested $10).
URL:https://www.midsummersmusic.com/event/winter-concert-griffon-string/
LOCATION:Hope United Church of Christ\, 141 S 12th Ave.\, Sturgeon Bay\, WI\, 54235\, United States
CATEGORIES:Community-Embedded,Griffon String Quartet
END:VEVENT
BEGIN:VEVENT
DTSTART;TZID=America/Chicago:20191012T190000
DTEND;TZID=America/Chicago:20191012T210000
DTSTAMP:20260424T090915
CREATED:20191006T114835Z
LAST-MODIFIED:20251229T201441Z
UID:5037-1570906800-1570914000@www.midsummersmusic.com
SUMMARY:The Griffon String Quartet in Concert
DESCRIPTION:October 12\, 7:00\nString Quartet No. 8 in C Minor\, Op. 110 – Dmitri Shostakovich\nString Quartet No. 14 in D Minor\, D.810\, “Death and the Maiden” – Franz Schubert\nDonations accepted (suggested $30)
URL:https://www.midsummersmusic.com/event/griffon-string-quartet-concert-3/
LOCATION:First Presbyterian Church of Green Bay\, 200 S Ashland Ave.\, Green Bay\, WI\, 54303\, United States
CATEGORIES:Community-Embedded,Griffon String Quartet
END:VEVENT
BEGIN:VEVENT
DTSTART;TZID=America/Chicago:20191012T130000
DTEND;TZID=America/Chicago:20191012T140000
DTSTAMP:20260424T090915
CREATED:20191006T114715Z
LAST-MODIFIED:20251229T201447Z
UID:5035-1570885200-1570888800@www.midsummersmusic.com
SUMMARY:Library Live Presentation - Griffon String Quartet
DESCRIPTION:October 12\, 1:00\nString Quartet No. 8 in C Minor\, Op. 110 – Dmitri Shostakovich\nString Quartet No. 14 in D Minor\, D.810\, “Death and the Maiden” – Franz Schubert\nPresented by the Door County/Sturgeon Bay Library
URL:https://www.midsummersmusic.com/event/library-live-presentation-griffon/
LOCATION:Miller Art Museum\, 107 S 4th Ave.\, Sturgeon Bay\, WI\, 54235
CATEGORIES:Community-Embedded,Griffon String Quartet
END:VEVENT
BEGIN:VEVENT
DTSTART;TZID=America/Chicago:20191011T193000
DTEND;TZID=America/Chicago:20191011T213000
DTSTAMP:20260424T090915
CREATED:20191006T114518Z
LAST-MODIFIED:20251229T201453Z
UID:5033-1570822200-1570829400@www.midsummersmusic.com
SUMMARY:The Griffon String Quartet in Concert
DESCRIPTION:October 11\, 7:30\nString Quartet No. 8 in C Minor\, Op. 110 – Dmitri Shostakovich\nString Quartet No. 14 in D Minor\, D.810\, “Death and the Maiden” – Franz Schubert\nTickets available from St. Norbert College – $12
URL:https://www.midsummersmusic.com/event/griffon-string-quartet-concert-2/
LOCATION:St. Norbert College\, 315 Third St.\, De Pere\, WI\, 54115
CATEGORIES:Community-Embedded,Griffon String Quartet
END:VEVENT
BEGIN:VEVENT
DTSTART;TZID=America/Chicago:20191010T190000
DTEND;TZID=America/Chicago:20191010T210000
DTSTAMP:20260424T090915
CREATED:20191006T114323Z
LAST-MODIFIED:20251229T201503Z
UID:5031-1570734000-1570741200@www.midsummersmusic.com
SUMMARY:The Griffon String Quartet in Concert
DESCRIPTION:October 10\, 7:00\, Sister Bay\nString Quartet No. 8 in C Minor\, Op. 110 – Dmitri Shostakovich\nString Quartet No. 14 in D Minor\, D.810\, “Death and the Maiden” – Franz Schubert\nTickets: $29 Adult\, $10 Student\, free 12 and younger\nCall 920-854-7088 to order your tickets today.
URL:https://www.midsummersmusic.com/event/griffon-string-quartet-concert/
LOCATION:St. Luke’s Episcopal Church\, 2336 Canterbury Ln\, Sister Bay\, WI\, 54234
CATEGORIES:Community-Embedded,Griffon String Quartet
END:VEVENT
BEGIN:VEVENT
DTSTART;TZID=America/Chicago:20190526T160000
DTEND;TZID=America/Chicago:20190526T180000
DTSTAMP:20260424T090915
CREATED:20190205T160858Z
LAST-MODIFIED:20251229T201633Z
UID:4308-1558886400-1558893600@www.midsummersmusic.com
SUMMARY:Woodwalk Gallery Open House Performance
DESCRIPTION:The Griffon String Quartet plays at Woodwalk Gallery’s 2019 open house. \nTickets will not be issued for this Woodwalk Gallery performance. Do not click on the Buy Tickets Online link or call the office for tickets.
URL:https://www.midsummersmusic.com/event/woodwalk-gallery-concert/
LOCATION:Woodwalk Gallery\, 6746 County Rd. G\, Egg Harbor\, WI\, 54209
CATEGORIES:Community-Embedded,Griffon String Quartet
END:VEVENT
BEGIN:VEVENT
DTSTART;TZID=America/Chicago:20190525T190000
DTEND;TZID=America/Chicago:20190525T210000
DTSTAMP:20260424T090915
CREATED:20190305T134929Z
LAST-MODIFIED:20251229T201955Z
UID:4440-1558810800-1558818000@www.midsummersmusic.com
SUMMARY:Griffon String Quartet
DESCRIPTION:Haydn String Quartet Op. 33\, No. 3\, “The Bird”\nPhilip Glass String Quartet No. 3\, “Mishima”\nBrahms String Quartet No. 2 in A Minor\, Op. 51\, No. 2 \n$29 Adult\, $10 Student\, free 12 & under \nA reception follows the concert.
URL:https://www.midsummersmusic.com/event/griffon-string-quartet/
LOCATION:Donald and Carol Kress Pavilion\, 7845 Church St.\, Egg Harbor\, WI\, 54209
CATEGORIES:Community-Embedded,Griffon String Quartet
END:VEVENT
BEGIN:VEVENT
DTSTART;TZID=America/Chicago:20190525T130000
DTEND;TZID=America/Chicago:20190525T150000
DTSTAMP:20260424T090915
CREATED:20190205T160751Z
LAST-MODIFIED:20251229T201951Z
UID:4305-1558789200-1558796400@www.midsummersmusic.com
SUMMARY:Sister Bay Pavilion Concert
DESCRIPTION:The Griffon String Quartet plays at the Sister Bay Pavilion on the shores of Green Bay. \nTickets will not be issued for this Sister Bay community concert. Do not click on the Buy Tickets Online link or call the office for tickets.
URL:https://www.midsummersmusic.com/event/sister-bay-pavilion-concert/
LOCATION:Sister Bay Pavilion
CATEGORIES:Community-Embedded,Griffon String Quartet
END:VEVENT
BEGIN:VEVENT
DTSTART;VALUE=DATE:20190428
DTEND;VALUE=DATE:20190429
DTSTAMP:20260424T090915
CREATED:20190205T160616Z
LAST-MODIFIED:20251229T201937Z
UID:4303-1556409600-1556495999@www.midsummersmusic.com
SUMMARY:Green Bay String Day
DESCRIPTION:The Griffon String Quartet plays and participates in String Day for Green Bay area public school students. \nRegistration: $25 – Click here to register. \nThis event is designed for student string players from the 6th to the 12th grades. Private\, public and home-school students are all welcome. There will be a concert at 4:30 for families of the participants to conclude the day. \nSchedule of Events:\n12:00 – Check-in and Orientation (Walter Auditorium)\n12:30 – Full Group Rehearsal (Walter Stage)\n1:30 – Digging Deeper Sessions (Various locations)\n2:15 – Performance by Griffon String Quartet (Walter Auditorium)\n3:00 – Small Group rehearsals (Various locations)\n3:30 – Digging Deeper Sessions and Instrument Workshop (Walter Stage\, Rm 122)\n4:00 – Full Group Final Rehearsal (Walter Stage)\n4:30 – Full Group Public Performance (Walter Stage)
URL:https://www.midsummersmusic.com/event/green-bay-string-day/
LOCATION:St. Norbert College\, 315 Third St.\, De Pere\, WI\, 54115
CATEGORIES:Community-Embedded,Griffon String Quartet
END:VEVENT
BEGIN:VEVENT
DTSTART;TZID=America/Chicago:20190413T110000
DTEND;TZID=America/Chicago:20190413T133000
DTSTAMP:20260424T090915
CREATED:20190404T160926Z
LAST-MODIFIED:20251229T201926Z
UID:4505-1555153200-1555162200@www.midsummersmusic.com
SUMMARY:Griffon String Quartet
DESCRIPTION:The Griffon String Quartet plays for the Brown County Civic Music Association\nDuring registration\, from 11:00 am to noon\, the Griffon String Quartet will perform for members of the Brown County Civic Music Association. \nWhere? In the Crystal Ballroom at the newly refurbished Hotel Northland in downtown Green Bay — 304 N Adams St. \nLunch is served at noon\, and the day’s program\, which includes another performance from the Griffon String Quartet\, runs from 12:45 pm to 1:30 pm. \nFree
URL:https://www.midsummersmusic.com/event/griffon-string-quartet-2/
LOCATION:Hotel Northland\, 304 N Adams St.\, Green Bay\, WI\, 54301\, United States
CATEGORIES:Community-Embedded,Griffon String Quartet
END:VEVENT
BEGIN:VEVENT
DTSTART;TZID=America/Chicago:20190315T190000
DTEND;TZID=America/Chicago:20190315T210000
DTSTAMP:20260424T090915
CREATED:20190205T161656Z
LAST-MODIFIED:20251229T201922Z
UID:4310-1552676400-1552683600@www.midsummersmusic.com
SUMMARY:Unitarian Universalist Fellowship Concert
DESCRIPTION:The Griffon String Quartet plays at the Unitarian Universalist Fellowship in Ephraim.
URL:https://www.midsummersmusic.com/event/unitarian-universalist-fellowship-2/
LOCATION:Unitarian Universalist Fellowship of Door County\, 10341 Water Street HWY 42\, Ephraim\, WI\, 54211
CATEGORIES:Community-Embedded,Griffon String Quartet
END:VEVENT
BEGIN:VEVENT
DTSTART;TZID=America/Chicago:20190309T193000
DTEND;TZID=America/Chicago:20190309T213000
DTSTAMP:20260424T090915
CREATED:20190205T155927Z
LAST-MODIFIED:20251229T201917Z
UID:4294-1552159800-1552167000@www.midsummersmusic.com
SUMMARY:St. Norbert College Concert
DESCRIPTION:The Griffon String Quartet plays at St. Norbert College in DePere. Call 920-854-7088 for details. \nDonations will be accepted at the door.
URL:https://www.midsummersmusic.com/event/st-norbert-college-concert/
LOCATION:St. Norbert College\, 315 Third St.\, De Pere\, WI\, 54115
CATEGORIES:Community-Embedded,Griffon String Quartet
END:VEVENT
BEGIN:VEVENT
DTSTART;TZID=America/Chicago:20190217T100000
DTEND;TZID=America/Chicago:20190217T110000
DTSTAMP:20260424T090915
CREATED:20190205T155156Z
LAST-MODIFIED:20251229T202036Z
UID:4282-1550397600-1550401200@www.midsummersmusic.com
SUMMARY:First Presbyterian Green Bay
DESCRIPTION:The Griffon String Quartet plays during the Sunday service.
URL:https://www.midsummersmusic.com/event/presbyterian-green-bay/
LOCATION:First Presbyterian Church of Green Bay\, 200 S Ashland Ave.\, Green Bay\, WI\, 54303\, United States
CATEGORIES:Community-Embedded,Griffon String Quartet
END:VEVENT
BEGIN:VEVENT
DTSTART;TZID=America/Chicago:20190210T140000
DTEND;TZID=America/Chicago:20190210T160000
DTSTAMP:20260424T090915
CREATED:20190205T154912Z
LAST-MODIFIED:20251229T201852Z
UID:4278-1549807200-1549814400@www.midsummersmusic.com
SUMMARY:Door County Reads
DESCRIPTION:The Griffon String Quartet performs for Door County Reads.
URL:https://www.midsummersmusic.com/event/door-county-reads/
LOCATION:Donald and Carol Kress Pavilion\, 7845 Church St.\, Egg Harbor\, WI\, 54209
CATEGORIES:Community-Embedded,Griffon String Quartet
END:VEVENT
BEGIN:VEVENT
DTSTART;TZID=America/Chicago:20190206T100000
DTEND;TZID=America/Chicago:20190206T110000
DTSTAMP:20260424T090915
CREATED:20181212T140851Z
LAST-MODIFIED:20251230T191343Z
UID:4221-1549447200-1549450800@www.midsummersmusic.com
SUMMARY:Wisdom Wednesday
DESCRIPTION:The Griffon String Quartet plays music for the benefit of people struggling with memory loss.
URL:https://www.midsummersmusic.com/event/wisdom-wednesday/
LOCATION:YMCA – Fish Creek\, 3866 Gibraltar Rd.\, Fish Creek\, WI\, 54212
CATEGORIES:Community-Embedded,Griffon String Quartet
END:VEVENT
BEGIN:VEVENT
DTSTART;TZID=America/Chicago:20181215T150000
DTEND;TZID=America/Chicago:20181215T170000
DTSTAMP:20260424T090915
CREATED:20181212T140011Z
LAST-MODIFIED:20251229T201836Z
UID:4219-1544886000-1544893200@www.midsummersmusic.com
SUMMARY:Holiday Community Concert December 15
DESCRIPTION:Midsummer’s Music presents two community holiday concerts featuring our resident string quartet. \nFriday\, December 14\, 6:00 pm\nHope United Church of Christ\, Sturgeon Bay \nSaturday\, December 15\, 3:00 pm\nKress Pavilion\, Egg Harbor \nString Quartet No. 20 in D\, K. 499\, “Hoffmeister” • Mozart\nString Quartet No. 3 in F Major\, Op. 73 • Shostakovich\nPlus a selection of holiday favorites \nThese concerts are free and open to the public.\nDonations accepted at the door. Suggested $10. \nSupported and sponsored by Door County Medical Center\, the Foxglove Inn\, Innovative Printing\, and OneTouchPoint.
URL:https://www.midsummersmusic.com/event/holiday-community-concert-12-15/
LOCATION:Donald and Carol Kress Pavilion\, 7845 Church St.\, Egg Harbor\, WI\, 54209
CATEGORIES:Community-Embedded,Griffon String Quartet
END:VEVENT
BEGIN:VEVENT
DTSTART;TZID=America/Chicago:20181214T180000
DTEND;TZID=America/Chicago:20181214T200000
DTSTAMP:20260424T090915
CREATED:20181212T135922Z
LAST-MODIFIED:20251229T201831Z
UID:4217-1544810400-1544817600@www.midsummersmusic.com
SUMMARY:Holiday Community Concert December 14
DESCRIPTION:Midsummer’s Music presents two community holiday concerts featuring our resident string quartet. \nFriday\, December 14\, 6:00 pm\nHope United Church of Christ\, Sturgeon Bay \nSaturday\, December 15\, 3:00 pm\nKress Pavilion\, Egg Harbor \nString Quartet No. 20 in D\, K. 499\, “Hoffmeister” • Mozart\nString Quartet No. 3 in F Major\, Op. 73 • Shostakovich\nPlus a selection of holiday favorites \nThese concerts are free and open to the public.\nDonations accepted at the door. Suggested $10. \nSupported and sponsored by Door County Medical Center\, the Foxglove Inn\, Innovative Printing\, and OneTouchPoint.
URL:https://www.midsummersmusic.com/event/holiday-community-concert-12-14/
LOCATION:Hope United Church of Christ\, 141 S 12th Ave.\, Sturgeon Bay\, WI\, 54235\, United States
CATEGORIES:Community-Embedded,Griffon String Quartet
END:VEVENT
BEGIN:VEVENT
DTSTART;TZID=America/Chicago:20181013T130000
DTEND;TZID=America/Chicago:20181013T150000
DTSTAMP:20260424T090915
CREATED:20180925T125232Z
LAST-MODIFIED:20251229T201827Z
UID:4167-1539435600-1539442800@www.midsummersmusic.com
SUMMARY:String Quartet Residency - Premiere Concert - Free
DESCRIPTION:String Quartet\, Op. 20 – Joseph Haydn\nBlueprint – Caroline Shaw\nString Quartet No. 2\, Op. 13 – Felix Mendelssohn \nSaturday\, October 13\, 1:00 pm\nMiller Art Museum\, Sturgeon Bay \nSponsored by George & Julie Fiedler and Nicolet Bank\nFree concert open to the public
URL:https://www.midsummersmusic.com/event/string-quartet-residency-premiere/
LOCATION:Miller Art Museum\, 107 S 4th Ave.\, Sturgeon Bay\, WI\, 54235
CATEGORIES:Community-Embedded,Griffon String Quartet
END:VEVENT
END:VCALENDAR