BEGIN:VCALENDAR
VERSION:2.0
PRODID:-//Midsummer&#039;s Music and its affiliate, the Griffon String Quartet - ECPv6.15.20//NONSGML v1.0//EN
CALSCALE:GREGORIAN
METHOD:PUBLISH
X-ORIGINAL-URL:https://www.midsummersmusic.com
X-WR-CALDESC:Events for Midsummer&#039;s Music and its affiliate, the Griffon String Quartet
REFRESH-INTERVAL;VALUE=DURATION:PT1H
X-Robots-Tag:noindex
X-PUBLISHED-TTL:PT1H
BEGIN:VTIMEZONE
TZID:America/Chicago
BEGIN:DAYLIGHT
TZOFFSETFROM:-0600
TZOFFSETTO:-0500
TZNAME:CDT
DTSTART:20180311T080000
END:DAYLIGHT
BEGIN:STANDARD
TZOFFSETFROM:-0500
TZOFFSETTO:-0600
TZNAME:CST
DTSTART:20181104T070000
END:STANDARD
BEGIN:DAYLIGHT
TZOFFSETFROM:-0600
TZOFFSETTO:-0500
TZNAME:CDT
DTSTART:20190310T080000
END:DAYLIGHT
BEGIN:STANDARD
TZOFFSETFROM:-0500
TZOFFSETTO:-0600
TZNAME:CST
DTSTART:20191103T070000
END:STANDARD
BEGIN:DAYLIGHT
TZOFFSETFROM:-0600
TZOFFSETTO:-0500
TZNAME:CDT
DTSTART:20200308T080000
END:DAYLIGHT
BEGIN:STANDARD
TZOFFSETFROM:-0500
TZOFFSETTO:-0600
TZNAME:CST
DTSTART:20201101T070000
END:STANDARD
BEGIN:DAYLIGHT
TZOFFSETFROM:-0600
TZOFFSETTO:-0500
TZNAME:CDT
DTSTART:20210314T080000
END:DAYLIGHT
BEGIN:STANDARD
TZOFFSETFROM:-0500
TZOFFSETTO:-0600
TZNAME:CST
DTSTART:20211107T070000
END:STANDARD
BEGIN:DAYLIGHT
TZOFFSETFROM:-0600
TZOFFSETTO:-0500
TZNAME:CDT
DTSTART:20220313T080000
END:DAYLIGHT
BEGIN:STANDARD
TZOFFSETFROM:-0500
TZOFFSETTO:-0600
TZNAME:CST
DTSTART:20221106T070000
END:STANDARD
END:VTIMEZONE
BEGIN:VEVENT
DTSTART;TZID=America/Chicago:20211218T140000
DTEND;TZID=America/Chicago:20211218T160000
DTSTAMP:20260424T053929
CREATED:20210928T130614Z
LAST-MODIFIED:20251229T200402Z
UID:8326-1639836000-1639843200@www.midsummersmusic.com
SUMMARY:Griffon String Quartet Holiday Concert • Egg Harbor
DESCRIPTION:Four for Tango • Astor Piazzolla\nTango Ballet • Astor Piazzolla\nString Quartet No. 7 in F-sharp Minor\, Op. 108 • Dmitri Shostakovich\nPlus a variety of holiday favorites \nTickets for this concert are free but must be reserved by clicking the Buy Tickets Now button or by calling 920-854-7088 during business hours. We ask that you pay what you can. \n2021-2022 Season Sponsor: Phil & Laurey Clampitt
URL:https://www.midsummersmusic.com/event/griffon-string-quartet-holiday-2/
LOCATION:Donald and Carol Kress Pavilion\, 7845 Church St.\, Egg Harbor\, WI\, 54209
CATEGORIES:Community-Embedded,Griffon String Quartet
END:VEVENT
BEGIN:VEVENT
DTSTART;TZID=America/Chicago:20211217T170000
DTEND;TZID=America/Chicago:20211217T190000
DTSTAMP:20260424T053929
CREATED:20210928T130507Z
LAST-MODIFIED:20251229T200407Z
UID:8324-1639760400-1639767600@www.midsummersmusic.com
SUMMARY:Griffon String Quartet Holiday Concert • Sturgeon Bay
DESCRIPTION:Four for Tango • Astor Piazzolla\nTango Ballet • Astor Piazzolla\nString Quartet No. 7 in F-sharp Minor\, Op. 108 • Dmitri Shostakovich\nPlus a variety of holiday favorites \nTickets for this concert are free but must be reserved by clicking the Buy Tickets Now button or by calling 920-854-7088 during business hours. We ask that you pay what you can. \n2021-2022 Season Sponsor: Phil & Laurey Clampitt
URL:https://www.midsummersmusic.com/event/griffon-string-quartet-holiday/
LOCATION:SWY231\, 231 N 3rd Ave.\, Sturgeon Bay\, WI\, 54235\, United States
CATEGORIES:Community-Embedded,Griffon String Quartet
END:VEVENT
BEGIN:VEVENT
DTSTART;TZID=America/Chicago:20211215T090000
DTEND;TZID=America/Chicago:20211215T100000
DTSTAMP:20260424T053929
CREATED:20211210T163940Z
LAST-MODIFIED:20251229T200745Z
UID:8563-1639558800-1639562400@www.midsummersmusic.com
SUMMARY:Griffon String Quartet • Green Bay We Are Live
DESCRIPTION:Tune in to see the Griffon String Quartet interviewed by Lisa Malak and playing a selection of music on Green Bay’s Channel 5\, WFRV.
URL:https://www.midsummersmusic.com/event/griffon-string-quartet-green/
LOCATION:WI
CATEGORIES:Community-Embedded,Griffon String Quartet
END:VEVENT
BEGIN:VEVENT
DTSTART;TZID=America/Chicago:20211214T180000
DTEND;TZID=America/Chicago:20211214T200000
DTSTAMP:20260424T053929
CREATED:20211209T170649Z
LAST-MODIFIED:20251229T200741Z
UID:8558-1639504800-1639512000@www.midsummersmusic.com
SUMMARY:Griffon String Quartet • Merry-Time Festival of Trees
DESCRIPTION:The Griffon String Quartet will perform during the Jingle Mixer Gala at the Maritime Museum’s Festival of Trees. \nVisit http://www.dcmm.org/ for details.
URL:https://www.midsummersmusic.com/event/griffon-string-quartet-merry-time/
LOCATION:Door County Maritime Museum\, 120 North Madison Ave.\, Sturgeon Bay\, WI\, 54235\, United States
CATEGORIES:Community-Embedded,Griffon String Quartet
END:VEVENT
BEGIN:VEVENT
DTSTART;TZID=America/Chicago:20211212T160000
DTEND;TZID=America/Chicago:20211212T170000
DTSTAMP:20260424T053929
CREATED:20211210T164135Z
LAST-MODIFIED:20251229T200751Z
UID:8565-1639324800-1639328400@www.midsummersmusic.com
SUMMARY:Griffon String Quartet • Lessons and Carols\, Sturgeon Bay
DESCRIPTION:The Griffon String Quartet performs for Christ the King Episcopal Church’s Lessons and Carols program in Sturgeon Bay.
URL:https://www.midsummersmusic.com/event/griffon-string-quartet-lessons/
LOCATION:WI
CATEGORIES:Community-Embedded,Griffon String Quartet
END:VEVENT
BEGIN:VEVENT
DTSTART;TZID=America/Chicago:20211209T090000
DTEND;TZID=America/Chicago:20211209T164500
DTSTAMP:20260424T053929
CREATED:20211210T173227Z
LAST-MODIFIED:20251229T200803Z
UID:8573-1639040400-1639068300@www.midsummersmusic.com
SUMMARY:Griffon String Quartet Roaming Caroling
DESCRIPTION:9-9:15 • Brown County Central Library\n10-10:30 • Fortify Bank\n12:00-1:00 • Rotary\n1:45-2:00 • Sister Bay Nicolet\n2:30-2:45 • CWD outside MM office\n3:30-3:45 • Northern Door YMCA \nSome locations may not be open to the public.
URL:https://www.midsummersmusic.com/event/griffon-string-quartet-roaming-2/
LOCATION:WI
CATEGORIES:Community-Embedded,Griffon String Quartet
END:VEVENT
BEGIN:VEVENT
DTSTART;TZID=America/Chicago:20211208T090000
DTEND;TZID=America/Chicago:20211208T160000
DTSTAMP:20260424T053929
CREATED:20211210T173017Z
LAST-MODIFIED:20251229T200807Z
UID:8571-1638954000-1638979200@www.midsummersmusic.com
SUMMARY:Griffon String Quartet Roaming Caroling
DESCRIPTION:9-9:15 • Sturgeon Bay YMCA \n9:45-10:00 • Nicolet on 4th \n10:20-10:35 • Sturgeon Bay Library \n11-11:15 • Nicolet on Maple \n11:50-12:05 • Door County Medical skilled nursing facility \n1:30-2:00 • Door County Daily News \n3-3:15 • Kress Pavilion \n3:30-4:00 • Main Street Market \nSome locations may not be open to the public.
URL:https://www.midsummersmusic.com/event/griffon-string-quartet-roaming/
LOCATION:WI
CATEGORIES:Community-Embedded,Griffon String Quartet
END:VEVENT
BEGIN:VEVENT
DTSTART;TZID=America/Chicago:20211120T173000
DTEND;TZID=America/Chicago:20211120T183000
DTSTAMP:20260424T053929
CREATED:20211005T124720Z
LAST-MODIFIED:20251229T200817Z
UID:8375-1637429400-1637433000@www.midsummersmusic.com
SUMMARY:Griffon String Quartet • Music for Food
DESCRIPTION:This is a free musical event. We ask that you bring a food item or make a monetary donation to our partnering pantry\, the Door County Food Pantry Coalition. \nThe need to address hunger insecurity has never been as great and the statistics are shocking. 1 in 7 people nationwide are food insecure. That means every sixth person you see walking in the city might be the one who is not sure if they or their children will partake in an evening meal. Music for Food exists because of the goodwill and faith the artists show\, and because of the love\, you show to those in need. \nProgram \nSelections from Danish String Quartet’s Last Leaf album \nAstor Piazzolla: Four for Tango \nIntermission \nBeethoven: String Quartet No.12 in E-Flat\, Op.127\nMaestoso-Allegro\nAdagio\, ma non troppo e molto cantabile\nScherzando vivace – Presto\nFinale
URL:https://www.midsummersmusic.com/event/griffon-string-quartet-music-2/
LOCATION:Donald and Carol Kress Pavilion\, 7845 Church St.\, Egg Harbor\, WI\, 54209
CATEGORIES:Community-Embedded,Griffon String Quartet
END:VEVENT
BEGIN:VEVENT
DTSTART;TZID=America/Chicago:20211031T200000
DTEND;TZID=America/Chicago:20211031T223000
DTSTAMP:20260424T053929
CREATED:20211008T175816Z
LAST-MODIFIED:20251229T200842Z
UID:8405-1635710400-1635719400@www.midsummersmusic.com
SUMMARY:Patchwork Narratives of Sound • Feat. Griffon String Quartet
DESCRIPTION:Narratives of Sound: 21st Century Explorations into the Qualities of Sound \nPerformers: David Gerhard Utzinger\, the Griffon String Quartet\, Jon Mueller \nThe Narratives of Sound concert brings together four disparate works by 21st century composers. While stylistically distinct\, all works connect to the others via each composer’s exploration of an individual element of sound\, and within each work\, the chosen parameter of sound develops across the work\, creating a distinct narrative that revolves around that sound and binds each work into a cohesive whole. \nBounce by David Gerhard Utzinger\nStrum by Jessie Montgomery (Griffon String Quartet)\nEntr’acte by Caroline Shaw (Griffon String Quartet)\nAfterlife Cartoons by Jon Mueller
URL:https://www.midsummersmusic.com/event/narratives-sound-feat-griffon/
LOCATION:SWY231\, 231 N 3rd Ave.\, Sturgeon Bay\, WI\, 54235\, United States
CATEGORIES:Community-Embedded,Griffon String Quartet
END:VEVENT
BEGIN:VEVENT
DTSTART;TZID=America/Chicago:20211017T150000
DTEND;TZID=America/Chicago:20211017T170000
DTSTAMP:20260424T053929
CREATED:20210921T085011Z
LAST-MODIFIED:20251229T200847Z
UID:8299-1634482800-1634490000@www.midsummersmusic.com
SUMMARY:Griffon String Quartet • St. Luke's\, Sister Bay
DESCRIPTION:String Quartet No. 14 in G Major\, K.387 • Wolfgang Amadeus Mozart\nEntr’acte • Caroline Shaw\nString Quartet No. 12 in E-flat Major\, Op. 127 • Ludwig van Beethoven \nTickets are free but must be reserved by clicking the Buy Tickets Online button now or by calling 920-854-7088 during business hours. We ask that you pay what you can.
URL:https://www.midsummersmusic.com/event/griffon-string-quartet-st/
LOCATION:St. Luke’s Episcopal Church\, 2336 Canterbury Ln\, Sister Bay\, WI\, 54234
CATEGORIES:Community-Embedded,Griffon String Quartet
END:VEVENT
BEGIN:VEVENT
DTSTART;TZID=America/Chicago:20211016T200000
DTEND;TZID=America/Chicago:20211016T220000
DTSTAMP:20260424T053929
CREATED:20211005T094828Z
LAST-MODIFIED:20251229T200905Z
UID:8360-1634414400-1634421600@www.midsummersmusic.com
SUMMARY:Griffon String Quartet • igNight Market
DESCRIPTION:Griffon String Quartet performance at the igNight Market under the Mason St. Bridge in Green Bay: Community program
URL:https://www.midsummersmusic.com/event/griffon-string-quartet-ignight/
LOCATION:WI
CATEGORIES:Community-Embedded,Griffon String Quartet
END:VEVENT
BEGIN:VEVENT
DTSTART;TZID=America/Chicago:20211016T140000
DTEND;TZID=America/Chicago:20211016T160000
DTSTAMP:20260424T053929
CREATED:20210921T085033Z
LAST-MODIFIED:20251229T200902Z
UID:8297-1634392800-1634400000@www.midsummersmusic.com
SUMMARY:Griffon String Quartet • First Presbyterian Church\, Green Bay
DESCRIPTION:String Quartet No. 14 in G Major\, K.387 • Wolfgang Amadeus Mozart\nEntr’acte • Caroline Shaw\nString Quartet No. 12 in E-flat Major\, Op. 127 • Ludwig van Beethoven \nTickets are free but must be reserved by clicking the Buy Tickets Online button now or by calling 920-854-7088 during business hours. We ask that you pay what you can.
URL:https://www.midsummersmusic.com/event/griffon-string-quartet-presbyterian/
LOCATION:First Presbyterian Church of Green Bay\, 200 S Ashland Ave.\, Green Bay\, WI\, 54303\, United States
CATEGORIES:Community-Embedded,Griffon String Quartet
END:VEVENT
BEGIN:VEVENT
DTSTART;TZID=America/Chicago:20211015T190000
DTEND;TZID=America/Chicago:20211015T210000
DTSTAMP:20260424T053929
CREATED:20210921T085106Z
LAST-MODIFIED:20251229T200857Z
UID:8295-1634324400-1634331600@www.midsummersmusic.com
SUMMARY:Griffon String Quartet • SWY231\, Sturgeon Bay
DESCRIPTION:String Quartet No. 14 in G Major\, K.387 • Wolfgang Amadeus Mozart\nEntr’acte • Caroline Shaw\nString Quartet No. 12 in E-flat Major\, Op. 127 • Ludwig van Beethoven \nTickets are free but must be reserved by clicking the Buy Tickets Online button now or by calling 920-854-7088 during business hours. We ask that you pay what you can.
URL:https://www.midsummersmusic.com/event/griffon-string-quartet-swy231/
LOCATION:SWY231\, 231 N 3rd Ave.\, Sturgeon Bay\, WI\, 54235\, United States
CATEGORIES:Community-Embedded,Griffon String Quartet
END:VEVENT
BEGIN:VEVENT
DTSTART;TZID=America/Chicago:20210925T140000
DTEND;TZID=America/Chicago:20210925T153000
DTSTAMP:20260424T053929
CREATED:20210917T143648Z
LAST-MODIFIED:20251229T200911Z
UID:8293-1632578400-1632583800@www.midsummersmusic.com
SUMMARY:Griffon String Quartet • St. Norbert College
DESCRIPTION:The Griffon String Quartet performs live in Birder Hall at St. Norbert College. \nTickets are free but must be reserved in advance through the college. Click on the Buy Tickets Online button to reserve tickets now.
URL:https://www.midsummersmusic.com/event/griffon-string-quartet-st-2/
LOCATION:St. Norbert College\, 315 Third St.\, De Pere\, WI\, 54115
CATEGORIES:Community-Embedded,Griffon String Quartet
END:VEVENT
BEGIN:VEVENT
DTSTART;TZID=America/Chicago:20210606T170000
DTEND;TZID=America/Chicago:20210606T180000
DTSTAMP:20260424T053929
CREATED:20210417T142910Z
LAST-MODIFIED:20251229T201101Z
UID:7633-1622998800-1623002400@www.midsummersmusic.com
SUMMARY:Griffon String Quartet pay-what-you-can concert - Live!
DESCRIPTION:Click the Buy Tickets Online button to be added to the waiting list.\nJune 6\, 5pm: Woodwalk Gallery\, Egg Harbor \nHaydn Baryton Trio No.101 in C Major\nVilla Lobos String Trio w.460 – 2. Andante\nMozart Divertimento K.563 – 1. Allegro\nBeethoven String Trio Op.9/1 in G Major \nAll concert attendees must make reservations at least 24 hours in advance. Those without advanced reservations will not be admitted. \nThe free tickets will be available starting April 19 through Door County Tickets or by calling 920-854-7088. Donations are welcome\, and we ask that you pay what you can. \nPlease review the Midsummer’s Music COVID-19 Policy prior to making concert plans or reserving tickets. \nPay What You Can: Donations at the door\, via MM website\, phone or on DC Tickets MM organizer’s page.\nAll donations support the Griffon String Quartet.\nThank you! \n\nAll programs are subject to change.
URL:https://www.midsummersmusic.com/event/griffon-string-quartet-pay-what-you-can-3/
LOCATION:Woodwalk Gallery\, 6746 County Rd. G\, Egg Harbor\, WI\, 54209
CATEGORIES:Community-Embedded,Griffon String Quartet
ATTACH;FMTTYPE=image/jpeg:https://www.midsummersmusic.com/wp-content/uploads/2021/04/gsq-trio-2.jpg
END:VEVENT
BEGIN:VEVENT
DTSTART;TZID=America/Chicago:20210530T150000
DTEND;TZID=America/Chicago:20210530T160000
DTSTAMP:20260424T053929
CREATED:20210417T142538Z
LAST-MODIFIED:20251229T201106Z
UID:7630-1622386800-1622390400@www.midsummersmusic.com
SUMMARY:Griffon String Quartet pay-what-you-can concert - Live!
DESCRIPTION:May 30\, 3pm: Kress Pavilion\, Egg Harbor \nHaydn Baryton Trio No.101 in C Major\nVilla Lobos String Trio w.460 – 2. Andante\nMozart Divertimento K.563 – 1. Allegro\nBeethoven String Trio Op.9/1 in G Major \nAll concert attendees must make reservations at least 24 hours in advance. Those without advanced reservations will not be admitted. \nThe free tickets will be available starting April 19 through Door County Tickets or by calling 920-854-7088. Donations are welcome\, and we ask that you pay what you can. \nPlease review the Midsummer’s Music COVID-19 Policy prior to making concert plans or reserving tickets. \nPay What You Can: Donations at the door\, via MM website\, phone or on DC Tickets MM organizer’s page.\nAll donations support the Griffon String Quartet.\nThank you! \n\nAll programs are subject to change.
URL:https://www.midsummersmusic.com/event/griffon-string-quartet-pay-what-you-can-2/
LOCATION:Donald and Carol Kress Pavilion\, 7845 Church St.\, Egg Harbor\, WI\, 54209
CATEGORIES:Community-Embedded,Griffon String Quartet
ATTACH;FMTTYPE=image/jpeg:https://www.midsummersmusic.com/wp-content/uploads/2021/04/gsq-trio-2.jpg
END:VEVENT
BEGIN:VEVENT
DTSTART;TZID=America/Chicago:20210529T160000
DTEND;TZID=America/Chicago:20210529T170000
DTSTAMP:20260424T053929
CREATED:20210417T142025Z
LAST-MODIFIED:20251229T201111Z
UID:7627-1622304000-1622307600@www.midsummersmusic.com
SUMMARY:Griffon String Quartet pay-what-you-can concert - Live!
DESCRIPTION:May 29\, 4pm: SWY\, Sturgeon Bay \nHaydn Baryton Trio No.101 in C Major\nVilla Lobos String Trio w.460 – 2. Andante\nMozart Divertimento K.563 – 1. Allegro\nBeethoven String Trio Op.9/1 in G Major \nAll concert attendees must make reservations at least 24 hours in advance. Those without advanced reservations will not be admitted. \nThe free tickets will be available starting April 19 through Door County Tickets or by calling 920-854-7088. Donations are welcome\, and we ask that you pay what you can. \nPlease review the Midsummer’s Music COVID-19 Policy prior to making concert plans or reserving tickets. \nPay What You Can: Donations at the door\, via MM website\, phone or on DC Tickets MM organizer’s page.\nAll donations support the Griffon String Quartet.\nThank you! \n\nAll programs are subject to change.
URL:https://www.midsummersmusic.com/event/griffon-string-quartet-pay-what-you-can/
LOCATION:SWY231\, 231 N 3rd Ave.\, Sturgeon Bay\, WI\, 54235\, United States
CATEGORIES:Community-Embedded,Griffon String Quartet
ATTACH;FMTTYPE=image/jpeg:https://www.midsummersmusic.com/wp-content/uploads/2021/04/gsq-trio-2.jpg
END:VEVENT
BEGIN:VEVENT
DTSTART;TZID=America/Chicago:20210314T150000
DTEND;TZID=America/Chicago:20210314T160000
DTSTAMP:20260424T053929
CREATED:20210216T164553Z
LAST-MODIFIED:20251229T201121Z
UID:7448-1615734000-1615737600@www.midsummersmusic.com
SUMMARY:Griffon String Quartet Spring 2021 Virtual Concert
DESCRIPTION:Watch the Griffon String Quartet perform its Spring 2021 Virtual Concert on the Griffon’s YouTube channel or the Midsummer’s Music YouTube channel.
URL:https://www.midsummersmusic.com/event/griffon-string-quartet-spring/
LOCATION:WI
CATEGORIES:Community-Embedded,Griffon String Quartet
END:VEVENT
BEGIN:VEVENT
DTSTART;TZID=America/Chicago:20210130T130000
DTEND;TZID=America/Chicago:20210130T170000
DTSTAMP:20260424T053929
CREATED:20210119T205403Z
LAST-MODIFIED:20251229T201134Z
UID:7270-1612011600-1612026000@www.midsummersmusic.com
SUMMARY:Griffon to perform virtual Door County Reads!
DESCRIPTION:The Griffon will perform for a Door County Reads “Big Read” event in January\, spotlighting music from the time of Shakespeare. Door County Reads is a winter program that encourages the community to read and discuss a book while celebrating it with theatrical and musical performances\, writing workshops\, lectures and other events related to the book and its culture. \nThis event will be broadcast live on the Door County Library’s Facebook page.
URL:https://www.midsummersmusic.com/event/griffon-perform-virtual-door-county/
LOCATION:WI
CATEGORIES:Community-Embedded,Griffon String Quartet
END:VEVENT
BEGIN:VEVENT
DTSTART;TZID=America/Chicago:20201220T150000
DTEND;TZID=America/Chicago:20201220T163000
DTSTAMP:20260424T053929
CREATED:20201202T211612Z
LAST-MODIFIED:20251229T201155Z
UID:7134-1608476400-1608481800@www.midsummersmusic.com
SUMMARY:Holiday Celebration with the Griffon!
DESCRIPTION:Come join a virtual concert with the members of the Griffon! Select your favorite viewing spot and watch as Vini\, Blakeley\, and Ryan spread holiday cheer! The concert will be broadcasted on the Griffon String Quartet YouTube channel as well as the Midsummer’s Music Facebook page.
URL:https://www.midsummersmusic.com/event/holiday-celebration-griffon-string/
LOCATION:Online Event\, WI\, United States
CATEGORIES:Community-Embedded,Griffon String Quartet
END:VEVENT
BEGIN:VEVENT
DTSTART;TZID=America/Chicago:20201115T150000
DTEND;TZID=America/Chicago:20201115T170000
DTSTAMP:20260424T053929
CREATED:20201102T181043Z
LAST-MODIFIED:20251229T201209Z
UID:6982-1605452400-1605459600@www.midsummersmusic.com
SUMMARY:The Griffon String Quartet performs music by Mozart and Dohnányi in a streaming concert!
DESCRIPTION:Come join us! Watch the Griffon perform music Mozart and Dohnányi. The Concert will be streamed at 3:00 pm (CT)on November 15th. Watch via Midsummer’s Music Facebook page\, website\, or YouTube Channel\, or on the Griffon String Quartet YouTube channel.
URL:https://www.midsummersmusic.com/event/griffon-string-quartet-performs/
LOCATION:WI
CATEGORIES:Community-Embedded,Griffon String Quartet
END:VEVENT
BEGIN:VEVENT
DTSTART;VALUE=DATE:20200422
DTEND;VALUE=DATE:20200423
DTSTAMP:20260424T053929
CREATED:20191007T105618Z
LAST-MODIFIED:20251229T201331Z
UID:5088-1587513600-1587599999@www.midsummersmusic.com
SUMMARY:Every Day Is Earth Day - Griffon String Quartet
DESCRIPTION:April 22\, time TBD\nThe Griffon String Quartet participates in an Every Day Is Earth Day event.\nKress Pavilion\, Egg Harbor
URL:https://www.midsummersmusic.com/event/day-earth-day-griffon-string/
LOCATION:Donald and Carol Kress Pavilion\, 7845 Church St.\, Egg Harbor\, WI\, 54209
CATEGORIES:Community-Embedded,Griffon String Quartet
END:VEVENT
BEGIN:VEVENT
DTSTART;TZID=America/Chicago:20200316T190000
DTEND;TZID=America/Chicago:20200316T210000
DTSTAMP:20260424T053929
CREATED:20200210T142510Z
LAST-MODIFIED:20251229T201410Z
UID:5377-1584385200-1584392400@www.midsummersmusic.com
SUMMARY:The Griffon String Quartet in Concert
DESCRIPTION:Swy (next to TAP)\, Sturgeon Bay\nConcert – March 16\, 7:00\nWorks by Montgomery\, Hindemith\, and Schumann \nDonations accepted
URL:https://www.midsummersmusic.com/event/griffon-string-quartet-concert-10/
LOCATION:SWY231\, 231 N 3rd Ave.\, Sturgeon Bay\, WI\, 54235\, United States
CATEGORIES:Community-Embedded,Griffon String Quartet
END:VEVENT
BEGIN:VEVENT
DTSTART;TZID=America/Chicago:20200315T150000
DTEND;TZID=America/Chicago:20200315T170000
DTSTAMP:20260424T053929
CREATED:20200207T094811Z
LAST-MODIFIED:20251229T201410Z
UID:5082-1584284400-1584291600@www.midsummersmusic.com
SUMMARY:The Griffon String Quartet in Concert
DESCRIPTION:Unitarian Universalist Fellowship\nConcert – March 15\, 3:00 pm \nGriffon String Quartet and Piano\nWorks by Montgomery\, Hindemith\, and Schumann \nClick here to purchase tickets.
URL:https://www.midsummersmusic.com/event/griffon-string-quartet-concert-7/
LOCATION:Unitarian Universalist Fellowship of Door County\, 10341 Water Street HWY 42\, Ephraim\, WI\, 54211
CATEGORIES:Community-Embedded,Griffon String Quartet
END:VEVENT
BEGIN:VEVENT
DTSTART;TZID=America/Chicago:20200314T190000
DTEND;TZID=America/Chicago:20200314T210000
DTSTAMP:20260424T053929
CREATED:20191007T104543Z
LAST-MODIFIED:20251229T201410Z
UID:5079-1584212400-1584219600@www.midsummersmusic.com
SUMMARY:The Griffon String Quartet in Concert
DESCRIPTION:First Presbyterian Church\, Green Bay\nConcert – March 14\, 7:00\nWorks by Montgomery\, Hindemith\, and Schumann \nDonations accepted
URL:https://www.midsummersmusic.com/event/griffon-string-quartet-concert-6/
LOCATION:First Presbyterian Church of Green Bay\, 200 S Ashland Ave.\, Green Bay\, WI\, 54303\, United States
CATEGORIES:Community-Embedded,Griffon String Quartet
END:VEVENT
BEGIN:VEVENT
DTSTART;TZID=America/Chicago:20200313T193000
DTEND;TZID=America/Chicago:20200313T213000
DTSTAMP:20260424T053929
CREATED:20191007T104418Z
LAST-MODIFIED:20251229T201410Z
UID:5077-1584127800-1584135000@www.midsummersmusic.com
SUMMARY:The Griffon String Quartet in Concert
DESCRIPTION:St. Norbert College\nConcert – March 13\, 7:30\nWorks by Montgomery\, Hindemith\, and Schumann \nTickets available from St. Norbert College – $12\nhttps://www.snc.edu/tickets/
URL:https://www.midsummersmusic.com/event/griffon-string-quartet-concert-5/
LOCATION:St. Norbert College\, 315 Third St.\, De Pere\, WI\, 54115
CATEGORIES:Community-Embedded,Griffon String Quartet
END:VEVENT
BEGIN:VEVENT
DTSTART;TZID=America/Chicago:20191215T150000
DTEND;TZID=America/Chicago:20191215T170000
DTSTAMP:20260424T053930
CREATED:20191006T120248Z
LAST-MODIFIED:20251229T201410Z
UID:5053-1576422000-1576429200@www.midsummersmusic.com
SUMMARY:Winter Concert - the Griffon String Quartet
DESCRIPTION:Quartet No. 7 in F Major – Beethoven\nQuartet No. 1 in E Minor\, “From My Life” – Smetana\nPlus a sing-along and a selection of holiday favorites \nDonations accepted at the door (suggested $10).
URL:https://www.midsummersmusic.com/event/winter-concert-griffon-string-2/
LOCATION:Donald and Carol Kress Pavilion\, 7845 Church St.\, Egg Harbor\, WI\, 54209
CATEGORIES:Community-Embedded,Griffon String Quartet
END:VEVENT
BEGIN:VEVENT
DTSTART;TZID=America/Chicago:20191214T190000
DTEND;TZID=America/Chicago:20191214T210000
DTSTAMP:20260424T053930
CREATED:20191006T120847Z
LAST-MODIFIED:20251229T201410Z
UID:5057-1576350000-1576357200@www.midsummersmusic.com
SUMMARY:The Griffon String Quartet in Concert
DESCRIPTION:December 14\, 7:00 \nQuartet No. 7 in F Major – Beethoven\nQuartet No. 1 in E Minor\, “From My Life” – Smetana\nPlus a sing-along and a selection of holiday favorites \nDonations accepted (suggested $30)
URL:https://www.midsummersmusic.com/event/griffon-string-quartet-concert-4/
LOCATION:First Presbyterian Church of Green Bay\, 200 S Ashland Ave.\, Green Bay\, WI\, 54303\, United States
CATEGORIES:Community-Embedded,Griffon String Quartet
END:VEVENT
BEGIN:VEVENT
DTSTART;TZID=America/Chicago:20191214T130000
DTEND;TZID=America/Chicago:20191214T140000
DTSTAMP:20260424T053930
CREATED:20191006T120529Z
LAST-MODIFIED:20251229T201410Z
UID:5055-1576328400-1576332000@www.midsummersmusic.com
SUMMARY:Library Live Presentation - Griffon String Quartet
DESCRIPTION:December 14\, 1:00 \nQuartet No. 7 in F Major – Beethoven\nQuartet No. 1 in E Minor\, “From My Life” – Smetana\nPlus a sing-along and a selection of holiday favorites \nPresented by the Door County/Sturgeon Bay Library
URL:https://www.midsummersmusic.com/event/library-live-presentation-griffon-2/
LOCATION:Miller Art Museum\, 107 S 4th Ave.\, Sturgeon Bay\, WI\, 54235
CATEGORIES:Community-Embedded,Griffon String Quartet
END:VEVENT
BEGIN:VEVENT
DTSTART;TZID=America/Chicago:20191213T170000
DTEND;TZID=America/Chicago:20191213T190000
DTSTAMP:20260424T053930
CREATED:20191006T120140Z
LAST-MODIFIED:20251229T201410Z
UID:5051-1576256400-1576263600@www.midsummersmusic.com
SUMMARY:Winter Concert - the Griffon String Quartet
DESCRIPTION:Quartet No. 7 in F Major – Beethoven\nQuartet No. 1 in E Minor\, “From My Life” – Smetana\nPlus a sing-along and a selection of holiday favorites \nDonations accepted at the door (suggested $10).
URL:https://www.midsummersmusic.com/event/winter-concert-griffon-string/
LOCATION:Hope United Church of Christ\, 141 S 12th Ave.\, Sturgeon Bay\, WI\, 54235\, United States
CATEGORIES:Community-Embedded,Griffon String Quartet
END:VEVENT
END:VCALENDAR