BEGIN:VCALENDAR
VERSION:2.0
PRODID:-//Midsummer&#039;s Music and its affiliate, the Griffon String Quartet - ECPv6.15.20//NONSGML v1.0//EN
CALSCALE:GREGORIAN
METHOD:PUBLISH
X-ORIGINAL-URL:https://www.midsummersmusic.com
X-WR-CALDESC:Events for Midsummer&#039;s Music and its affiliate, the Griffon String Quartet
REFRESH-INTERVAL;VALUE=DURATION:PT1H
X-Robots-Tag:noindex
X-PUBLISHED-TTL:PT1H
BEGIN:VTIMEZONE
TZID:America/Chicago
BEGIN:DAYLIGHT
TZOFFSETFROM:-0600
TZOFFSETTO:-0500
TZNAME:CDT
DTSTART:20250309T080000
END:DAYLIGHT
BEGIN:STANDARD
TZOFFSETFROM:-0500
TZOFFSETTO:-0600
TZNAME:CST
DTSTART:20251102T070000
END:STANDARD
BEGIN:DAYLIGHT
TZOFFSETFROM:-0600
TZOFFSETTO:-0500
TZNAME:CDT
DTSTART:20260308T080000
END:DAYLIGHT
BEGIN:STANDARD
TZOFFSETFROM:-0500
TZOFFSETTO:-0600
TZNAME:CST
DTSTART:20261101T070000
END:STANDARD
BEGIN:DAYLIGHT
TZOFFSETFROM:-0600
TZOFFSETTO:-0500
TZNAME:CDT
DTSTART:20270314T080000
END:DAYLIGHT
BEGIN:STANDARD
TZOFFSETFROM:-0500
TZOFFSETTO:-0600
TZNAME:CST
DTSTART:20271107T070000
END:STANDARD
END:VTIMEZONE
BEGIN:VEVENT
DTSTART;TZID=America/Chicago:20260514T171500
DTEND;TZID=America/Chicago:20260514T180000
DTSTAMP:20260423T144817
CREATED:20260204T132248Z
LAST-MODIFIED:20260213T154855Z
UID:14531-1778778900-1778781600@www.midsummersmusic.com
SUMMARY:Community Outreach • Sister Bay
DESCRIPTION:The Griffon String Quartet is delighted to share music at Stella Maris Parish’s Fish and Loaves community dinner\, an evening rooted in hospitality\, generosity\, and togetherness. As neighbors gather to enjoy a free\, home-cooked meal\, the quartet’s music will add warmth and beauty to a space filled with fellowship and welcome. \nThis is an open invitation to all—come as you are\, bring a friend\, share a table\, and enjoy an evening where good food\, good company\, and live music nourish both body and spirit. \nAll are welcome.
URL:https://www.midsummersmusic.com/event/community-outreach-fish-creek/
LOCATION:Stella Maris Catholic Church Sister Bay\, 2410 S Bay Shore Dr\, Sister Bay\, WI\, 54234
CATEGORIES:Community-Embedded,Griffon String Quartet
ATTACH;FMTTYPE=image/jpeg:https://www.midsummersmusic.com/wp-content/uploads/2025/03/2024-griffon-logo-scaled.jpg
END:VEVENT
BEGIN:VEVENT
DTSTART;TZID=America/Chicago:20260522T190000
DTEND;TZID=America/Chicago:20260522T210000
DTSTAMP:20260423T144817
CREATED:20260115T164229Z
LAST-MODIFIED:20260303T161918Z
UID:14482-1779476400-1779483600@www.midsummersmusic.com
SUMMARY:Griffon String Quartet Season Finale Concert • Sturgeon Bay
DESCRIPTION:Join us for a magnificent finale concert as the Griffon String Quartet brings its 2025–2026 season to a thrilling close. This celebratory evening showcases the ensemble’s signature blend of passion\, precision\, and expressive depth—an unforgettable culmination of a season filled with inspired music-making. \nFeaturing\nRoy Meyer & Alex Norris\, violins\nOryann Tsaig\, viola\nJesse Nummelin\, cello \nFrom soaring melodies to intimate musical conversations\, this performance invites you to reflect on the journey of the season and revel in the power of live chamber music. Don’t miss this special night of artistry\, connection\, and musical brilliance as the Griffon String Quartet takes its final bow of the season. \nReserve Free Tickets
URL:https://www.midsummersmusic.com/event/griffon-string-quartet-season-finale-concert-sturgeon-bay-2/
LOCATION:Hope United Church of Christ\, 141 S 12th Ave.\, Sturgeon Bay\, WI\, 54235\, United States
CATEGORIES:Community-Embedded,Griffon String Quartet
ATTACH;FMTTYPE=image/png:https://www.midsummersmusic.com/wp-content/uploads/2025/03/community-calendar-featured-image-scaled.png
END:VEVENT
BEGIN:VEVENT
DTSTART;TZID=America/Chicago:20260523T190000
DTEND;TZID=America/Chicago:20260523T210000
DTSTAMP:20260423T144817
CREATED:20260115T164354Z
LAST-MODIFIED:20260303T162009Z
UID:14484-1779562800-1779570000@www.midsummersmusic.com
SUMMARY:Griffon String Quartet Season Finale Concert • Green Bay
DESCRIPTION:Join us for a magnificent finale concert as the Griffon String Quartet brings its 2025–2026 season to a thrilling close. This celebratory evening showcases the ensemble’s signature blend of passion\, precision\, and expressive depth—an unforgettable culmination of a season filled with inspired music-making. \nFeaturing\nRoy Meyer & Alex Norris\, violins\nOryann Tsaig\, viola\nJesse Nummelin\, cello \nFrom soaring melodies to intimate musical conversations\, this performance invites you to reflect on the journey of the season and revel in the power of live chamber music. Don’t miss this special night of artistry\, connection\, and musical brilliance as the Griffon String Quartet takes its final bow of the season. \nReserve Free Tickets
URL:https://www.midsummersmusic.com/event/griffon-string-quartet-season-finale-concert-green-bay-2/
LOCATION:Art Garage\, 1429 Main St\, Green Bay\, WI\, 54302
CATEGORIES:Community-Embedded,Griffon String Quartet
ATTACH;FMTTYPE=image/png:https://www.midsummersmusic.com/wp-content/uploads/2025/03/community-calendar-featured-image-scaled.png
END:VEVENT
BEGIN:VEVENT
DTSTART;TZID=America/Chicago:20260524T170000
DTEND;TZID=America/Chicago:20260524T190000
DTSTAMP:20260423T144817
CREATED:20260115T164511Z
LAST-MODIFIED:20260303T162056Z
UID:14486-1779642000-1779649200@www.midsummersmusic.com
SUMMARY:Griffon String Quartet Season Finale Concert • Egg Harbor
DESCRIPTION:Join us for a magnificent finale concert as the Griffon String Quartet brings its 2025–2026 season to a thrilling close. This celebratory evening showcases the ensemble’s signature blend of passion\, precision\, and expressive depth—an unforgettable culmination of a season filled with inspired music-making. \nFeaturing\nRoy Meyer & Alex Norris\, violins\nOryann Tsaig\, viola\nJesse Nummelin\, cello \nFrom soaring melodies to intimate musical conversations\, this performance invites you to reflect on the journey of the season and revel in the power of live chamber music. Don’t miss this special night of artistry\, connection\, and musical brilliance as the Griffon String Quartet takes its final bow of the season. \nReserve Free Tickets
URL:https://www.midsummersmusic.com/event/griffon-string-quartet-season-finale-concert-egg-harbor-2/
LOCATION:Donald and Carol Kress Pavilion\, 7845 Church St.\, Egg Harbor\, WI\, 54209
CATEGORIES:Community-Embedded,Griffon String Quartet
ATTACH;FMTTYPE=image/png:https://www.midsummersmusic.com/wp-content/uploads/2025/03/community-calendar-featured-image-scaled.png
END:VEVENT
END:VCALENDAR