BEGIN:VCALENDAR
VERSION:2.0
PRODID:-//Midsummer&#039;s Music and its affiliate, the Griffon String Quartet - ECPv6.15.20//NONSGML v1.0//EN
CALSCALE:GREGORIAN
METHOD:PUBLISH
X-WR-CALNAME:Midsummer&#039;s Music and its affiliate, the Griffon String Quartet
X-ORIGINAL-URL:https://www.midsummersmusic.com
X-WR-CALDESC:Events for Midsummer&#039;s Music and its affiliate, the Griffon String Quartet
REFRESH-INTERVAL;VALUE=DURATION:PT1H
X-Robots-Tag:noindex
X-PUBLISHED-TTL:PT1H
BEGIN:VTIMEZONE
TZID:America/Chicago
BEGIN:DAYLIGHT
TZOFFSETFROM:-0600
TZOFFSETTO:-0500
TZNAME:CDT
DTSTART:20250309T080000
END:DAYLIGHT
BEGIN:STANDARD
TZOFFSETFROM:-0500
TZOFFSETTO:-0600
TZNAME:CST
DTSTART:20251102T070000
END:STANDARD
BEGIN:DAYLIGHT
TZOFFSETFROM:-0600
TZOFFSETTO:-0500
TZNAME:CDT
DTSTART:20260308T080000
END:DAYLIGHT
BEGIN:STANDARD
TZOFFSETFROM:-0500
TZOFFSETTO:-0600
TZNAME:CST
DTSTART:20261101T070000
END:STANDARD
BEGIN:DAYLIGHT
TZOFFSETFROM:-0600
TZOFFSETTO:-0500
TZNAME:CDT
DTSTART:20270314T080000
END:DAYLIGHT
BEGIN:STANDARD
TZOFFSETFROM:-0500
TZOFFSETTO:-0600
TZNAME:CST
DTSTART:20271107T070000
END:STANDARD
END:VTIMEZONE
BEGIN:VEVENT
DTSTART;TZID=America/Chicago:20260201T183000
DTEND;TZID=America/Chicago:20260201T190000
DTSTAMP:20260423T164801
CREATED:20260115T160555Z
LAST-MODIFIED:20260115T161333Z
UID:14459-1769970600-1769972400@www.midsummersmusic.com
SUMMARY:Griffon String Quartet Guest Performance • Sturgeon Bay
DESCRIPTION:Experience an evening where voices and strings meet. The Griffon String Quartet will be featured on the choir program at Prince of Peace Church\, bringing their rich\, expressive sound to create moments of rare beauty. From soaring melodies to intimate textures\, this collaboration promises a powerful musical journey that inspires\, uplifts\, and lingers long after the final note. Join us for a night of artistry\, reverence\, and unforgettable music.
URL:https://www.midsummersmusic.com/event/griffon-string-quartet-guest-performance-sturgeon-bay/
LOCATION:Prince of Peace Church\, 1756 Michigan St\, Sturgeon Bay\, WI\, 54235\, United States
CATEGORIES:Community-Embedded,Griffon String Quartet
ATTACH;FMTTYPE=image/jpeg:https://www.midsummersmusic.com/wp-content/uploads/2025/03/2024-griffon-logo-scaled.jpg
END:VEVENT
END:VCALENDAR