BEGIN:VCALENDAR
VERSION:2.0
PRODID:-//Midsummer&#039;s Music and its affiliate, the Griffon String Quartet - ECPv6.15.20//NONSGML v1.0//EN
CALSCALE:GREGORIAN
METHOD:PUBLISH
X-ORIGINAL-URL:https://www.midsummersmusic.com
X-WR-CALDESC:Events for Midsummer&#039;s Music and its affiliate, the Griffon String Quartet
REFRESH-INTERVAL;VALUE=DURATION:PT1H
X-Robots-Tag:noindex
X-PUBLISHED-TTL:PT1H
BEGIN:VTIMEZONE
TZID:America/Chicago
BEGIN:DAYLIGHT
TZOFFSETFROM:-0600
TZOFFSETTO:-0500
TZNAME:CDT
DTSTART:20240310T080000
END:DAYLIGHT
BEGIN:STANDARD
TZOFFSETFROM:-0500
TZOFFSETTO:-0600
TZNAME:CST
DTSTART:20241103T070000
END:STANDARD
BEGIN:DAYLIGHT
TZOFFSETFROM:-0600
TZOFFSETTO:-0500
TZNAME:CDT
DTSTART:20250309T080000
END:DAYLIGHT
BEGIN:STANDARD
TZOFFSETFROM:-0500
TZOFFSETTO:-0600
TZNAME:CST
DTSTART:20251102T070000
END:STANDARD
BEGIN:DAYLIGHT
TZOFFSETFROM:-0600
TZOFFSETTO:-0500
TZNAME:CDT
DTSTART:20260308T080000
END:DAYLIGHT
BEGIN:STANDARD
TZOFFSETFROM:-0500
TZOFFSETTO:-0600
TZNAME:CST
DTSTART:20261101T070000
END:STANDARD
END:VTIMEZONE
BEGIN:VEVENT
DTSTART;TZID=America/Chicago:20251121T180000
DTEND;TZID=America/Chicago:20251121T193000
DTSTAMP:20260423T220530
CREATED:20251017T132359Z
LAST-MODIFIED:20251229T191418Z
UID:14093-1763748000-1763753400@www.midsummersmusic.com
SUMMARY:Griffon String Quartet "Pint-Sized Concert" • Sister Bay
DESCRIPTION:On the evening of November 21\, the Griffon String Quartet\, in collaboration with Wisconsin Public Radio\, will bring classical music to an unexpected and welcoming setting with a “Pint Sized Concert” at the Peach Barn Brewery in Sister Bay. Blending world-class musicianship with the relaxed charm of a local brewery\, this intimate performance invites patrons to enjoy great music\, good company\, and a refreshing pint in a cozy\, laid-back atmosphere. The event promises an evening where artistry meets community—proving that beautiful music can thrive anywhere people gather to share in the joy of live performance. \nWisconsin Public Radio requests that you register for the concert here.
URL:https://www.midsummersmusic.com/event/griffon-string-quartet-community-program-sister-bay/
LOCATION:Peach Barn Brewery\, 2450 S Bay Shore Dr.\, Sister Bay\, WI\, 54234
CATEGORIES:Community-Embedded,Griffon String Quartet
ATTACH;FMTTYPE=image/png:https://www.midsummersmusic.com/wp-content/uploads/2025/03/community-calendar-featured-image-scaled.png
END:VEVENT
END:VCALENDAR