BEGIN:VCALENDAR
VERSION:2.0
PRODID:-//Midsummer&#039;s Music and its affiliate, the Griffon String Quartet - ECPv6.15.20//NONSGML v1.0//EN
CALSCALE:GREGORIAN
METHOD:PUBLISH
X-ORIGINAL-URL:https://www.midsummersmusic.com
X-WR-CALDESC:Events for Midsummer&#039;s Music and its affiliate, the Griffon String Quartet
REFRESH-INTERVAL;VALUE=DURATION:PT1H
X-Robots-Tag:noindex
X-PUBLISHED-TTL:PT1H
BEGIN:VTIMEZONE
TZID:America/Chicago
BEGIN:DAYLIGHT
TZOFFSETFROM:-0600
TZOFFSETTO:-0500
TZNAME:CDT
DTSTART:20240310T080000
END:DAYLIGHT
BEGIN:STANDARD
TZOFFSETFROM:-0500
TZOFFSETTO:-0600
TZNAME:CST
DTSTART:20241103T070000
END:STANDARD
BEGIN:DAYLIGHT
TZOFFSETFROM:-0600
TZOFFSETTO:-0500
TZNAME:CDT
DTSTART:20250309T080000
END:DAYLIGHT
BEGIN:STANDARD
TZOFFSETFROM:-0500
TZOFFSETTO:-0600
TZNAME:CST
DTSTART:20251102T070000
END:STANDARD
BEGIN:DAYLIGHT
TZOFFSETFROM:-0600
TZOFFSETTO:-0500
TZNAME:CDT
DTSTART:20260308T080000
END:DAYLIGHT
BEGIN:STANDARD
TZOFFSETFROM:-0500
TZOFFSETTO:-0600
TZNAME:CST
DTSTART:20261101T070000
END:STANDARD
END:VTIMEZONE
BEGIN:VEVENT
DTSTART;TZID=America/Chicago:20250918T190000
DTEND;TZID=America/Chicago:20250918T210000
DTSTAMP:20260424T013839
CREATED:20250627T133540Z
LAST-MODIFIED:20251229T191651Z
UID:13613-1758222000-1758229200@www.midsummersmusic.com
SUMMARY:Eric Lewis and the Griffon String Quartet • Tarlton Theatre\, Green Bay
DESCRIPTION:Join us for a truly special musical event as Door County favorite Eric Lewis reunites with the Griffon String Quartet\, an affiliate of Midsummer’s Music\, for four unforgettable performances! Be transported by an inspired blend of classical finesse and folk soul\, featuring selections from their critically acclaimed album Beneath the Waves—plus brand-new material debuting live! Whether you’re a longtime fan or new to their unique sound\, this collaboration promises an evening of extraordinary artistry\, heartfelt emotion\, and musical storytelling you won’t want to miss. \nEric Lewis and the Griffon String Quartet \nPrayer for My Friends*\nRoad to Chattanooga*\nIcelandic Hymn\nSalt Creek\nA Prayer for Gladys\nWalk the Road with Me\nBeneath the Waves\nWildflowers\nFor Rose Mary\nKaty Hopkins\nUnder the Harvest Moon\nWestern Wind\nAshes\, Ashes\nAshokan Farewell\nSo You Remember Me\nTennessee Barn Burner\n*Eric Lewis Solo \nGriffon String Quartet \nSelections from the Danish String Quartet’s Last Leaf album\nWaltzing Matilda\, Australian bush ballad\nVoodoo Dolls by Jessie Montgomery \nAdditional selections from Eric Lewis and the Griffon String Quartet will be announced. Songs may vary.\nIntermission will be included. \nDonations will be accepted – $40 suggested adult; $20 suggested student. \nReserve Tickets
URL:https://www.midsummersmusic.com/event/eric-lewis-and-the-griffon-string-quartet-tarlton-theatre-green-bay-2/
LOCATION:Tarlton Theatre\, 405-409 West Walnut St.\, Green Bay\, WI\, 54303
CATEGORIES:Community-Embedded,Griffon String Quartet
ATTACH;FMTTYPE=image/png:https://www.midsummersmusic.com/wp-content/uploads/2025/04/el-gsq-calendar-featured-image-1-scaled.png
END:VEVENT
BEGIN:VEVENT
DTSTART;TZID=America/Chicago:20250919T190000
DTEND;TZID=America/Chicago:20250919T210000
DTSTAMP:20260424T013839
CREATED:20250404T141047Z
LAST-MODIFIED:20251229T191642Z
UID:13270-1758308400-1758315600@www.midsummersmusic.com
SUMMARY:Eric Lewis and the Griffon String Quartet • Woodwalk Gallery\, Egg Harbor—SOLD OUT
DESCRIPTION:THIS CONCERT IS SOLD OUT\nJoin us for a truly special musical event as Door County favorite Eric Lewis reunites with the Griffon String Quartet\, an affiliate of Midsummer’s Music\, for four unforgettable performances! Be transported by an inspired blend of classical finesse and folk soul\, featuring selections from their critically acclaimed album Beneath the Waves—plus brand-new material debuting live! Whether you’re a longtime fan or new to their unique sound\, this collaboration promises an evening of extraordinary artistry\, heartfelt emotion\, and musical storytelling you won’t want to miss. \nEric Lewis and the Griffon String Quartet \nPrayer for My Friends*\nRoad to Chattanooga*\nIcelandic Hymn\nSalt Creek\nA Prayer for Gladys\nWalk the Road with Me\nBeneath the Waves\nWildflowers\nFor Rose Mary\nKaty Hopkins\nUnder the Harvest Moon\nWestern Wind\nAshes\, Ashes\nAshokan Farewell\nSo You Remember Me\nTennessee Barn Burner\n*Eric Lewis Solo \nGriffon String Quartet \nSelections from the Danish String Quartet’s Last Leaf album\nWaltzing Matilda\, Australian bush ballad\nVoodoo Dolls by Jessie Montgomery \nAdditional selections from Eric Lewis and the Griffon String Quartet will be announced. Songs may vary.\nIntermission will be included. \nReserve Tickets
URL:https://www.midsummersmusic.com/event/eric-lewis-and-the-griffon-string-quartet-woodwalk-gallery-egg-harbor-2/
LOCATION:Woodwalk Gallery\, 6746 County Rd. G\, Egg Harbor\, WI\, 54209
CATEGORIES:Community-Embedded,Griffon String Quartet
ATTACH;FMTTYPE=image/png:https://www.midsummersmusic.com/wp-content/uploads/2025/04/el-gsq-calendar-featured-image-1-scaled.png
END:VEVENT
BEGIN:VEVENT
DTSTART;TZID=America/Chicago:20250920T190000
DTEND;TZID=America/Chicago:20250920T210000
DTSTAMP:20260424T013839
CREATED:20250402T180440Z
LAST-MODIFIED:20251229T191633Z
UID:13272-1758394800-1758402000@www.midsummersmusic.com
SUMMARY:Eric Lewis and the Griffon String Quartet • MUSE\, Sturgeon Bay
DESCRIPTION:Join us for a truly special musical event as Door County favorite Eric Lewis reunites with the Griffon String Quartet\, an affiliate of Midsummer’s Music\, for four unforgettable performances! Be transported by an inspired blend of classical finesse and folk soul\, featuring selections from their critically acclaimed album Beneath the Waves—plus brand-new material debuting live! Whether you’re a longtime fan or new to their unique sound\, this collaboration promises an evening of extraordinary artistry\, heartfelt emotion\, and musical storytelling you won’t want to miss. \nEric Lewis and the Griffon String Quartet \nPrayer for My Friends*\nRoad to Chattanooga*\nIcelandic Hymn\nSalt Creek\nA Prayer for Gladys\nWalk the Road with Me\nBeneath the Waves\nWildflowers\nFor Rose Mary\nKaty Hopkins\nUnder the Harvest Moon\nWestern Wind\nAshes\, Ashes\nAshokan Farewell\nSo You Remember Me\nTennessee Barn Burner\n*Eric Lewis Solo \nGriffon String Quartet \nSelections from the Danish String Quartet’s Last Leaf album\nWaltzing Matilda\, Australian bush ballad\nVoodoo Dolls by Jessie Montgomery \nAdditional selections from Eric Lewis and the Griffon String Quartet will be announced. Songs may vary.\nIntermission will be included. \nReserve Tickets
URL:https://www.midsummersmusic.com/event/eric-lewis-and-the-griffon-string-quartet-muse-sturgeon-bay/
LOCATION:MUSE Sturgeon Bay\, 330 Jefferson St.\, Sturgeon Bay\, WI\, 54235
CATEGORIES:Community-Embedded,Griffon String Quartet
ATTACH;FMTTYPE=image/png:https://www.midsummersmusic.com/wp-content/uploads/2025/04/el-gsq-calendar-featured-image-1-scaled.png
END:VEVENT
BEGIN:VEVENT
DTSTART;TZID=America/Chicago:20250921T150000
DTEND;TZID=America/Chicago:20250921T170000
DTSTAMP:20260424T013839
CREATED:20250404T141107Z
LAST-MODIFIED:20251229T191624Z
UID:13274-1758466800-1758474000@www.midsummersmusic.com
SUMMARY:Eric Lewis and the Griffon String Quartet • Trueblood PAC\, Washington Island
DESCRIPTION:Join us for a truly special musical event as Door County favorite Eric Lewis reunites with the Griffon String Quartet\, an affiliate of Midsummer’s Music\, for four unforgettable performances! Be transported by an inspired blend of classical finesse and folk soul\, featuring selections from their critically acclaimed album Beneath the Waves—plus brand-new material debuting live! Whether you’re a longtime fan or new to their unique sound\, this collaboration promises an evening of extraordinary artistry\, heartfelt emotion\, and musical storytelling you won’t want to miss. \nEric Lewis and the Griffon String Quartet \nPrayer for My Friends*\nRoad to Chattanooga*\nIcelandic Hymn\nSalt Creek\nA Prayer for Gladys\nWalk the Road with Me\nBeneath the Waves\nWildflowers\nFor Rose Mary\nKaty Hopkins\nUnder the Harvest Moon\nWestern Wind\nAshes\, Ashes\nAshokan Farewell\nSo You Remember Me\nTennessee Barn Burner\n*Eric Lewis Solo \nGriffon String Quartet \nSelections from the Danish String Quartet’s Last Leaf album\nWaltzing Matilda\, Australian bush ballad\nVoodoo Dolls by Jessie Montgomery \nAdditional selections from Eric Lewis and the Griffon String Quartet will be announced. Songs may vary.\nIntermission will be included. \nReserve Tickets
URL:https://www.midsummersmusic.com/event/eric-lewis-and-the-griffon-string-quartet-trueblood-pac-washington-island-2/
LOCATION:Trueblood Performing Arts Center\, 870 Main Rd.\, Washington Island\, WI\, 54246
CATEGORIES:Community-Embedded,Griffon String Quartet
ATTACH;FMTTYPE=image/png:https://www.midsummersmusic.com/wp-content/uploads/2025/04/el-gsq-calendar-featured-image-1-scaled.png
END:VEVENT
END:VCALENDAR