BEGIN:VCALENDAR
VERSION:2.0
PRODID:-//Midsummer&#039;s Music and its affiliate, the Griffon String Quartet - ECPv6.15.20//NONSGML v1.0//EN
CALSCALE:GREGORIAN
METHOD:PUBLISH
X-WR-CALNAME:Midsummer&#039;s Music and its affiliate, the Griffon String Quartet
X-ORIGINAL-URL:https://www.midsummersmusic.com
X-WR-CALDESC:Events for Midsummer&#039;s Music and its affiliate, the Griffon String Quartet
REFRESH-INTERVAL;VALUE=DURATION:PT1H
X-Robots-Tag:noindex
X-PUBLISHED-TTL:PT1H
BEGIN:VTIMEZONE
TZID:America/Chicago
BEGIN:DAYLIGHT
TZOFFSETFROM:-0600
TZOFFSETTO:-0500
TZNAME:CDT
DTSTART:20240310T080000
END:DAYLIGHT
BEGIN:STANDARD
TZOFFSETFROM:-0500
TZOFFSETTO:-0600
TZNAME:CST
DTSTART:20241103T070000
END:STANDARD
BEGIN:DAYLIGHT
TZOFFSETFROM:-0600
TZOFFSETTO:-0500
TZNAME:CDT
DTSTART:20250309T080000
END:DAYLIGHT
BEGIN:STANDARD
TZOFFSETFROM:-0500
TZOFFSETTO:-0600
TZNAME:CST
DTSTART:20251102T070000
END:STANDARD
BEGIN:DAYLIGHT
TZOFFSETFROM:-0600
TZOFFSETTO:-0500
TZNAME:CDT
DTSTART:20260308T080000
END:DAYLIGHT
BEGIN:STANDARD
TZOFFSETFROM:-0500
TZOFFSETTO:-0600
TZNAME:CST
DTSTART:20261101T070000
END:STANDARD
END:VTIMEZONE
BEGIN:VEVENT
DTSTART;TZID=America/Chicago:20250517T140000
DTEND;TZID=America/Chicago:20250517T150000
DTSTAMP:20260424T080114
CREATED:20250319T172938Z
LAST-MODIFIED:20251229T192213Z
UID:13154-1747490400-1747494000@www.midsummersmusic.com
SUMMARY:Griffon String Quartet Community Event • De Pere
DESCRIPTION:In association with Wisconsin Public Radio\, the Griffon String Quartet performs at Cocoon Brewing in De Pere.
URL:https://www.midsummersmusic.com/event/griffon-string-quartet-community-event-de-pere/
LOCATION:Cocoon Brewing\, 2233 Kaftan Way\, De Pere\, WI\, 54115
CATEGORIES:Community-Embedded,Griffon String Quartet
ATTACH;FMTTYPE=image/png:https://www.midsummersmusic.com/wp-content/uploads/2025/03/community-calendar-featured-image-scaled.png
END:VEVENT
BEGIN:VEVENT
DTSTART;TZID=America/Chicago:20250523T190000
DTEND;TZID=America/Chicago:20250523T210000
DTSTAMP:20260424T080114
CREATED:20250304T134730Z
LAST-MODIFIED:20251229T192135Z
UID:12934-1748026800-1748034000@www.midsummersmusic.com
SUMMARY:Griffon String Quartet Season Finale Concert • Egg Harbor
DESCRIPTION:Join us for a magnificent concert as the Griffon String Quartet’s 2023-2024 season comes to an end. \nWPR presents “Music Bingo” from 5:30 to 6:30\, prior to the Griffon String Quartet’s concert. It’s part bingo\, part classical music trivia and all fun! You could win WPR swag and more! It’s free to play\, but space is limited. Please register to let us know you’re coming. Click here for “Music Bingo” details! (Reserve concert tickets below.) \nString Quartet No. 3\, “Glitter\, Doom\, Shards\, Memory” by Schulamit Ran\nString Quartet No. 2\, Op. 26 by Erich Wolfgang Korngold\nPiano Quintet in G Minor\, Op. 57 by Dmitri Shostakovich \nRoy Meyer & Alex Norris\, Violins\nOryann Tsaig\, Viola\nJesse Nummelin\, Cello\nRie Tanaka\, Piano \nReserve Tickets
URL:https://www.midsummersmusic.com/event/griffon-string-quartet-season-finale-concert-egg-harbor/
LOCATION:Donald and Carol Kress Pavilion\, 7845 Church St.\, Egg Harbor\, WI\, 54209
CATEGORIES:Community-Embedded,Griffon String Quartet
ATTACH;FMTTYPE=image/png:https://www.midsummersmusic.com/wp-content/uploads/2025/03/griffon-may-concerts-calendar-featured-image-scaled.png
END:VEVENT
BEGIN:VEVENT
DTSTART;TZID=America/Chicago:20250524T190000
DTEND;TZID=America/Chicago:20250524T210000
DTSTAMP:20260424T080114
CREATED:20250304T134842Z
LAST-MODIFIED:20251229T192135Z
UID:12937-1748113200-1748120400@www.midsummersmusic.com
SUMMARY:Griffon String Quartet Season Finale Concert • Green Bay
DESCRIPTION:Join us for a magnificent concert as the Griffon String Quartet’s 2023-2024 season comes to an end. \nString Quartet No. 3\, “Glitter\, Doom\, Shards\, Memory” by Schulamit Ran\nString Quartet No. 2\, Op. 26 by Erich Wolfgang Korngold\nPiano Quintet in G Minor\, Op. 57 by Dmitri Shostakovich \nRoy Meyer & Alex Norris\, Violins\nOryann Tsaig\, Viola\nJesse Nummelin\, Cello\nRie Tanaka\, Piano \nReserve Tickets
URL:https://www.midsummersmusic.com/event/griffon-string-quartet-season-finale-concert-green-bay/
LOCATION:Art Garage\, 1429 Main St\, Green Bay\, WI\, 54302
CATEGORIES:Community-Embedded,Griffon String Quartet
ATTACH;FMTTYPE=image/png:https://www.midsummersmusic.com/wp-content/uploads/2025/03/griffon-may-concerts-calendar-featured-image-scaled.png
END:VEVENT
BEGIN:VEVENT
DTSTART;TZID=America/Chicago:20250525T170000
DTEND;TZID=America/Chicago:20250525T190000
DTSTAMP:20260424T080114
CREATED:20250304T135010Z
LAST-MODIFIED:20251229T192135Z
UID:12939-1748192400-1748199600@www.midsummersmusic.com
SUMMARY:Griffon String Quartet Season Finale Concert • Sturgeon Bay
DESCRIPTION:Join us for a magnificent concert as the Griffon String Quartet’s 2023-2024 season comes to an end. \nString Quartet No. 3\, “Glitter\, Doom\, Shards\, Memory” by Schulamit Ran\nString Quartet No. 2\, Op. 26 by Erich Wolfgang Korngold\nPiano Quintet in G Minor\, Op. 57 by Dmitri Shostakovich \nRoy Meyer & Alex Norris\, Violins\nOryann Tsaig\, Viola\nJesse Nummelin\, Cello\nRie Tanaka\, Piano \nReserve Tickets
URL:https://www.midsummersmusic.com/event/griffon-string-quartet-season-finale-concert-sturgeon-bay/
LOCATION:Hope United Church of Christ\, 141 S 12th Ave.\, Sturgeon Bay\, WI\, 54235\, United States
CATEGORIES:Community-Embedded,Griffon String Quartet
ATTACH;FMTTYPE=image/png:https://www.midsummersmusic.com/wp-content/uploads/2025/03/griffon-may-concerts-calendar-featured-image-scaled.png
END:VEVENT
END:VCALENDAR