BEGIN:VCALENDAR
VERSION:2.0
PRODID:-//Midsummer&#039;s Music and its affiliate, the Griffon String Quartet - ECPv6.15.20//NONSGML v1.0//EN
CALSCALE:GREGORIAN
METHOD:PUBLISH
X-ORIGINAL-URL:https://www.midsummersmusic.com
X-WR-CALDESC:Events for Midsummer&#039;s Music and its affiliate, the Griffon String Quartet
REFRESH-INTERVAL;VALUE=DURATION:PT1H
X-Robots-Tag:noindex
X-PUBLISHED-TTL:PT1H
BEGIN:VTIMEZONE
TZID:America/Chicago
BEGIN:DAYLIGHT
TZOFFSETFROM:-0600
TZOFFSETTO:-0500
TZNAME:CDT
DTSTART:20240310T080000
END:DAYLIGHT
BEGIN:STANDARD
TZOFFSETFROM:-0500
TZOFFSETTO:-0600
TZNAME:CST
DTSTART:20241103T070000
END:STANDARD
BEGIN:DAYLIGHT
TZOFFSETFROM:-0600
TZOFFSETTO:-0500
TZNAME:CDT
DTSTART:20250309T080000
END:DAYLIGHT
BEGIN:STANDARD
TZOFFSETFROM:-0500
TZOFFSETTO:-0600
TZNAME:CST
DTSTART:20251102T070000
END:STANDARD
BEGIN:DAYLIGHT
TZOFFSETFROM:-0600
TZOFFSETTO:-0500
TZNAME:CDT
DTSTART:20260308T080000
END:DAYLIGHT
BEGIN:STANDARD
TZOFFSETFROM:-0500
TZOFFSETTO:-0600
TZNAME:CST
DTSTART:20261101T070000
END:STANDARD
END:VTIMEZONE
BEGIN:VEVENT
DTSTART;TZID=America/Chicago:20250307T130000
DTEND;TZID=America/Chicago:20250307T140000
DTSTAMP:20260424T112248
CREATED:20250218T123334Z
LAST-MODIFIED:20251229T192509Z
UID:12904-1741352400-1741356000@www.midsummersmusic.com
SUMMARY:Griffon String Quartet Receives Grant • Fox 11\, Green Bay
DESCRIPTION:Executive Director Allyson Fleck receives a grant for the Griffon String Quartet from Doctors in Recital live on WLUK Fox 11 in Green Bay. Visit https://fox11online.com/ or tune in\, if you’re in northeast Wisconsin.
URL:https://www.midsummersmusic.com/event/griffon-string-quartet-receives-grant-fox-11-green-bay/
LOCATION:WI
CATEGORIES:Community-Embedded,Griffon String Quartet
END:VEVENT
BEGIN:VEVENT
DTSTART;TZID=America/Chicago:20250307T170000
DTEND;TZID=America/Chicago:20250307T190000
DTSTAMP:20260424T112248
CREATED:20241018T134336Z
LAST-MODIFIED:20251229T192503Z
UID:12502-1741366800-1741374000@www.midsummersmusic.com
SUMMARY:Griffon String Quartet Spring Concert • Sturgeon Bay
DESCRIPTION:Please note that this concert is at 5:00pm\, not at 7:00pm as published in a few places.\nThe Griffon String Quartet performs its spring 2025 concert. \nString Quartet in C Major\, Op. 74\, No. 1 • Franz Joseph Haydn\nString Quartet • Germaine Tailleferre\nString Quartet No. 0 in G Major\, Op. 25 • Erwin Schulhoff \nRoy Meyer & Alex Norris\, Violins\nOryann Tsaig\, Viola\nJesse Nummelin\, Cello \nAdmission is free. Donations will be accepted. \nPrograms are funded in part by grants from the Greater Green Bay Community Foundation\, Destination Door County\, the Wisconsin Arts Board\, and Wisconsin Public Service. \nReserve Tickets
URL:https://www.midsummersmusic.com/event/griffon-string-quartet-spring-concert-sturgeon-bay/
LOCATION:Hope United Church of Christ\, 141 S 12th Ave.\, Sturgeon Bay\, WI\, 54235\, United States
CATEGORIES:Community-Embedded,Griffon String Quartet
ATTACH;FMTTYPE=image/png:https://www.midsummersmusic.com/wp-content/uploads/2024/10/griffon-spring-concerts-calendar-featured-image-scaled.png
END:VEVENT
BEGIN:VEVENT
DTSTART;TZID=America/Chicago:20250308T150000
DTEND;TZID=America/Chicago:20250308T170000
DTSTAMP:20260424T112248
CREATED:20241018T140419Z
LAST-MODIFIED:20251229T192432Z
UID:12507-1741446000-1741453200@www.midsummersmusic.com
SUMMARY:Griffon String Quartet Spring Concert • Green Bay
DESCRIPTION:The Griffon String Quartet performs its spring 2025 concert. \nString Quartet in C Major\, Op. 74\, No. 1 • Franz Joseph Haydn\nString Quartet • Germaine Tailleferre\nString Quartet No. 0 in G Major\, Op. 25 • Erwin Schulhoff \nRoy Meyer & Alex Norris\, Violins\nOryann Tsaig\, Viola\nJesse Nummelin\, Cello \nAdmission is free. Donations will be accepted. \nPrograms are funded in part by grants from the Greater Green Bay Community Foundation\, Destination Door County\, the Wisconsin Arts Board\, and Wisconsin Public Service. \nReserve Tickets
URL:https://www.midsummersmusic.com/event/griffon-string-quartet-spring-concert-green-bay/
LOCATION:Green Bay Area Unitarian Universalist Fellowship\, 1313 Main St.\, Green Bay\, WI\, 54302
CATEGORIES:Community-Embedded,Griffon String Quartet
ATTACH;FMTTYPE=image/png:https://www.midsummersmusic.com/wp-content/uploads/2024/10/griffon-spring-concerts-calendar-featured-image-scaled.png
END:VEVENT
BEGIN:VEVENT
DTSTART;TZID=America/Chicago:20250309T150000
DTEND;TZID=America/Chicago:20250309T170000
DTSTAMP:20260424T112248
CREATED:20241018T140548Z
LAST-MODIFIED:20251229T192426Z
UID:12509-1741532400-1741539600@www.midsummersmusic.com
SUMMARY:Griffon String Quartet Spring Concert • Egg Harbor
DESCRIPTION:The Griffon String Quartet performs its spring 2025 concert. \nString Quartet in C Major\, Op. 74\, No. 1 • Franz Joseph Haydn\nString Quartet • Germaine Tailleferre\nString Quartet No. 0 in G Major\, Op. 25 • Erwin Schulhoff \nRoy Meyer & Alex Norris\, Violins\nOryann Tsaig\, Viola\nJesse Nummelin\, Cello \nAdmission is free. Donations will be accepted. \nPrograms are funded in part by grants from the Greater Green Bay Community Foundation\, Destination Door County\, the Wisconsin Arts Board\, and Wisconsin Public Service. \nReserve Tickets
URL:https://www.midsummersmusic.com/event/griffon-string-quartet-spring-concert-egg-harbor/
LOCATION:Donald and Carol Kress Pavilion\, 7845 Church St.\, Egg Harbor\, WI\, 54209
CATEGORIES:Community-Embedded,Griffon String Quartet
ATTACH;FMTTYPE=image/png:https://www.midsummersmusic.com/wp-content/uploads/2024/10/griffon-spring-concerts-calendar-featured-image-scaled.png
END:VEVENT
END:VCALENDAR