BEGIN:VCALENDAR
VERSION:2.0
PRODID:-//Midsummer&#039;s Music and its affiliate, the Griffon String Quartet - ECPv6.15.20//NONSGML v1.0//EN
CALSCALE:GREGORIAN
METHOD:PUBLISH
X-ORIGINAL-URL:https://www.midsummersmusic.com
X-WR-CALDESC:Events for Midsummer&#039;s Music and its affiliate, the Griffon String Quartet
REFRESH-INTERVAL;VALUE=DURATION:PT1H
X-Robots-Tag:noindex
X-PUBLISHED-TTL:PT1H
BEGIN:VTIMEZONE
TZID:America/Chicago
BEGIN:DAYLIGHT
TZOFFSETFROM:-0600
TZOFFSETTO:-0500
TZNAME:CDT
DTSTART:20230312T080000
END:DAYLIGHT
BEGIN:STANDARD
TZOFFSETFROM:-0500
TZOFFSETTO:-0600
TZNAME:CST
DTSTART:20231105T070000
END:STANDARD
BEGIN:DAYLIGHT
TZOFFSETFROM:-0600
TZOFFSETTO:-0500
TZNAME:CDT
DTSTART:20240310T080000
END:DAYLIGHT
BEGIN:STANDARD
TZOFFSETFROM:-0500
TZOFFSETTO:-0600
TZNAME:CST
DTSTART:20241103T070000
END:STANDARD
BEGIN:DAYLIGHT
TZOFFSETFROM:-0600
TZOFFSETTO:-0500
TZNAME:CDT
DTSTART:20250309T080000
END:DAYLIGHT
BEGIN:STANDARD
TZOFFSETFROM:-0500
TZOFFSETTO:-0600
TZNAME:CST
DTSTART:20251102T070000
END:STANDARD
END:VTIMEZONE
BEGIN:VEVENT
DTSTART;TZID=America/Chicago:20241110T100000
DTEND;TZID=America/Chicago:20241110T110000
DTSTAMP:20260424T175808
CREATED:20241024T143441Z
LAST-MODIFIED:20251229T193621Z
UID:12560-1731232800-1731236400@www.midsummersmusic.com
SUMMARY:Community Outreach • Green Bay
DESCRIPTION:Griffon String Quartet cellist Jesse Nummelin performs during the service at First Presbyterian Church in Green Bay.
URL:https://www.midsummersmusic.com/event/community-outreach-green-bay/
LOCATION:First Presbyterian Church of Green Bay\, 200 S Ashland Ave.\, Green Bay\, WI\, 54303\, United States
CATEGORIES:Community-Embedded,Griffon String Quartet
END:VEVENT
BEGIN:VEVENT
DTSTART;TZID=America/Chicago:20241110T173000
DTEND;TZID=America/Chicago:20241110T190000
DTSTAMP:20260424T175808
CREATED:20241024T143735Z
LAST-MODIFIED:20251229T193616Z
UID:12563-1731259800-1731265200@www.midsummersmusic.com
SUMMARY:Community Outreach • Sturgeon Bay
DESCRIPTION:The Griffon String Quartet performs at Prince of Peace Lutheran Church choir concert in Sturgeon Bay. \nRoy Meyer and Alex Norris\, violins\nOryann Tsaig\, viola\nJesse Nummelin\, cello
URL:https://www.midsummersmusic.com/event/community-outreach-sturgeon-bay/
LOCATION:Prince of Peace Church\, 1756 Michigan St\, Sturgeon Bay\, WI\, 54235\, United States
CATEGORIES:Community-Embedded,Griffon String Quartet
ATTACH;FMTTYPE=image/png:https://www.midsummersmusic.com/wp-content/uploads/2024/09/griffon-string-quartet-scaled.png
END:VEVENT
BEGIN:VEVENT
DTSTART;TZID=America/Chicago:20241124T130000
DTEND;TZID=America/Chicago:20241124T143000
DTSTAMP:20260424T175808
CREATED:20241024T143020Z
LAST-MODIFIED:20251229T193421Z
UID:12558-1732453200-1732458600@www.midsummersmusic.com
SUMMARY:Music for Food Concert • Stella Maris Catholic Church\, Fish Creek
DESCRIPTION:Music for Food is a musician-led initiative for local hunger relief. Music for Food concerts raise resources and awareness in the fight against hunger\, empowering any musicians who wish to use their artistry to further social justice. The concert is free and features Midsummer’s Music resident ensemble\, the Griffon String Quartet. The cost of admission is a food donation or funds to benefit the 24/7 Food Pantry\, a lifeline for those in need. Financial donations to the food pantry can be made to CARE 24/7 Stella Maris Food Pantry.\n \nRepertoire includes selections from …\nTBD \nRoy Meyer & Alex Norris\, Violins\nOryann Tsaig\, Viola\nJesse Nummelin\, Cello \nThis is not a ticketed event.
URL:https://www.midsummersmusic.com/event/music-for-food-concert-stella-maris-catholic-church-fish-creek-2/
LOCATION:Stella Maris Catholic Church Fish Creek\, 4012 WI-42\, Fish Creek\, WI\, 54212
CATEGORIES:Community-Embedded,Griffon String Quartet
ATTACH;FMTTYPE=image/jpeg:https://www.midsummersmusic.com/wp-content/uploads/2024/10/mff-logo3-980x520-1.jpg
END:VEVENT
END:VCALENDAR