BEGIN:VCALENDAR
VERSION:2.0
PRODID:-//Midsummer&#039;s Music and its affiliate, the Griffon String Quartet - ECPv6.15.20//NONSGML v1.0//EN
CALSCALE:GREGORIAN
METHOD:PUBLISH
X-ORIGINAL-URL:https://www.midsummersmusic.com
X-WR-CALDESC:Events for Midsummer&#039;s Music and its affiliate, the Griffon String Quartet
REFRESH-INTERVAL;VALUE=DURATION:PT1H
X-Robots-Tag:noindex
X-PUBLISHED-TTL:PT1H
BEGIN:VTIMEZONE
TZID:America/Chicago
BEGIN:DAYLIGHT
TZOFFSETFROM:-0600
TZOFFSETTO:-0500
TZNAME:CDT
DTSTART:20230312T080000
END:DAYLIGHT
BEGIN:STANDARD
TZOFFSETFROM:-0500
TZOFFSETTO:-0600
TZNAME:CST
DTSTART:20231105T070000
END:STANDARD
BEGIN:DAYLIGHT
TZOFFSETFROM:-0600
TZOFFSETTO:-0500
TZNAME:CDT
DTSTART:20240310T080000
END:DAYLIGHT
BEGIN:STANDARD
TZOFFSETFROM:-0500
TZOFFSETTO:-0600
TZNAME:CST
DTSTART:20241103T070000
END:STANDARD
BEGIN:DAYLIGHT
TZOFFSETFROM:-0600
TZOFFSETTO:-0500
TZNAME:CDT
DTSTART:20250309T080000
END:DAYLIGHT
BEGIN:STANDARD
TZOFFSETFROM:-0500
TZOFFSETTO:-0600
TZNAME:CST
DTSTART:20251102T070000
END:STANDARD
END:VTIMEZONE
BEGIN:VEVENT
DTSTART;TZID=America/Chicago:20240913T190000
DTEND;TZID=America/Chicago:20240913T210000
DTSTAMP:20260424T210541
CREATED:20240429T111531Z
LAST-MODIFIED:20251229T193807Z
UID:11677-1726254000-1726261200@www.midsummersmusic.com
SUMMARY:SOLD OUT – Eric Lewis and the Griffon String Quartet • Woodwalk Gallery\, Egg Harbor
DESCRIPTION:Under the Harvest Moon – SOLD OUT\nThe song selections for this concert will be autumn-themed\, along with pieces from the Beneath the Waves CD by Eric Lewis and the Griffon String Quartet. \nGriffon String Quartet student Milana Reifsnyder will perform. \nEric Lewis\, strings and vocals\nRoy Meyer & Alex Norris\, violins\nOryann Tsaig\, viola\nJesse Nummelin\, cello
URL:https://www.midsummersmusic.com/event/eric-lewis-and-the-griffon-string-quartet-woodwalk-gallery-egg-harbor/
LOCATION:Woodwalk Gallery\, 6746 County Rd. G\, Egg Harbor\, WI\, 54209
CATEGORIES:Community-Embedded,Griffon String Quartet
ATTACH;FMTTYPE=image/png:https://www.midsummersmusic.com/wp-content/uploads/2024/07/el-gsq-calendar-featured-image-scaled.png
END:VEVENT
BEGIN:VEVENT
DTSTART;TZID=America/Chicago:20240914T150000
DTEND;TZID=America/Chicago:20240914T163000
DTSTAMP:20260424T210541
CREATED:20240429T111655Z
LAST-MODIFIED:20251229T193801Z
UID:11679-1726326000-1726331400@www.midsummersmusic.com
SUMMARY:Eric Lewis and the Griffon String Quartet • Trueblood PAC\, Washington Island
DESCRIPTION:Under the Harvest Moon\nThe song selections for this concert will be autumn-themed\, along with pieces from the Beneath the Waves CD by Eric Lewis and the Griffon String Quartet \nEric Lewis\, strings and vocals\nRoy Meyer & Alex Norris\, violins\nOryann Tsaig\, viola\nJesse Nummelin\, cello \nWe recommend the 1:00 pm ferry at Northport. The ferry arrives at Washington Island at 1:30 pm. Julian at Trueblood is working with guests who want to walk on/off the ferry to get a shuttle; otherwise\, you will need to bring your own vehicle.
URL:https://www.midsummersmusic.com/event/eric-lewis-and-the-griffon-string-quartet-trueblood-pac-washington-island/
LOCATION:Trueblood Performing Arts Center\, 870 Main Rd.\, Washington Island\, WI\, 54246
CATEGORIES:Community-Embedded,Griffon String Quartet
ATTACH;FMTTYPE=image/png:https://www.midsummersmusic.com/wp-content/uploads/2024/07/el-gsq-calendar-featured-image-scaled.png
END:VEVENT
BEGIN:VEVENT
DTSTART;TZID=America/Chicago:20240915T190000
DTEND;TZID=America/Chicago:20240915T210000
DTSTAMP:20260424T210541
CREATED:20240520T144031Z
LAST-MODIFIED:20251229T193755Z
UID:11681-1726426800-1726434000@www.midsummersmusic.com
SUMMARY:Eric Lewis and the Griffon String Quartet • Tarlton Theatre\, Green Bay
DESCRIPTION:Under the Harvest Moon\nThe song selections for this concert will be autumn-themed\, along with pieces from the Beneath the Waves CD by Eric Lewis and the Griffon String Quartet. \nSpecial Guest: Look Squirrel – Look Squirrel is a musical duo from Green Bay\, WI\, featuring Emma Utrie on violin and Nick Utrie on guitar. They deliver all the foot-stompin’ fun and toe-tapping energy you crave from classical bluegrass music\, but they don’t stop there. Their sound is infused with unexpected twists\, weaving elements of traditional music\, classical\, and jazz standards. Get ready for a live performance that bursts with bluegrass spirit. \nGriffon String Quartet student Charlotte Kumpala will perform Millionaire’s Hoedown.\nEric Lewis\, strings and vocals\nRoy Meyer & Alex Norris\, violins\nOryann Tsaig\, viola\nJesse Nummelin\, cello \nDonations will be accepted—$40 suggested adult; $20 suggested student.
URL:https://www.midsummersmusic.com/event/eric-lewis-and-the-griffon-string-quartet-tarlton-theatre-green-bay/
LOCATION:Tarlton Theatre\, 405-409 West Walnut St.\, Green Bay\, WI\, 54303
CATEGORIES:Community-Embedded,Griffon String Quartet
ATTACH;FMTTYPE=image/png:https://www.midsummersmusic.com/wp-content/uploads/2024/07/el-gsq-calendar-featured-image-scaled.png
END:VEVENT
END:VCALENDAR