BEGIN:VCALENDAR
VERSION:2.0
PRODID:-//Midsummer&#039;s Music and its affiliate, the Griffon String Quartet - ECPv6.15.20//NONSGML v1.0//EN
CALSCALE:GREGORIAN
METHOD:PUBLISH
X-ORIGINAL-URL:https://www.midsummersmusic.com
X-WR-CALDESC:Events for Midsummer&#039;s Music and its affiliate, the Griffon String Quartet
REFRESH-INTERVAL;VALUE=DURATION:PT1H
X-Robots-Tag:noindex
X-PUBLISHED-TTL:PT1H
BEGIN:VTIMEZONE
TZID:America/Chicago
BEGIN:DAYLIGHT
TZOFFSETFROM:-0600
TZOFFSETTO:-0500
TZNAME:CDT
DTSTART:20220313T080000
END:DAYLIGHT
BEGIN:STANDARD
TZOFFSETFROM:-0500
TZOFFSETTO:-0600
TZNAME:CST
DTSTART:20221106T070000
END:STANDARD
BEGIN:DAYLIGHT
TZOFFSETFROM:-0600
TZOFFSETTO:-0500
TZNAME:CDT
DTSTART:20230312T080000
END:DAYLIGHT
BEGIN:STANDARD
TZOFFSETFROM:-0500
TZOFFSETTO:-0600
TZNAME:CST
DTSTART:20231105T070000
END:STANDARD
BEGIN:DAYLIGHT
TZOFFSETFROM:-0600
TZOFFSETTO:-0500
TZNAME:CDT
DTSTART:20240310T080000
END:DAYLIGHT
BEGIN:STANDARD
TZOFFSETFROM:-0500
TZOFFSETTO:-0600
TZNAME:CST
DTSTART:20241103T070000
END:STANDARD
END:VTIMEZONE
BEGIN:VEVENT
DTSTART;TZID=America/Chicago:20231203T150000
DTEND;TZID=America/Chicago:20231203T160000
DTSTAMP:20260425T114410
CREATED:20231116T115443Z
LAST-MODIFIED:20251229T194512Z
UID:11100-1701615600-1701619200@www.midsummersmusic.com
SUMMARY:Jesse Nummelin • Christ the King Episcopal Church\, Sturgeon Bay
DESCRIPTION:Griffon cellist Jesse Nummelin performs for an Advent service at Christ the King Episcopal Church in Sturgeon Bay.
URL:https://www.midsummersmusic.com/event/jesse-nummelin-christ-king/
LOCATION:Christ the King Episcopal Church\, 512 Michigan St.\, Sturgeon Bay\, WI\, 54235
CATEGORIES:Community-Embedded,Griffon String Quartet
END:VEVENT
BEGIN:VEVENT
DTSTART;VALUE=DATE:20231207
DTEND;VALUE=DATE:20231213
DTSTAMP:20260425T114410
CREATED:20231019T163333Z
LAST-MODIFIED:20251229T194512Z
UID:10907-1701907200-1702425599@www.midsummersmusic.com
SUMMARY:Griffon String Quartet Pop-up Caroling
DESCRIPTION:The Griffon String Quartet will present pop-up caroling in Door County and Green Bay\, primarily for businesses that support Midsummer’s Music and the Griffon String Quartet through donations or advertising in programs. \nTimes are approximate and subject to change. \nDecember 7: Sturgeon Bay\n9:30am • NEW Radio\n10:00am • Maritime Museum\n10:30am • Nicolet Bank (Fourth Ave.)\n11:00am • Door County Community Foundation\n11:30am – 1:00pm • Sturgeon Bay Yacht Club (private event)\n1:30-2:00pm • Cherry Cove Assisted Living & Memory Care\n2:15pm • Aging & Disability Resource Center\n2:45pm • YMCA\n3:15pm • Door County Medical Center\n3:45pm • Young Automotive\n4:15pm • Boys & Girls Club \nDecember 8: Northern Door\n9:00am • Northern Door YMCA\n9:30am • White Gull Inn\n10:30am • Kress Pavilion Library\n11:00am • Main Street Market\n12:30pm • Sunshine Resources (Sturgeon Bay)\n2:00pm • Eagle Harbor Inn\n2:30pm • Nicolet Bank (Sister Bay)\n3:00pm • Piggly Wiggly\n3:30pm • Kerber Rose and Midsummer’s Music \nDecember 12: Green Bay\n10:00am • Wisconsin Public Radio\nMore to be scheduled \nIf your business would like to be visited\, please call 920-854-7088. \nPrograms are funded in part by grants from Bader Philanthropies\, the Door County Community Foundation\, the National Endowment for the Arts\, and the Wisconsin Arts Board. Programs in Green Bay are funded in part by grants from the Green Bay Packers Foundation and the Greater Green Bay Community Foundation.
URL:https://www.midsummersmusic.com/event/griffon-string-quartet-pop-up/
LOCATION:WI
CATEGORIES:Community-Embedded,Griffon String Quartet
END:VEVENT
BEGIN:VEVENT
DTSTART;TZID=America/Chicago:20231207T190000
DTEND;TZID=America/Chicago:20231207T200000
DTSTAMP:20260425T114410
CREATED:20231107T125250Z
LAST-MODIFIED:20251229T194512Z
UID:11020-1701975600-1701979200@www.midsummersmusic.com
SUMMARY:Griffon String Quartet Outreach • Sturgeon Bay
DESCRIPTION:The Griffon String Quartet performs for Cherry Cove Assisted Living & Memory Care clients. \nPrograms are funded in part by grants from Bader Philanthropies\, the Door County Community Foundation\, the National Endowment for the Arts\, and the Wisconsin Arts Board. Programs in Green Bay are funded in part by grants from the Green Bay Packers Foundation and the Greater Green Bay Community Foundation.
URL:https://www.midsummersmusic.com/event/griffon-string-quartet-outreach-9/
LOCATION:Cherry Cove Assisted Living & Memory Care\, 1704 Georgia St.\, Sturgeon Bay\, WI\, 54235
CATEGORIES:Community-Embedded,Griffon String Quartet
END:VEVENT
BEGIN:VEVENT
DTSTART;TZID=America/Chicago:20231207T190000
DTEND;TZID=America/Chicago:20231207T210000
DTSTAMP:20260425T114410
CREATED:20231019T183309Z
LAST-MODIFIED:20251229T194512Z
UID:10917-1701975600-1701982800@www.midsummersmusic.com
SUMMARY:Griffon Outreach • Brussels
DESCRIPTION:The Griffon String Quartet participates in the Winter Choir Concert at Southern Door High School.
URL:https://www.midsummersmusic.com/event/griffon-outreach-sturgeon-7/
LOCATION:Southern Door High School\, 2073 County Rd. DK\, Brussels\, WI\, 54204
CATEGORIES:Community-Embedded,Griffon String Quartet
END:VEVENT
BEGIN:VEVENT
DTSTART;TZID=America/Chicago:20231214T073000
DTEND;TZID=America/Chicago:20231214T083000
DTSTAMP:20260425T114410
CREATED:20231023T151648Z
LAST-MODIFIED:20251229T194512Z
UID:10960-1702539000-1702542600@www.midsummersmusic.com
SUMMARY:Griffon String Quartet Outreach • Green Bay
DESCRIPTION:The Griffon String Quartet works with students at Preble High School. \nThis is not a public event. \nPrograms are funded in part by grants from Bader Philanthropies\, the Door County Community Foundation\, the National Endowment for the Arts\, and the Wisconsin Arts Board. Programs in Green Bay are funded in part by grants from the Green Bay Packers Foundation and the Greater Green Bay Community Foundation.
URL:https://www.midsummersmusic.com/event/griffon-string-quartet-outreach-8/
LOCATION:Preble High School\, 2222 Deckner Ave.\, Green Bay\, WI\, 54302
CATEGORIES:Community-Embedded,Griffon String Quartet
END:VEVENT
BEGIN:VEVENT
DTSTART;TZID=America/Chicago:20231214T170000
DTEND;TZID=America/Chicago:20231214T190000
DTSTAMP:20260425T114410
CREATED:20231101T162835Z
LAST-MODIFIED:20251229T194512Z
UID:10991-1702573200-1702580400@www.midsummersmusic.com
SUMMARY:Griffon String Quartet Holiday Concert • Green Bay
DESCRIPTION:Program: \nHoliday Selections\nString Quartet No. 16 in F Major\, Op. 135 • Ludwig van Beethoven\nString Quartet No. 13 in G Major\, Op. 106 • Antonín Dvořák \nRoy Meyer & Alex Norris\, Violins\nOryann Tsaig\, Viola\nJesse Nummelin\, Cello \nTickets for this concert are free but can be reserved by clicking the “Buy Tickets Online” link or by calling 920-854-7088 during business hours. We ask that you pay what you can. \nPrograms are funded in part by grants from Bader Philanthropies\, the Door County Community Foundation\, the National Endowment for the Arts\, and the Wisconsin Arts Board. Programs in Green Bay are funded in part by grants from the Green Bay Packers Foundation and the Greater Green Bay Community Foundation.
URL:https://www.midsummersmusic.com/event/griffon-string-quartet-holiday-7/
LOCATION:Art Garage\, 1429 Main St\, Green Bay\, WI\, 54302
CATEGORIES:Community-Embedded,Griffon String Quartet
ATTACH;FMTTYPE=image/png:https://www.midsummersmusic.com/wp-content/uploads/2023/07/griffon-holiday-concert-calendar-featured-image.png
END:VEVENT
BEGIN:VEVENT
DTSTART;TZID=America/Chicago:20231215T120000
DTEND;TZID=America/Chicago:20231215T130000
DTSTAMP:20260425T114410
CREATED:20231019T164012Z
LAST-MODIFIED:20251229T194512Z
UID:10910-1702641600-1702645200@www.midsummersmusic.com
SUMMARY:Griffon Extended Caroling • Sturgeon Bay
DESCRIPTION:The Griffon String Quartet brings its pop-up caroling program to the Door County Library in Sturgeon Bay. \nPrograms are funded in part by grants from Bader Philanthropies\, the Door County Community Foundation\, the National Endowment for the Arts\, and the Wisconsin Arts Board. Programs in Green Bay are funded in part by grants from the Green Bay Packers Foundation and the Greater Green Bay Community Foundation.
URL:https://www.midsummersmusic.com/event/griffon-outreach-sturgeon-6/
LOCATION:Door County Library\, Sturgeon Bay\, 107 S 4th Ave.\, Sturgeon Bay\, WI\, 54235
CATEGORIES:Community-Embedded,Griffon String Quartet
END:VEVENT
BEGIN:VEVENT
DTSTART;TZID=America/Chicago:20231215T170000
DTEND;TZID=America/Chicago:20231215T190000
DTSTAMP:20260425T114410
CREATED:20230713T161920Z
LAST-MODIFIED:20251229T194512Z
UID:10562-1702659600-1702666800@www.midsummersmusic.com
SUMMARY:Griffon String Quartet Holiday Concert • Sturgeon Bay
DESCRIPTION:Program: \nHoliday Selections\nString Quartet No. 16 in F Major\, Op. 135 • Ludwig van Beethoven\nString Quartet No. 13 in G Major\, Op. 106 • Antonín Dvořák \nRoy Meyer & Alex Norris\, Violins\nOryann Tsaig\, Viola\nJesse Nummelin\, Cello \nTickets for this concert are free but can be reserved by clicking the “Buy Tickets Online” link or by calling 920-854-7088 during business hours. We ask that you pay what you can. \nPrograms are funded in part by grants from Bader Philanthropies\, the Door County Community Foundation\, the National Endowment for the Arts\, and the Wisconsin Arts Board. Programs in Green Bay are funded in part by grants from the Green Bay Packers Foundation and the Greater Green Bay Community Foundation.
URL:https://www.midsummersmusic.com/event/griffon-string-quartet-holiday-4/
LOCATION:Hope United Church of Christ\, 141 S 12th Ave.\, Sturgeon Bay\, WI\, 54235\, United States
CATEGORIES:Community-Embedded,Griffon String Quartet
ATTACH;FMTTYPE=image/png:https://www.midsummersmusic.com/wp-content/uploads/2023/07/griffon-holiday-concert-calendar-featured-image.png
END:VEVENT
BEGIN:VEVENT
DTSTART;TZID=America/Chicago:20231216T150000
DTEND;TZID=America/Chicago:20231216T170000
DTSTAMP:20260425T114410
CREATED:20230715T110053Z
LAST-MODIFIED:20251229T194512Z
UID:10566-1702738800-1702746000@www.midsummersmusic.com
SUMMARY:Griffon String Quartet Holiday Concert • Brussels
DESCRIPTION:Program: \nHoliday Selections\nString Quartet No. 16 in F Major\, Op. 135 • Ludwig van Beethoven\nString Quartet No. 13 in G Major\, Op. 106 • Antonín Dvořák \nRoy Meyer & Alex Norris\, Violins\nOryann Tsaig\, Viola\nJesse Nummelin\, Cello \nTickets for this concert are free but can be reserved by clicking the “Buy Tickets Online” link or by calling 920-854-7088 during business hours. We ask that you pay what you can. \nPrograms are funded in part by grants from Bader Philanthropies\, the Door County Community Foundation\, the National Endowment for the Arts\, and the Wisconsin Arts Board. Programs in Green Bay are funded in part by grants from the Green Bay Packers Foundation and the Greater Green Bay Community Foundation.
URL:https://www.midsummersmusic.com/event/griffon-string-quartet-holiday-6/
LOCATION:Belgian Heritage Center\, 1255 County Rd. DK\, Brussels\, WI\, 54204
CATEGORIES:Community-Embedded,Griffon String Quartet
ATTACH;FMTTYPE=image/png:https://www.midsummersmusic.com/wp-content/uploads/2023/07/griffon-holiday-concert-calendar-featured-image.png
END:VEVENT
BEGIN:VEVENT
DTSTART;TZID=America/Chicago:20231217T150000
DTEND;TZID=America/Chicago:20231217T170000
DTSTAMP:20260425T114410
CREATED:20230713T162030Z
LAST-MODIFIED:20251229T194512Z
UID:10564-1702825200-1702832400@www.midsummersmusic.com
SUMMARY:Griffon String Quartet Holiday Concert • Egg Harbor
DESCRIPTION:Program: \nHoliday Selections\nString Quartet No. 16 in F Major\, Op. 135 • Ludwig van Beethoven\nString Quartet No. 13 in  G Major\, Op. 106 • Antonín Dvořák \nRoy Meyer & Alex Norris\, Violins\nOryann Tsaig\, Viola\nJesse Nummelin\, Cello \nTickets for this concert are free but can be reserved by clicking the “Buy Tickets Online” link or by calling 920-854-7088 during business hours. We ask that you pay what you can. \n\n\nPrograms are funded in part by grants from Bader Philanthropies\, the Door County Community Foundation\, the National Endowment for the Arts\, and the Wisconsin Arts Board. Programs in Green Bay are funded in part by grants from the Green Bay Packers Foundation and the Greater Green Bay Community Foundation.
URL:https://www.midsummersmusic.com/event/griffon-string-quartet-holiday-5/
LOCATION:Donald and Carol Kress Pavilion\, 7845 Church St.\, Egg Harbor\, WI\, 54209
CATEGORIES:Community-Embedded,Griffon String Quartet
ATTACH;FMTTYPE=image/png:https://www.midsummersmusic.com/wp-content/uploads/2023/07/griffon-holiday-concert-calendar-featured-image.png
END:VEVENT
END:VCALENDAR