BEGIN:VCALENDAR
VERSION:2.0
PRODID:-//Midsummer&#039;s Music and its affiliate, the Griffon String Quartet - ECPv6.15.20//NONSGML v1.0//EN
CALSCALE:GREGORIAN
METHOD:PUBLISH
X-ORIGINAL-URL:https://www.midsummersmusic.com
X-WR-CALDESC:Events for Midsummer&#039;s Music and its affiliate, the Griffon String Quartet
REFRESH-INTERVAL;VALUE=DURATION:PT1H
X-Robots-Tag:noindex
X-PUBLISHED-TTL:PT1H
BEGIN:VTIMEZONE
TZID:America/Chicago
BEGIN:DAYLIGHT
TZOFFSETFROM:-0600
TZOFFSETTO:-0500
TZNAME:CDT
DTSTART:20220313T080000
END:DAYLIGHT
BEGIN:STANDARD
TZOFFSETFROM:-0500
TZOFFSETTO:-0600
TZNAME:CST
DTSTART:20221106T070000
END:STANDARD
BEGIN:DAYLIGHT
TZOFFSETFROM:-0600
TZOFFSETTO:-0500
TZNAME:CDT
DTSTART:20230312T080000
END:DAYLIGHT
BEGIN:STANDARD
TZOFFSETFROM:-0500
TZOFFSETTO:-0600
TZNAME:CST
DTSTART:20231105T070000
END:STANDARD
BEGIN:DAYLIGHT
TZOFFSETFROM:-0600
TZOFFSETTO:-0500
TZNAME:CDT
DTSTART:20240310T080000
END:DAYLIGHT
BEGIN:STANDARD
TZOFFSETFROM:-0500
TZOFFSETTO:-0600
TZNAME:CST
DTSTART:20241103T070000
END:STANDARD
END:VTIMEZONE
BEGIN:VEVENT
DTSTART;TZID=America/Chicago:20231014T190000
DTEND;TZID=America/Chicago:20231014T210000
DTSTAMP:20260425T153826
CREATED:20230905T050144Z
LAST-MODIFIED:20251229T194600Z
UID:10554-1697310000-1697317200@www.midsummersmusic.com
SUMMARY:Autumn Music Fest: Griffon String Quartet
DESCRIPTION:Discover the enchanting power of intimate musical storytelling. Join us! \nString Quartet D Minor\, No. 15\, K. 421 by Wolfgang Amadeus Mozart\nString Quartet No. 3  by Elizabeth Maconchy\nString Quartet in F Major by Maurice Ravel \nGriffon String Quartet\nRoy Meyer and Alex Norris\, Violins\nMadlen Breckbill\, Viola\nJesse Nummelin\, Cello \nClick the Buy Tickets Online button to reserve tickets. Donations will be accepted. \n\nDoors open for seating 30 minutes prior to the concert.
URL:https://www.midsummersmusic.com/event/fall-festival-griffon-string/
LOCATION:Hope United Church of Christ\, 141 S 12th Ave.\, Sturgeon Bay\, WI\, 54235\, United States
CATEGORIES:Community-Embedded,Griffon String Quartet
ATTACH;FMTTYPE=image/png:https://www.midsummersmusic.com/wp-content/uploads/2023/09/autumn-music-fest.png
END:VEVENT
BEGIN:VEVENT
DTSTART;TZID=America/Chicago:20231015T150000
DTEND;TZID=America/Chicago:20231015T170000
DTSTAMP:20260425T153826
CREATED:20230905T050142Z
LAST-MODIFIED:20251229T194554Z
UID:10556-1697382000-1697389200@www.midsummersmusic.com
SUMMARY:Autumn Music Fest: Griffon String Quartet
DESCRIPTION:Discover the enchanting power of intimate musical storytelling. Join us! \nString Quartet D Minor\, No. 15\, K. 421 by Wolfgang Amadeus Mozart\nString Quartet No. 3  by Elizabeth Maconchy\nString Quartet in F Major by Maurice Ravel \nGriffon String Quartet\nRoy Meyer and Alex Norris\, Violins\nMadlen Breckbill\, Viola\nJesse Nummelin\, Cello \nClick the Buy Tickets Online button to reserve tickets. Donations will be accepted. \n\nDoors open for seating 30 minutes prior to the concert.
URL:https://www.midsummersmusic.com/event/fall-festival-griffon-string-2/
LOCATION:Donald and Carol Kress Pavilion\, 7845 Church St.\, Egg Harbor\, WI\, 54209
CATEGORIES:Community-Embedded,Griffon String Quartet
ATTACH;FMTTYPE=image/png:https://www.midsummersmusic.com/wp-content/uploads/2023/09/autumn-music-fest.png
END:VEVENT
BEGIN:VEVENT
DTSTART;TZID=America/Chicago:20231030T193000
DTEND;TZID=America/Chicago:20231030T213000
DTSTAMP:20260425T153826
CREATED:20231023T151233Z
LAST-MODIFIED:20251229T194513Z
UID:10957-1698694200-1698701400@www.midsummersmusic.com
SUMMARY:Griffon String Quartet Concert • Stoughton
DESCRIPTION:The Griffon String Quartet performs at the Stoughton Opera House in Stoughton\, WI. \nRoy Meyer & Alex Norris\, Violins\nMadlen Breckbill\,  Viola\nJesse Nummelin\, Cello
URL:https://www.midsummersmusic.com/event/griffon-string-quartet-concert-14/
LOCATION:Stoughton Opera House\, 381 E Main St.\, Stoughton\, WI\, 53589
CATEGORIES:Community-Embedded,Griffon String Quartet
END:VEVENT
END:VCALENDAR