BEGIN:VCALENDAR
VERSION:2.0
PRODID:-//Midsummer&#039;s Music and its affiliate, the Griffon String Quartet - ECPv6.15.20//NONSGML v1.0//EN
CALSCALE:GREGORIAN
METHOD:PUBLISH
X-WR-CALNAME:Midsummer&#039;s Music and its affiliate, the Griffon String Quartet
X-ORIGINAL-URL:https://www.midsummersmusic.com
X-WR-CALDESC:Events for Midsummer&#039;s Music and its affiliate, the Griffon String Quartet
REFRESH-INTERVAL;VALUE=DURATION:PT1H
X-Robots-Tag:noindex
X-PUBLISHED-TTL:PT1H
BEGIN:VTIMEZONE
TZID:America/Chicago
BEGIN:DAYLIGHT
TZOFFSETFROM:-0600
TZOFFSETTO:-0500
TZNAME:CDT
DTSTART:20250309T080000
END:DAYLIGHT
BEGIN:STANDARD
TZOFFSETFROM:-0500
TZOFFSETTO:-0600
TZNAME:CST
DTSTART:20251102T070000
END:STANDARD
BEGIN:DAYLIGHT
TZOFFSETFROM:-0600
TZOFFSETTO:-0500
TZNAME:CDT
DTSTART:20260308T080000
END:DAYLIGHT
BEGIN:STANDARD
TZOFFSETFROM:-0500
TZOFFSETTO:-0600
TZNAME:CST
DTSTART:20261101T070000
END:STANDARD
BEGIN:DAYLIGHT
TZOFFSETFROM:-0600
TZOFFSETTO:-0500
TZNAME:CDT
DTSTART:20270314T080000
END:DAYLIGHT
BEGIN:STANDARD
TZOFFSETFROM:-0500
TZOFFSETTO:-0600
TZNAME:CST
DTSTART:20271107T070000
END:STANDARD
END:VTIMEZONE
BEGIN:VEVENT
DTSTART;TZID=America/Chicago:20260514T120000
DTEND;TZID=America/Chicago:20260514T130000
DTSTAMP:20260423T111255
CREATED:20260115T163516Z
LAST-MODIFIED:20260115T163516Z
UID:14478-1778760000-1778763600@www.midsummersmusic.com
SUMMARY:Gather with the Griffon • Sturgeon Bay
DESCRIPTION:Take a break from your day and Gather with the Griffon—a refreshing series of midday B Double Sharp miniconcerts that nourish both mind and spirit. Featuring selections from the Griffon String Quartet’s current concerts\, these intimate performances blend inspiring music with engaging conversation in a relaxed\, welcoming setting. Performed by Roy Meyer and Alex Norris (violins)\, Oryann Tsaig (viola)\, and Jesse Nummelin (cello)\, each program invites you to pause\, listen\, and connect. \nAdmission is free—no tickets required. \nGenerously supported by local arts champions\, these concerts are made possible by the Wisconsin Arts Board\, the National Endowment for the Arts\, Kopseker Trust of the Greater Green Bay Community Foundation\, and Doctors in Recital.
URL:https://www.midsummersmusic.com/event/gather-with-the-griffon-sturgeon-bay-5/
LOCATION:MUSE Sturgeon Bay\, 330 Jefferson St.\, Sturgeon Bay\, WI\, 54235
CATEGORIES:B Double Sharp,Griffon String Quartet
ATTACH;FMTTYPE=image/png:https://www.midsummersmusic.com/wp-content/uploads/2024/10/b-double-sharp-calendar-featured-image-scaled.png
ORGANIZER;CN="Midsummer's Music":MAILTO:office@midsummersmusic.com
END:VEVENT
BEGIN:VEVENT
DTSTART;TZID=America/Chicago:20260521T120000
DTEND;TZID=America/Chicago:20260521T130000
DTSTAMP:20260423T111255
CREATED:20260115T163739Z
LAST-MODIFIED:20260115T163739Z
UID:14480-1779364800-1779368400@www.midsummersmusic.com
SUMMARY:Gather with the Griffon • Green Bay
DESCRIPTION:Take a break from your day and Gather with the Griffon—a refreshing series of midday B Double Sharp miniconcerts that nourish both mind and spirit. Featuring selections from the Griffon String Quartet’s current concerts\, these intimate performances blend inspiring music with engaging conversation in a relaxed\, welcoming setting. Performed by Roy Meyer and Alex Norris (violins)\, Oryann Tsaig (viola)\, and Jesse Nummelin (cello)\, each program invites you to pause\, listen\, and connect. \nAdmission is free—no tickets required. \nGenerously supported by local arts champions\, these concerts are made possible by the Wisconsin Arts Board\, the National Endowment for the Arts\, Kopseker Trust of the Greater Green Bay Community Foundation\, and Doctors in Recital.
URL:https://www.midsummersmusic.com/event/gather-with-the-griffon-green-bay-17/
LOCATION:First Presbyterian Church of Green Bay\, 200 S Ashland Ave.\, Green Bay\, WI\, 54303\, United States
CATEGORIES:B Double Sharp,Griffon String Quartet
ATTACH;FMTTYPE=image/png:https://www.midsummersmusic.com/wp-content/uploads/2024/10/b-double-sharp-calendar-featured-image-scaled.png
ORGANIZER;CN="Midsummer's Music":MAILTO:office@midsummersmusic.com
END:VEVENT
BEGIN:VEVENT
DTSTART;TZID=America/Chicago:20260526T143000
DTEND;TZID=America/Chicago:20260526T163000
DTSTAMP:20260423T111255
CREATED:20251111T170653Z
LAST-MODIFIED:20251111T170653Z
UID:14200-1779805800-1779813000@www.midsummersmusic.com
SUMMARY:Griffon String Quartet • Fond du Lac
DESCRIPTION:The soothing sounds of the Griffon String Quartet will fill the halls of the St. Francis Home in Fond du Lac\, bringing warmth and joy to residents gathered for an afternoon of music and connection. The quartet’s rich harmonies and graceful melodies will light up faces with smiles\, and memories will be stirred by familiar tunes. The performance will offer not only artistic beauty but also a heartfelt reminder of the power of music to uplift spirits\, bridge generations\, and create moments of shared peace within the community.
URL:https://www.midsummersmusic.com/event/griffon-string-quartet-fond-du-lac/
LOCATION:St. Francis Home\, 33 Everett St.\, Fond du Lac\, WI\, 54935
CATEGORIES:B Double Sharp,Griffon String Quartet
ATTACH;FMTTYPE=image/png:https://www.midsummersmusic.com/wp-content/uploads/2024/10/b-double-sharp-calendar-featured-image-scaled.png
END:VEVENT
END:VCALENDAR