BEGIN:VCALENDAR
VERSION:2.0
PRODID:-//Midsummer&#039;s Music and its affiliate, the Griffon String Quartet - ECPv6.15.20//NONSGML v1.0//EN
CALSCALE:GREGORIAN
METHOD:PUBLISH
X-ORIGINAL-URL:https://www.midsummersmusic.com
X-WR-CALDESC:Events for Midsummer&#039;s Music and its affiliate, the Griffon String Quartet
REFRESH-INTERVAL;VALUE=DURATION:PT1H
X-Robots-Tag:noindex
X-PUBLISHED-TTL:PT1H
BEGIN:VTIMEZONE
TZID:America/Chicago
BEGIN:DAYLIGHT
TZOFFSETFROM:-0600
TZOFFSETTO:-0500
TZNAME:CDT
DTSTART:20240310T080000
END:DAYLIGHT
BEGIN:STANDARD
TZOFFSETFROM:-0500
TZOFFSETTO:-0600
TZNAME:CST
DTSTART:20241103T070000
END:STANDARD
BEGIN:DAYLIGHT
TZOFFSETFROM:-0600
TZOFFSETTO:-0500
TZNAME:CDT
DTSTART:20250309T080000
END:DAYLIGHT
BEGIN:STANDARD
TZOFFSETFROM:-0500
TZOFFSETTO:-0600
TZNAME:CST
DTSTART:20251102T070000
END:STANDARD
BEGIN:DAYLIGHT
TZOFFSETFROM:-0600
TZOFFSETTO:-0500
TZNAME:CDT
DTSTART:20260308T080000
END:DAYLIGHT
BEGIN:STANDARD
TZOFFSETFROM:-0500
TZOFFSETTO:-0600
TZNAME:CST
DTSTART:20261101T070000
END:STANDARD
END:VTIMEZONE
BEGIN:VEVENT
DTSTART;TZID=America/Chicago:20251210T150000
DTEND;TZID=America/Chicago:20251210T163000
DTSTAMP:20260423T202651
CREATED:20251003T141600Z
LAST-MODIFIED:20251229T191328Z
UID:13955-1765378800-1765384200@www.midsummersmusic.com
SUMMARY:Griffon B Double Sharp Outreach • ADRC\, Green Bay
DESCRIPTION:The Griffon String Quartet brings the joy of live music to clients at the Aging & Disability Resource Center in Green Bay\, offering a moving and uplifting performance designed to connect\, comfort\, and inspire. With a deep belief in the power of music to enrich lives\, the Quartet creates meaningful moments of beauty and community for audiences who might otherwise have limited access to the arts. \nThese programs are made possible in part through the generous support of Little Eddie Big Cup\, the Greater Green Bay Community Foundation\, the Wisconsin Arts Board\, Wisconsin Public Service\, Destination Door County\, and Doctors in Recital\, whose commitment helps ensure that music continues to reach and uplift people of all ages and abilities.
URL:https://www.midsummersmusic.com/event/griffon-b-double-sharp-outreach-adrc-green-bay/
LOCATION:Aging and Disability Resource Center Green Bay\, 300 S. Adams St.\, Green Bay\, WI\, 54301
CATEGORIES:B Double Sharp,Griffon String Quartet
ATTACH;FMTTYPE=image/png:https://www.midsummersmusic.com/wp-content/uploads/2024/10/b-double-sharp-calendar-featured-image-scaled.png
END:VEVENT
BEGIN:VEVENT
DTSTART;TZID=America/Chicago:20251218T120000
DTEND;TZID=America/Chicago:20251218T130000
DTSTAMP:20260423T202651
CREATED:20250910T111923Z
LAST-MODIFIED:20251229T191230Z
UID:13857-1766059200-1766062800@www.midsummersmusic.com
SUMMARY:Gather with the Griffon • Green Bay
DESCRIPTION:Take a break from your day and Gather with the Griffon—a refreshing series of midday B Double Sharp miniconcerts that nourish both mind and spirit. Featuring selections from the Griffon String Quartet’s December concerts\, these intimate performances blend inspiring music with engaging conversation in a relaxed\, welcoming setting. Performed by Roy Meyer and Alex Norris (violins)\, Oryann Tsaig (viola)\, and Jesse Nummelin (cello)\, each program invites you to pause\, listen\, and connect. Admission is free—no tickets required. Generously supported by local arts champions\, these concerts are made possible by the Little Eddie Big Cup\, Greater Green Bay Community Foundation\, Wisconsin Arts Board\, Wisconsin Public Service\, Destination Door County\, and Doctors in Recital.
URL:https://www.midsummersmusic.com/event/gather-with-the-griffon-green-bay-13/
LOCATION:WI
CATEGORIES:B Double Sharp,Griffon String Quartet
ATTACH;FMTTYPE=image/png:https://www.midsummersmusic.com/wp-content/uploads/2024/10/b-double-sharp-calendar-featured-image-scaled.png
END:VEVENT
END:VCALENDAR