BEGIN:VCALENDAR
VERSION:2.0
PRODID:-//Midsummer&#039;s Music and its affiliate, the Griffon String Quartet - ECPv6.15.20//NONSGML v1.0//EN
CALSCALE:GREGORIAN
METHOD:PUBLISH
X-ORIGINAL-URL:https://www.midsummersmusic.com
X-WR-CALDESC:Events for Midsummer&#039;s Music and its affiliate, the Griffon String Quartet
REFRESH-INTERVAL;VALUE=DURATION:PT1H
X-Robots-Tag:noindex
X-PUBLISHED-TTL:PT1H
BEGIN:VTIMEZONE
TZID:America/Chicago
BEGIN:DAYLIGHT
TZOFFSETFROM:-0600
TZOFFSETTO:-0500
TZNAME:CDT
DTSTART:20240310T080000
END:DAYLIGHT
BEGIN:STANDARD
TZOFFSETFROM:-0500
TZOFFSETTO:-0600
TZNAME:CST
DTSTART:20241103T070000
END:STANDARD
BEGIN:DAYLIGHT
TZOFFSETFROM:-0600
TZOFFSETTO:-0500
TZNAME:CDT
DTSTART:20250309T080000
END:DAYLIGHT
BEGIN:STANDARD
TZOFFSETFROM:-0500
TZOFFSETTO:-0600
TZNAME:CST
DTSTART:20251102T070000
END:STANDARD
BEGIN:DAYLIGHT
TZOFFSETFROM:-0600
TZOFFSETTO:-0500
TZNAME:CDT
DTSTART:20260308T080000
END:DAYLIGHT
BEGIN:STANDARD
TZOFFSETFROM:-0500
TZOFFSETTO:-0600
TZNAME:CST
DTSTART:20261101T070000
END:STANDARD
END:VTIMEZONE
BEGIN:VEVENT
DTSTART;TZID=America/Chicago:20250220T120000
DTEND;TZID=America/Chicago:20250220T130000
DTSTAMP:20260424T122403
CREATED:20240917T123441Z
LAST-MODIFIED:20251229T192902Z
UID:12301-1740052800-1740056400@www.midsummersmusic.com
SUMMARY:Gather with the Griffon • Green Bay
DESCRIPTION:“Gather with the Griffon” miniconcerts are designed for midday audiences. B Double Sharp programs engage the mind and spirit through music and conversation. \nProgram: Selections from the Griffon’s February concerts. \nRoy Meyer and Alex Norris\, Violins\nOryann Tsaig\, Viola\nJesse Nummelin\, Cello\nThis is not a ticketed event. \nPrograms are funded in part by grants from the Little Eddie Big Cup\, Greater Green Bay Community Foundation\, Wisconsin Arts Board\, Wisconsin Public Service\, and Destination Door County.
URL:https://www.midsummersmusic.com/event/gather-with-the-griffon-green-bay-6/
LOCATION:First Presbyterian Church of Green Bay\, 200 S Ashland Ave.\, Green Bay\, WI\, 54303\, United States
CATEGORIES:B Double Sharp,Griffon String Quartet
ATTACH;FMTTYPE=image/png:https://www.midsummersmusic.com/wp-content/uploads/2024/09/gwtg-calendar-featured-image-scaled.png
END:VEVENT
BEGIN:VEVENT
DTSTART;TZID=America/Chicago:20250225T130000
DTEND;TZID=America/Chicago:20250225T140000
DTSTAMP:20260424T122403
CREATED:20241018T114618Z
LAST-MODIFIED:20251229T192902Z
UID:12499-1740488400-1740492000@www.midsummersmusic.com
SUMMARY:Gather with the Griffon • Sturgeon Bay
DESCRIPTION:“Gather with the Griffon” miniconcerts are designed for midday audiences. B Double Sharp programs engage the mind and spirit through music and conversation. \nProgram: Selections from the Griffon’s February events. \nRoy Meyer and Alex Norris\, Violins\nOryann Tsaig\, Viola\nJesse Nummelin\, Cello\nThis is not a ticketed event. \nPrograms are funded in part by grants from the Little Eddie Big Cup\, Greater Green Bay Community Foundation\, Wisconsin Arts Board\, Wisconsin Public Service\, and Destination Door County.
URL:https://www.midsummersmusic.com/event/gather-with-the-griffon-sturgeon-bay-2/
LOCATION:MUSE Sturgeon Bay\, 330 Jefferson St.\, Sturgeon Bay\, WI\, 54235
CATEGORIES:B Double Sharp,Griffon String Quartet
ATTACH;FMTTYPE=image/png:https://www.midsummersmusic.com/wp-content/uploads/2024/10/gwtg-calendar-featured-image-scaled.png
END:VEVENT
END:VCALENDAR