BEGIN:VCALENDAR
VERSION:2.0
PRODID:-//Midsummer&#039;s Music and its affiliate, the Griffon String Quartet - ECPv6.15.20//NONSGML v1.0//EN
CALSCALE:GREGORIAN
METHOD:PUBLISH
X-ORIGINAL-URL:https://www.midsummersmusic.com
X-WR-CALDESC:Events for Midsummer&#039;s Music and its affiliate, the Griffon String Quartet
REFRESH-INTERVAL;VALUE=DURATION:PT1H
X-Robots-Tag:noindex
X-PUBLISHED-TTL:PT1H
BEGIN:VTIMEZONE
TZID:America/Chicago
BEGIN:DAYLIGHT
TZOFFSETFROM:-0600
TZOFFSETTO:-0500
TZNAME:CDT
DTSTART:20230312T080000
END:DAYLIGHT
BEGIN:STANDARD
TZOFFSETFROM:-0500
TZOFFSETTO:-0600
TZNAME:CST
DTSTART:20231105T070000
END:STANDARD
BEGIN:DAYLIGHT
TZOFFSETFROM:-0600
TZOFFSETTO:-0500
TZNAME:CDT
DTSTART:20240310T080000
END:DAYLIGHT
BEGIN:STANDARD
TZOFFSETFROM:-0500
TZOFFSETTO:-0600
TZNAME:CST
DTSTART:20241103T070000
END:STANDARD
BEGIN:DAYLIGHT
TZOFFSETFROM:-0600
TZOFFSETTO:-0500
TZNAME:CDT
DTSTART:20250309T080000
END:DAYLIGHT
BEGIN:STANDARD
TZOFFSETFROM:-0500
TZOFFSETTO:-0600
TZNAME:CST
DTSTART:20251102T070000
END:STANDARD
END:VTIMEZONE
BEGIN:VEVENT
DTSTART;TZID=America/Chicago:20241210T130000
DTEND;TZID=America/Chicago:20241210T140000
DTSTAMP:20260424T152349
CREATED:20241009T150242Z
LAST-MODIFIED:20251229T192902Z
UID:12397-1733835600-1733839200@www.midsummersmusic.com
SUMMARY:Gather with the Griffon • Sister Bay
DESCRIPTION:“Gather with the Griffon” miniconcerts are designed for midday audiences. B Double Sharp programs engage the mind and spirit through music and conversation. \nProgram: Selections from the Griffon’s December concerts. \nRoy Meyer and Alex Norris\, Violins\nOryann Tsaig\, Viola\nJesse Nummelin\, Cello\nThis is not a ticketed event. \nPrograms are funded in part by grants from the Little Eddie Big Cup\, Greater Green Bay Community Foundation\, Wisconsin Arts Board\, Wisconsin Public Service\, and Destination Door County.
URL:https://www.midsummersmusic.com/event/gather-with-the-griffon-sister-bay/
LOCATION:St. Luke’s Episcopal Church\, 2336 Canterbury Ln\, Sister Bay\, WI\, 54234
CATEGORIES:B Double Sharp,Griffon String Quartet
ATTACH;FMTTYPE=image/png:https://www.midsummersmusic.com/wp-content/uploads/2024/09/gwtg-calendar-featured-image-scaled.png
END:VEVENT
BEGIN:VEVENT
DTSTART;TZID=America/Chicago:20241218T100000
DTEND;TZID=America/Chicago:20241218T120000
DTSTAMP:20260424T152349
CREATED:20241122T154708Z
LAST-MODIFIED:20251229T193329Z
UID:12631-1734516000-1734523200@www.midsummersmusic.com
SUMMARY:SPARK! • Björklunden\, Baileys Harbor
DESCRIPTION:SPARK! is a cultural program for people with early to mid-stage memory loss and their care partners. Programs are designed to keep participants actively engaged in their communities. SPARK! is free of cost. \nSpace is limited. Please register at least two days before the program by emailing switczak@co.door.wi.us or call Sierra Witczak at (920) 746-7154. \n10-10:30 – Welcome and snacks\n10:30-11 – Activity\, explanation of the program\n11-11:30 – Griffon performance featuring holiday selections and one standard repertoire piece\n11:30-12 – Q and A with a wrap-up carol\, if extra time
URL:https://www.midsummersmusic.com/event/spark-bjorklunden-baileys-harbor/
LOCATION:Björklunden – Vail Hall\, 7590 Boynton Ln\, Baileys Harbor\, WI\, 54202
CATEGORIES:B Double Sharp,Griffon String Quartet
ATTACH;FMTTYPE=image/png:https://www.midsummersmusic.com/wp-content/uploads/2024/10/b-double-sharp-calendar-featured-image-scaled.png
END:VEVENT
BEGIN:VEVENT
DTSTART;TZID=America/Chicago:20241219T120000
DTEND;TZID=America/Chicago:20241219T130000
DTSTAMP:20260424T152349
CREATED:20240917T123212Z
LAST-MODIFIED:20251229T192902Z
UID:12297-1734609600-1734613200@www.midsummersmusic.com
SUMMARY:Gather with the Griffon • Green Bay
DESCRIPTION:“Gather with the Griffon” miniconcerts are designed for midday audiences. B Double Sharp programs engage the mind and spirit through music and conversation. \nProgram: Selections from the Griffon’s December concerts. \nRoy Meyer and Alex Norris\, Violins\nOryann Tsaig\, Viola\nJesse Nummelin\, Cello\nThis is not a ticketed event. \nPrograms are funded in part by grants from the Little Eddie Big Cup\, Greater Green Bay Community Foundation\, Wisconsin Arts Board\, Wisconsin Public Service\, and Destination Door County.
URL:https://www.midsummersmusic.com/event/gather-with-the-griffon-green-bay-4/
LOCATION:First Presbyterian Church of Green Bay\, 200 S Ashland Ave.\, Green Bay\, WI\, 54303\, United States
CATEGORIES:B Double Sharp,Griffon String Quartet
ATTACH;FMTTYPE=image/png:https://www.midsummersmusic.com/wp-content/uploads/2024/09/gwtg-calendar-featured-image-scaled.png
END:VEVENT
END:VCALENDAR