BEGIN:VCALENDAR
VERSION:2.0
PRODID:-//Midsummer&#039;s Music and its affiliate, the Griffon String Quartet - ECPv6.15.20//NONSGML v1.0//EN
CALSCALE:GREGORIAN
METHOD:PUBLISH
X-ORIGINAL-URL:https://www.midsummersmusic.com
X-WR-CALDESC:Events for Midsummer&#039;s Music and its affiliate, the Griffon String Quartet
REFRESH-INTERVAL;VALUE=DURATION:PT1H
X-Robots-Tag:noindex
X-PUBLISHED-TTL:PT1H
BEGIN:VTIMEZONE
TZID:America/Chicago
BEGIN:DAYLIGHT
TZOFFSETFROM:-0600
TZOFFSETTO:-0500
TZNAME:CDT
DTSTART:20230312T080000
END:DAYLIGHT
BEGIN:STANDARD
TZOFFSETFROM:-0500
TZOFFSETTO:-0600
TZNAME:CST
DTSTART:20231105T070000
END:STANDARD
BEGIN:DAYLIGHT
TZOFFSETFROM:-0600
TZOFFSETTO:-0500
TZNAME:CDT
DTSTART:20240310T080000
END:DAYLIGHT
BEGIN:STANDARD
TZOFFSETFROM:-0500
TZOFFSETTO:-0600
TZNAME:CST
DTSTART:20241103T070000
END:STANDARD
BEGIN:DAYLIGHT
TZOFFSETFROM:-0600
TZOFFSETTO:-0500
TZNAME:CDT
DTSTART:20250309T080000
END:DAYLIGHT
BEGIN:STANDARD
TZOFFSETFROM:-0500
TZOFFSETTO:-0600
TZNAME:CST
DTSTART:20251102T070000
END:STANDARD
END:VTIMEZONE
BEGIN:VEVENT
DTSTART;TZID=America/Chicago:20240307T120000
DTEND;TZID=America/Chicago:20240307T130000
DTSTAMP:20260425T055746
CREATED:20231019T161531Z
LAST-MODIFIED:20251229T192928Z
UID:10894-1709812800-1709816400@www.midsummersmusic.com
SUMMARY:Gather with the Griffon • Green Bay
DESCRIPTION:“Gather with the Griffon” miniconcerts are designed for midday audiences. B Double Sharp programs engage the mind and spirit through music and conversation. \nProgram TBD \nRoy Meyer and Alex Norris\, Violins\nTBD\, Viola\nJesse Nummelin\, Cello\nThis is not a ticketed event. \nPrograms are funded in part by grants from Bader Philanthropies\, the Door County Community Foundation\, the National Endowment for the Arts\, and the Wisconsin Arts Board. Programs in Green Bay are funded in part by grants from the Green Bay Packers Foundation and the Greater Green Bay Community Foundation.
URL:https://www.midsummersmusic.com/event/gather-griffon-green-bay-8/
LOCATION:First Presbyterian Church of Green Bay\, 200 S Ashland Ave.\, Green Bay\, WI\, 54303\, United States
CATEGORIES:B Double Sharp,Griffon String Quartet
ATTACH;FMTTYPE=image/png:https://www.midsummersmusic.com/wp-content/uploads/2023/10/gwtg-calendar-featured-image.png
END:VEVENT
BEGIN:VEVENT
DTSTART;TZID=America/Chicago:20240313T130000
DTEND;TZID=America/Chicago:20240313T134500
DTSTAMP:20260425T055746
CREATED:20240109T175529Z
LAST-MODIFIED:20251229T194309Z
UID:11204-1710334800-1710337500@www.midsummersmusic.com
SUMMARY:Griffon Outreach • ADRC Sturgeon Bay
DESCRIPTION:The Griffon String Quartet performs for clients at the Aging & Disability Resource Center in Sturgeon Bay. \n\n\n\n\nPrograms are funded in part by grants from Bader Philanthropies\, the Door County Community Foundation\, the National Endowment for the Arts\, and the Wisconsin Arts Board. Programs in Green Bay are funded in part by grants from the Green Bay Packers Foundation and the Greater Green Bay Community Foundation.
URL:https://www.midsummersmusic.com/event/griffon-outreach-adrc-sturgeon/
LOCATION:Aging and Disability Resource Center\, 916 N 14th Ave.\, Sturgeon Bay\, WI\, 54235\, United States
CATEGORIES:B Double Sharp,Griffon String Quartet
END:VEVENT
END:VCALENDAR