BEGIN:VCALENDAR
VERSION:2.0
PRODID:-//Midsummer&#039;s Music and its affiliate, the Griffon String Quartet - ECPv6.15.20//NONSGML v1.0//EN
CALSCALE:GREGORIAN
METHOD:PUBLISH
X-WR-CALNAME:Midsummer&#039;s Music and its affiliate, the Griffon String Quartet
X-ORIGINAL-URL:https://www.midsummersmusic.com
X-WR-CALDESC:Events for Midsummer&#039;s Music and its affiliate, the Griffon String Quartet
REFRESH-INTERVAL;VALUE=DURATION:PT1H
X-Robots-Tag:noindex
X-PUBLISHED-TTL:PT1H
BEGIN:VTIMEZONE
TZID:America/Chicago
BEGIN:DAYLIGHT
TZOFFSETFROM:-0600
TZOFFSETTO:-0500
TZNAME:CDT
DTSTART:20220313T080000
END:DAYLIGHT
BEGIN:STANDARD
TZOFFSETFROM:-0500
TZOFFSETTO:-0600
TZNAME:CST
DTSTART:20221106T070000
END:STANDARD
BEGIN:DAYLIGHT
TZOFFSETFROM:-0600
TZOFFSETTO:-0500
TZNAME:CDT
DTSTART:20230312T080000
END:DAYLIGHT
BEGIN:STANDARD
TZOFFSETFROM:-0500
TZOFFSETTO:-0600
TZNAME:CST
DTSTART:20231105T070000
END:STANDARD
BEGIN:DAYLIGHT
TZOFFSETFROM:-0600
TZOFFSETTO:-0500
TZNAME:CDT
DTSTART:20240310T080000
END:DAYLIGHT
BEGIN:STANDARD
TZOFFSETFROM:-0500
TZOFFSETTO:-0600
TZNAME:CST
DTSTART:20241103T070000
END:STANDARD
END:VTIMEZONE
BEGIN:VEVENT
DTSTART;TZID=America/Chicago:20231116T120000
DTEND;TZID=America/Chicago:20231116T130000
DTSTAMP:20260425T123953
CREATED:20230918T104845Z
LAST-MODIFIED:20251229T192929Z
UID:10777-1700136000-1700139600@www.midsummersmusic.com
SUMMARY:Gather with the Griffon • Green Bay
DESCRIPTION:“Gather with the Griffon” miniconcerts are designed for midday audiences. B Double Sharp programs engage the mind and spirit through music and conversation. \nToday’s program features Ansel Norris on trumpet. Norris has gathered acclaim throughout the world as a soloist and orchestral musician of diverse taste and enthusiasm. His sound has been heard on NPR’s Performance Today\, From the Top\, and on Medici.tv\, as the first-ever American prizewinner in the International Tchaikovsky Competition’s Brass division. He was also twice named first prize in the National Trumpet Competition USA. \nRoy Meyer and Alex Norris\, Violins\nJesse Nummelin\, Cello \nThis is not a ticketed event. \n\n\nPrograms are funded in part by grants from Bader Philanthropies\, the Door County Community Foundation\, the National Endowment for the Arts\, and the Wisconsin Arts Board. Programs in Green Bay are funded in part by grants from the Green Bay Packers Foundation and the Greater Green Bay Community Foundation.
URL:https://www.midsummersmusic.com/event/gather-griffon-green-bay-4/
LOCATION:First Presbyterian Church of Green Bay\, 200 S Ashland Ave.\, Green Bay\, WI\, 54303\, United States
CATEGORIES:B Double Sharp,Griffon String Quartet
ATTACH;FMTTYPE=image/png:https://www.midsummersmusic.com/wp-content/uploads/2023/10/gwtg-calendar-featured-image.png
END:VEVENT
BEGIN:VEVENT
DTSTART;TZID=America/Chicago:20231117T133000
DTEND;TZID=America/Chicago:20231117T143000
DTSTAMP:20260425T123953
CREATED:20231019T162748Z
LAST-MODIFIED:20251229T194512Z
UID:10905-1700227800-1700231400@www.midsummersmusic.com
SUMMARY:Griffon Outreach • Sturgeon Bay
DESCRIPTION:The Griffon String Quartet presents a B Double Sharp program at the Door County Medical Center Nursing Home. \nThis is not open to the public. \nPrograms are funded in part by grants from Bader Philanthropies\, the Door County Community Foundation\, the National Endowment for the Arts\, and the Wisconsin Arts Board. Programs in Green Bay are funded in part by grants from the Green Bay Packers Foundation and the Greater Green Bay Community Foundation.
URL:https://www.midsummersmusic.com/event/griffon-outreach-sturgeon-5/
LOCATION:Door County Medical Center
CATEGORIES:B Double Sharp,Community-Embedded,Griffon String Quartet
END:VEVENT
END:VCALENDAR